Workbook

Sheet Antibiotic
B1: InfuLife®, Antibiotic Fill Volume Guide
B2: Planned Rate | C2: 50 | D2: 100 | E2: 200 | F2: 100 | G2: 175 | H2: 250 | I2: 100 | J2: 200
B3: Volume to be Infused | C3: 100 | D3: 100 | E3: 100 | F3: 250 | G3: 250 | H3: 250 | I3: 400 | J3: 400
B4: Expected Duration (hrs) | C4: =C3/C2 -> 2 | D4: =D3/D2 -> 1 | E4: =E3/E2 -> 0.5 | F4: =F3/F2 -> 2.5 | G4: =G3/G2 -> 1.4285714 | H4: =H3/H2 -> 1 | I4: =I3/I2 -> 4 | J4: =J3/J2 -> 2
B5: Time (hrs) needed to reach room temperature after refrigeration | C5: =Note!$J4 -> 2h:30 min | D5: =Note!$J4 -> 2h:30 min | E5: =Note!$J4 -> 2h:30 min | F5: =Note!$J6 -> 3h:30 min | G5: =Note!$J6 -> 3h:30 min | H5: =Note!$J6 -> 3h:30 min | I5: =Note!$J9 -> 4 hrs | J5: =Note!$J9 -> 4 hrs
B6: Model | C6: C100R0500 | D6: C100R1000 | E6: C100R2000 | F6: C250R1000 | G6: C250R1750 | H6: C250R2500 | I6: C400R1000 | J6: C400R2000
B7: Volume and Rate | C7: 100ml x 50ml/hr | D7: 100ml x 100ml/hr | E7: 100ml x 200ml/hr | F7: 250ml x 100ml/hr | G7: 250ml x 175ml/hr | H7: 250ml x 250ml/hr | I7: 400ml x 100ml/hr | J7: 400ml x 200ml/hr
A8: hrs | B8: Approx. Delivery Time | C8: Fill Volume (ml) = Volume to be infused + 5 ml. Expected residual: 5 ml
A9: =15/60 -> 0.25 | B9: 00:15 h | E9: =E$2*$A9+5 -> 55
A10: =30/60 -> 0.5 | B10: 00:30 h | E10: =E$2*$A10+5 -> 105
A11: =37/60 -> 0.61666667 | B11: 00:37 h | E11: =E$2*$A11+5 -> 128.33333
A12: =45/60 -> 0.75 | B12: 00:45 h | D12: =D$2*$A12+5 -> 80 | H12: =H$2*$A12+5 -> 192.5
A13: 1 | B13: 01:00 h | D13: =D$2*$A13+5 -> 105 | H13: =H$2*$A13+5 -> 255
A14: =75/60 -> 1.25 | B14: 01:15 h | D14: =D$2*$A14+5 -> 130 | H14: =H$2*$A14+5 -> 317.5
A15: =80/60 -> 1.3333333 | B15: 01:20 h | C15: =C$2*$A15+5 -> 71.666667 | G15: =G$2*$A15+5 -> 238.33333
A16: =90/60 -> 1.5 | B16: 01:30 h | C16: =C$2*$A16+5 -> 80 | G16: =G$2*$A16+5 -> 267.5
A17: =95/60 -> 1.5833333 | B17: 01:35 h | C17: =C$2*$A17+5 -> 84.166667 | G17: =G$2*$A17+5 -> 282.08333
A18: =100/60 -> 1.6666667 | B18: 01:40 h | C18: =C$2*$A18+5 -> 88.333333 | G18: =G$2*$A18+5 -> 296.66667
A19: =105/60 -> 1.75 | B19: 01:45 h | C19: =C$2*$A19+5 -> 92.5 | J19: =J$2*$A19+5 -> 355
A20: 2 | B20: 02:00 h | C20: =C$2*$A20+5 -> 105 | F20: =F$2*$A20+5 -> 205 | J20: =J$2*$A20+5 -> 405
A21: =135/60 -> 2.25 | B21: 02:15 h | C21: =C$2*$A21+5 -> 117.5 | F21: =F$2*$A21+5 -> 230 | J21: =J$2*$A21+5 -> 455
A22: =150/60 -> 2.5 | B22: 02:30 h | F22: =F$2*$A22+5 -> 255
A23: =155/60 -> 2.5833333 | B23: 02:35 h | F23: =F$2*$A23+5 -> 263.33333
A24: =160/60 -> 2.6666667 | B24: 02:40 h | F24: =F$2*$A24+5 -> 271.66667
A25: 3 | B25: 03:00 h | I25: =I$2*$A25+5 -> 305
A26: 4 | B26: 04:00 h | I26: =I$2*$A26+5 -> 405
A27: =285/60 -> 4.75 | B27: 04:45 h | I27: =I$2*$A27+5 -> 480
B28: PMP-1103 Rev D | C28: Caution | D28: Duration may vary up to +/-9% from the target. The further the fill volume is from the nominal fill volume, the lower the accuracy.
D29: Fill volumes are validated only for the model and delivery time shown. Do not interpolate between entries or apply them to other models.

Sheet Chemo
B1: InfuLife®, Chemotherapy Fill Volume Guide
B2: Planned Rate | D2: 0.5 | E2: 1 | F2: 1.5 | G2: 2 | H2: 2 | I2: 4 | J2: 5 | K2: 1 | L2: 2 | M2: 4 | N2: 5 | O2: 10 | P2: 2 | Q2: 4 | R2: 5 | S2: 10
B3: Volume to be Infused | D3: 100 | E3: 100 | F3: 100 | G3: 100 | H3: 120 | I3: 120 | J3: 125 | K3: 270 | L3: 270 | M3: 270 | N3: 270 | O3: 270 | P3: 300 | Q3: 400 | R3: 400 | S3: 400
B4: Expected Duration (hrs) | D4: 200 | E4: 100 | F4: 66.7 | G4: 50 | H4: 60 | I4: 30 | J4: 25 | K4: 270 | L4: 135 | M4: 67.5 | N4: 54 | O4: 27 | P4: 150 | Q4: 100 | R4: 80 | S4: 40
B5: Time (hrs) needed to reach room temperature after refrigeration | D5: =Note!$J4 -> 2h:30 min | E5: =Note!$J4 -> 2h:30 min | F5: =Note!$J4 -> 2h:30 min | G5: =Note!$J4 -> 2h:30 min | H5: =Note!$J5 -> 2h:40 min | I5: =Note!$J5 -> 2h:40 min | J5: =Note!$J5 -> 2h:40 min | K5: =Note!$J7 -> 3h:30 min | L5: =Note!$J7 -> 3h:30 min | M5: =Note!$J7 -> 3h:30 min | N5: =Note!$J7 -> 3h:30 min | O5: =Note!$J7 -> 3h:30 min | P5: =Note!$J8 -> 3h:40 min | Q5: =Note!$J9 -> 4 hrs | R5: =Note!$J9 -> 4 hrs | S5: =Note!$J9 -> 4 hrs
B6: Model | D6: C100R0005 | E6: C100R0010 | F6: C100R0015 | G6: C100R0020 | H6: C120R0020 | I6: C120R0040 | J6: C125R0050 | K6: C270R0010 | L6: C270R0020 | M6: C270R0040 | N6: C270R0050 | O6: C270R0100 | P6: C300R0020 | Q6: C400R0040 | R6: C400R0050 | S6: C400R00100
A8: hrs | B8: Approx. Delivery Time | D8: Fill Volume (ml) = Volume to be infused + 5 ml. Expected residual: 5 ml
A9: 12 | B9: 12 hrs
A10: 18 | B10: 18 hrs | J10: =J$2*$A10+5 -> 95
A11: 22 | B11: 22 hrs | I11: =I$2*$A11+5 -> 93 | J11: =J$2*$A11+5 -> 115 | O11: =O$2*$A11+5 -> 225
A12: 24 | B12: 24 hrs | C12: 1 day | I12: =I$2*$A12+5 -> 101 | J12: =J$2*$A12+5 -> 125 | O12: =O$2*$A12+5 -> 245
A13: 30 | B13: 30 hrs | I13: =I$2*$A13+5 -> 125 | J13: =J$2*$A13+5 -> 155 | O13: =O$2*$A13+5 -> 305
A14: 38 | B14: 38 hrs | G14: =G$2*$A14+5 -> 81 | I14: =I$2*$A14+5 -> 157 | S14: =S$2*$A14+5 -> 385
A15: 44 | B15: 44 hrs | G15: =G$2*$A15+5 -> 93 | S15: =S$2*$A15+5 -> 445
A16: 46 | B16: 46 hrs | G16: =G$2*$A16+5 -> 97 | N16: =N$2*$A16+5 -> 235
A17: 48 | B17: 48 hrs | C17: 2 days | F17: =F$2*$A17+5 -> 77 | G17: =G$2*$A17+5 -> 101 | H17: =H$2*$A17+5 -> 101 | N17: =N$2*$A17+5 -> 245
A18: 60 | B18: 60 hrs | F18: =F$2*$A18+5 -> 95 | G18: =G$2*$A18+5 -> 125 | H18: =H$2*$A18+5 -> 125 | M18: =M$2*$A18+5 -> 245 | N18: =N$2*$A18+5 -> 305
A19: 72 | B19: 72 hrs | C19: 3 days | E19: =E$2*$A19+5 -> 77 | F19: =F$2*$A19+5 -> 113 | H19: =H$2*$A19+5 -> 149 | M19: =M$2*$A19+5 -> 293 | R19: =R$2*$A19+5 -> 365
A20: 96 | B20: 96 hrs | C20: 4 days | E20: =E$2*$A20+5 -> 101 | L20: =L$2*$A20+5 -> 197 | Q20: =Q$2*$A20+5 -> 389 | R20: =R$2*$A20+5 -> 485
A21: =5*24 -> 120 | B21: 120 hrs | C21: 5 days | E21: =E$2*$A21+5 -> 125 | L21: =L$2*$A21+5 -> 245 | Q21: =Q$2*$A21+5 -> 485
A22: =A21+12 -> 132 | B22: 132 hrs | C22: 5.5 days | L22: =L$2*$A22+5 -> 269 | P22: =P$2*$A22+5 -> 269
A23: =6*24 -> 144 | B23: 144 hrs | C23: 6 days | L23: =L$2*$A23+5 -> 293 | P23: =P$2*$A23+5 -> 293
A24: =A23+24 -> 168 | B24: 168 hrs | C24: 7 days | D24: =D$2*$A24+5 -> 89 | P24: =P$2*$A24+5 -> 341
A25: =A24+24 -> 192 | B25: 192 hrs | C25: 8 days | D25: =D$2*$A25+5 -> 101
A26: =A25+24 -> 216 | B26: 216 hrs | C26: 9 days | D26: =D$2*$A26+5 -> 113
A27: =A26+24 -> 240 | B27: 240 hrs | C27: 10 days | D27: =D$2*$A27+5 -> 125 | K27: =K$2*$A27+5 -> 245
A28: =A27+24 -> 264 | B28: 264 hrs | C28: 11 days | K28: =K$2*$A28+5 -> 269
A29: =A28+24 -> 288 | B29: 288 hrs | C29: 12 days | K29: =K$2*$A29+5 -> 293
A30: =A29+24 -> 312 | B30: 312 hrs | C30: 13 days
B31: PMP-1103 Rev D | C31: Caution | D31: Duration may vary up to +/-12% from the target. The further the fill volume is from the nominal fill volume, the lower the accuracy.
D32: Fill volumes are validated only for the model and delivery time shown. Do not interpolate between entries or apply them to other models.

Sheet Note
A2: Time to heat up calculation
A3: Volume | B3: Coef if 100 ml base | D3: Volume | F3: Coef if 270 ml base | G3: Time needed (hrs)
A4: 100 | B4: 1 | D4: 100 mL | E4: 2.5 | F4: =(A4/A$7)^(1/3) -> 0.7181449 | G4: =3*F4 -> 2.1544347 | H4: =60*(G4-2) -> 9.2660814 | I4: 2h:10 min | J4: 2h:30 min
A5: 125 | B5: =(A5/A$4)^(1/3) -> 1.0772173 | D5: 125 mL | E5: =B5*2.5 -> 2.6930434 | F5: =(A5/A$7)^(1/3) -> 0.77359814 | G5: =3*F5 -> 2.3207944 | H5: =60*(G5-2) -> 19.247665 | I5: 2h:20 min | J5: 2h:40 min | K5: =60*0.7 -> 42
A6: 250 | B6: =(A6/A$4)^(1/3) -> 1.3572088 | D6: 250 mL | E6: =B6*2.5 -> 3.393022 | F6: =(A6/A$7)^(1/3) -> 0.97467258 | G6: =3*F6 -> 2.9240177 | H6: =60*(G6-2) -> 55.441064 | I6: 3 hrs | J6: 3h:30 min | K6: =(E6-3)*60 -> 23.581321
A7: 270 | B7: =(A7/A$4)^(1/3) -> 1.3924767 | D7: 270 mL | E7: =B7*2.5 -> 3.4811916 | F7: =(A7/A$7)^(1/3) -> 1 | G7: =3*F7 -> 3 | H7: =60*(G7-3) -> 0 | I7: 3 hrs | J7: 3h:30 min | K7: =(E7-3)*60 -> 28.871498
A8: 300 | B8: =(A8/A$4)^(1/3) -> 1.4422496 | D8: 300 mL | E8: =B8*2.5 -> 3.6056239 | F8: =(A8/A$7)^(1/3) -> 1.0357442 | G8: =3*F8 -> 3.1072325 | H8: =60*(G8-3) -> 6.4339504 | I8: 3h:10 min | J8: 3h:40 min | K8: =(E8-3)*60 -> 36.337436
A9: 400 | B9: =(A9/A$4)^(1/3) -> 1.5874011 | D9: 400 mL | E9: =B9*2.5 -> 3.9685026 | F9: =(A9/A$7)^(1/3) -> 1.139984 | G9: =3*F9 -> 3.4199519 | H9: =60*(G9-3) -> 25.197114 | I9: 3h: 30 min | J9: 4 hrs | K9: =(E9-3)*60 -> 58.110158
