Workbook
Name dee: Feuil5!$H$1:$H$4
Name dee: Feuil4!$H$1:$H$4
Name liste15: [1]Feuil4!$B$23:$B$24
Name liste15: Feuil5!$B$23:$B$24
Name liste15: Feuil4!$B$23:$B$24
Name liste16: [1]Feuil4!$C$23:$C$24
Name liste16: Feuil5!$C$23:$C$24
Name liste16: Feuil4!$C$23:$C$24
Name liste17: [1]Feuil4!$D$23:$D$24
Name liste17: Feuil5!$D$23:$D$24
Name liste17: Feuil4!$D$23:$D$24
Name liste18: [1]Feuil4!$E$23:$E$24
Name liste18: Feuil5!$E$23:$E$24
Name liste18: Feuil4!$E$23:$E$24
Name liste19: [1]Feuil4!$F$23:$F$24
Name liste19: Feuil5!$F$23:$F$24
Name liste19: Feuil4!$F$23:$F$24
Name liste20: Feuil4!$G$23:$G$24
Name MA: Feuil5!$C$2:$C$3
Name MA: Feuil4!$C$2:$C$3
Name ML: [1]Feuil4!$C$2:$C$4
Name ML: Feuil5!$C$2:$C$4
Name ML: Feuil4!$C$2:$C$4
Name Mois: Feuil5!$B$2:$B$3
Name Mois: Feuil4!$B$2:$B$3
Name Mois1: Feuil5!$B$2:$B$4
Name Mois1: Feuil4!$B$2:$B$4
Name Mois2: [1]Feuil4!$B$2:$B$5
Name Mois2: Feuil5!$B$2:$B$5
Name Mois2: Feuil4!$B$2:$B$5
Name PA: [1]Feuil4!$D$9:$D$12
Name PA: Feuil5!$D$9:$D$12
Name PA: Feuil4!$D$9:$D$12
Name PT: Feuil5!$D$9:$D$11
Name PT: Feuil4!$D$9:$D$11
Name RA: [1]Feuil4!$E$2:$E$4
Name RA: Feuil5!$E$2:$E$4
Name RA: Feuil4!$E$2:$E$4
Name Sexe: [1]Feuil4!$A$2:$A$3
Name Sexe: Feuil5!$A$2:$A$3
Name Sexe: Feuil4!$A$2:$A$3
Name ty: [1]Feuil4!$H$1:$H$8
Name ty: Feuil5!$H$1:$H$8
Name ty: Feuil4!$H$1:$H$8

Sheet 18-70ans
B1: OUTIL DIAGNOSTIC DE LA DENUTRITION 18-70 ANS AVEC CALCUL DEPENSES ENERGETIQUES
B2: Nom du patient : | C2: Date : | D2: =TODAY() -> 45925
B3: XX | C3: Nom diététicien :
B4: Veuillez renseigner les cases bleues par des valeurs ou à l’aide du curseur.
B5: Données patient
B6: Poids actuel | AE6: =IF(ISTEXT(E25),1,0) -> 0
B7: Taille(m) | AE7: =IF(ISTEXT(E26),1,0) -> 0
B8: IMC | C8: =C6/ (C7 * C7) -> #DIV/0! | AE8: =IF(ISTEXT(E27),1,0) -> 0
B9: Age
B10: Sexe
B11: Poids habituel
B12: Durée perte de poids
B13: % perte de poids | C13: =(C11-C6)/C11 -> #DIV/0! | D13: Si valeur négative = prise de poids
B14: Poids idéal | C14: =22.5*(C7*C7) -> 0 | AE14: sev | AF14: mod
B15: Poids corrigé | C15: =C14+(0.25*(C6-C14)) -> 0 | AE15: =IF(C8<17,1,0) -> #DIV/0! | AF15: =IF(17<C8,IF(C8<18.5,1,0),0) -> #DIV/0!
B16: Force de préhension en kg | AE16: =SUM(AE15:AE15) -> #DIV/0!
B17: Vitesse de marche en m/s
B18: Indice de surface musculaire cm2/m2
B19: Indice de masse musculaire en kg/m2
B20: Indice de masse non grasse en kg/m2
B21: Masse musculaire appendiculaire en kg/m2
B23: Diagnostic de dénutrition
B24: Phénotypiques | C24: =SUM(C25:C27) -> #DIV/0! | D24: Etiologiques | E24: =SUM(AE6:AE8) -> 0
B25: Critère IMC | C25: =IF(C8<18.5,1,0) -> #DIV/0! | D25: Absorption réduite
B26: Critère perte de poids | C26: =IF(AND(C13>=5%,C12="1 mois"),1,IF(AND(C13>=10%,C12="6 mois"),1,IF(AND(C13>=10%,C12="depuis maladie"),1,0))) -> #DIV/0! | D26: Situation d'agression
B27: Réduction quantifiée de la masse et fonction musculaire | C27: =IF(C16=Feuil4!B23,1,IF(C17=Feuil4!C23,1,IF(C18=Feuil4!D23,1,IF(C19=Feuil4!E23,1,IF(C20=Feuil4!F23,1,IF(C21=Feuil4!G23,1,0)))))) -> 0 | D27: Réduction de la prise alimentaire
B29: Dénutrition | C29: =IF(C24<1,"NON",IF(E24<1,"NON","OUI")) -> #DIV/0!
B30: Degrés (sans albuminémie) | C30: =IF(C29="NON","NE",IF(AE16>=1,"Dénutrition Sévère","Dénutrition Modérée")) -> #DIV/0!
B31: Albuminémie
B32: Degrés (avec albuminémie) | C32: =IF(C29="NON","NE",IF(C30="Dénutrition Sévère","Dénutrition Sévère",IF(C31<=30,"Dénutrition Sévère","Dénutrition Modérée"))) -> #DIV/0!
B33: *NE : Non évaluable
B35: =IF(C8>30,"IMC>30 besoins corrigés avec prise en compte du poids ajusté","") -> #DIV/0!
B36: Dépense énergétique de repos | C36: =IF(AND(C8<30,C10="F"),Feuil4!E28,IF(AND(C8>30,C10="F"),Feuil4!F28,IF(AND(C8<30,C10="M"),Feuil4!E29,IF(AND(C8>30,C10="M"),Feuil4!F29)))) -> #DIV/0!
B37: Facteur d'agression
C38: =IF(B38="","",VLOOKUP(B38,Feuil4!$B$27:$C$32,2,0)) | D38: =IFERROR(C38*C36,0) -> 0
B40: NAP | D40: =IF(C40="Alité",1.1,IF(C40="hospitalisé non alité",1.2,IF(C40="activité modérée, ambulatoire",1.5,IF(C40="sous sédation",0.9,""))))
B41: Dépense énergétique totale | C41: =IF(D38>0,D38*D40,C36*D40) -> #DIV/0!
B43: Proposition de codages
B44: Dénutrition | C44: =C32 -> #DIV/0! | D44: =IF(C44="Dénutrition Sévère","E43",IF(C44="Dénutrition Modérée","E44",IF(C44="NE","NE"))) -> #DIV/0!

Sheet Feuil4
A1: Sexe | B1: Mois | C1: absorbtion | D1: Situation | E1: RA | H1: Alité
A2: M | B2: 1 mois | C2: Malabsorption | E2: >=50% pendant plus d'1 semaine | H2: hospitalisé non alité
A3: F | B3: 6 mois | C3: Maldigestion | E3: Réduction des apports pendant plus de 2 semaine | H3: activité modérée, ambulatoire
B4: depuis maladie | H4: sous sédation
D9: Pathologie aiguë
D10: Pathologie chronique évolutive
D11: Pathologie maligne évolutive
B22: Force de préhension en kg | C22: Vitesse de marche en m/s | D22: Indice de surface musculaire cm2/m2 | E22: Indice de masse musculaire en kg/m2 | F22: Indice de masse non grasse en kg/m2 | G22: Masse musculaire appendiculaire en kg/m2
B23: H<26 F<16 | C23: H<0,8 F<0,8 | D23: H<52,4 F<38,5 | E23: H<7 F<5,7 | F23: H<17 F<15 | G23: H<7,23 F<5,67
B24: H>=26 F>=16 | C24: H>=0,8 F>=0,8 | D24: H>=52,4 F>=38,5 | E24: H>=7 F>=5,7 | F24: H>=17 F>=15 | G24: H>=7,23 F>=5,67
B27: DER x facteur d'agression fièvre | C27: 1.1 | E27: Poids Normal | F27: Poids ajusté
B28: DER x facteur d'agression radiochimiothérapie, dénutrition | C28: 1.25 | D28: Femme | E28: =IF('18-70ans'!C10="F",(667.051+(9.74*'18-70ans'!C6)+(172.9*'18-70ans'!C7)-(4.757*'18-70ans'!C9)),"") | F28: =IF('18-70ans'!C10="F",(667.051+(9.74*'18-70ans'!C15)+(172.9*'18-70ans'!C7)-(4.737*'18-70ans'!C9)),"")
B29: DER x facteur d'agression chirurgie mineure, fractures | C29: 1.3 | D29: Homme | E29: =IF('18-70ans'!C10="M",(77.607+(13.707*'18-70ans'!C6)+(492.9*'18-70ans'!C7)-(6.673*'18-70ans'!C9)),"") | F29: =IF('18-70ans'!C10="M",(77.607+(13.707*'18-70ans'!C15)+(492.3*'18-70ans'!C7)-(6.673*'18-70ans'!C9)),"")
B30: DER x facteur d'agression polytraumatisé | C30: 1.5
B31: DER x facteur d'agression infection | C31: 1.6
B32: DER x facteur d'agression brulures étendues | C32: 2

Sheet +70ANS
B1: OUTIL DIAGNOSTIC DE LA DENUTRITION > 70 ANS AVEC CALCUL DEPENSES ENERGETIQUES | D1: <
B2: Nom du patient : | C2: Date : | D2: =TODAY() -> 45925
B3: XX | C3: Nom diététicien :
B4: Veuillez renseigner les cases bleues par des valeurs ou à l’aide du curseur.
B5: Données patient
B6: Poids actuel | AE6: =IF(ISTEXT(E24),1,0) -> 0
B7: Taille(m) | AE7: =IF(ISTEXT(E25),1,0) -> 0
B8: IMC | C8: =C6/ (C7 * C7) -> #DIV/0! | AE8: =IF(ISTEXT(E26),1,0) -> 0 | AI8: =IF(C10="M",IF(C16<27,1,IF(C17>15,1,0)),IF(C16<16,1,IF(C17>15,1,0))) -> 1
B9: Age | AI9: =IF(C10="M",IF(C18<7,1,IF(C19<20,1,IF(C20<31,1,0))),IF(C18<5.5,1,IF(C19<15,1,IF(C20<31,1,0)))) -> 1
B10: Sexe
B11: Poids habituel
B12: Durée perte de poids
B13: % perte de poids | C13: =(C11-C6)/C11 -> #DIV/0! | D13: Si valeur négative = prise de poids
B14: Poids idéal | C14: =22.5*(C7*C7) -> 0 | AE14: sev | AF14: mod
B15: Poids corrigé | C15: =C14+(0.25*(C6-C14)) -> 0 | AE15: =IF(C8<20,1,0) -> #DIV/0! | AF15: =IF(C8<22,1,0) -> #DIV/0!
B16: Force de préhension en kg | AE16: =SUM(AE15:AE15) -> #DIV/0! | AF16: =IF(C26=1,1,0) -> 0
B17: 5 levés de chaise en secondes
B18: Index de masse musculaire appendiculaire en kg/m2
B19: Masse musculaire appendiculaire en kg
B20: Tour de mollet
B22: Diagnostic de dénutrition
B23: Phénotypiques | C23: =SUM(C24:C26) -> #DIV/0! | D23: Etiologiques | E23: =SUM(AE6:AE8) -> 0
B24: Critère IMC | C24: =IF(C8<22,1,0) -> #DIV/0! | D24: Absorption réduite
B25: Critère perte de poids | C25: =IF(AND(C13>=5%,C12="1 mois"),1,IF(AND(C13>=10%,C12="6 mois"),1,IF(AND(C13>=10%,C12="depuis maladie"),1,0))) -> #DIV/0! | D25: Situation d'agression
B26: Réduction quantifiée de la masse et fonction musculaire | C26: =IF(C16=Feuil5!B16,1,IF(C17=Feuil5!C16,1,IF(C18=Feuil5!D16,1,IF(C19=Feuil5!E16,1,IF(C20=Feuil5!F16,1,0))))) -> 0 | D26: Réduction de la prise alimentaire
B28: Dénutrition | C28: =IF(C23<1,"NON",IF(E23<1,"NON","OUI")) -> #DIV/0!
B29: Degrés (sans albuminémie) | C29: =IF(C28="NON","NE",IF(AE16>=1,"Dénutrition Sévère","Dénutrition Modérée")) -> #DIV/0!
B30: Albuminémie
B31: Degrés (avec albuminémie) | C31: =IF(C28="NON","NE",IF(C29="Dénutrition Sévère","Dénutrition Sévère",IF(C30<=30,"Dénutrition Sévère","Dénutrition Modérée"))) -> #DIV/0!
B32: *NE : Non évaluable
B34: =IF(C8>30,"IMC>30 besoins corrigés avec prise en compte du poids ajusté","") -> #DIV/0!
B35: Dépense énergétique de repos | C35: =IF(AND(C8<30,C10="F"),Feuil5!E28,IF(AND(C8>30,C10="F"),Feuil5!F28,IF(AND(C8<30,C10="M"),Feuil5!E29,IF(AND(C8>30,C10="M"),Feuil5!F29)))) -> #DIV/0!
B36: Facteur d'agression
C37: =IF(B37="","",VLOOKUP(B37,Feuil4!$B$27:$C$32,2,0)) | D37: =IFERROR(C37*C35,0) -> 0
B39: NAP | D39: =IF(C39="Alité",1.1,IF(C39="hospitalisé non alité",1.2,IF(C39="activité modérée, ambulatoire",1.5,IF(C39="sous sédation",0.9,""))))
B40: Dépense énergétique totale | C40: =IF(D37>0,D37*D39,C35*D39) -> #DIV/0!
B42: Proposition de codages
B43: Dénutrition | C43: =C31 -> #DIV/0! | D43: =IF(C43="Dénutrition Sévère","E43",IF(C43="Dénutrition Modérée","E44",IF(C43="NE","NE"))) -> #DIV/0!

Sheet Diagnostic de la dénutrition

Sheet Arbre décisionnel SFNCM

Sheet Surveillance

Sheet Feuil5
A1: Sexe | B1: Mois | C1: absorbtion | D1: Situation | E1: RA
C2: Malabsorption
C3: Maldigestion
B5: 1 mois | E5: >=50% pendant plus d'1 semaine
A6: M | B6: 6 mois | E6: Réduction des apports pendant plus de 2 semaine | H6: Alité
A7: F | B7: depuis maladie | H7: hospitalisé non alité
H8: activité modérée, ambulatoire
E9: Pathologie aiguë | H9: sous sédation
E10: Pathologie chronique évolutive
E11: Pathologie maligne évolutive
B15: Force de préhension en kg | C15: 5 levés de chaise en secondes | D15: Index de masse musculaire appendiculaire en kg/m2 | E15: Masse musculaire appendiculaire en kg | F15: Tour de mollet
B16: H<27 F<16 | C16: H<15 F<15 | D16: H<7 F<5,5 | E16: H<20 F<15 | F16: H<31 F<31
B17: H>=27 F>=16 | C17: H>=15 F>=15 | D17: H>=7 F>=5,5 | E17: H>=20 F>=15 | F17: H>=31 F>=31
B27: DER x facteur d'agression fièvre | C27: 1.1 | E27: Poids Normal | F27: Poids ajusté
B28: DER x facteur d'agression radiochimiothérapie, dénutrition | C28: 1.25 | D28: Femme | E28: =IF('+70ANS'!C10="F",(667.051+(9.74*'+70ANS'!C6)+(172.9*'+70ANS'!C7)-(4.757*'+70ANS'!C9)),"") | F28: =IF('+70ANS'!C10="F",(667.051+(9.74*'+70ANS'!C15)+(172.9*'+70ANS'!C7)-(4.737*'+70ANS'!C9)),"")
B29: DER x facteur d'agression chirurgie mineure, fractures | C29: 1.3 | D29: Homme | E29: =IF('+70ANS'!C10="M",(77.607+(13.707*'+70ANS'!C6)+(492.9*'+70ANS'!C7)-(6.673*'+70ANS'!C9)),"") | F29: =IF('+70ANS'!C10="M",(77.607+(13.707*'+70ANS'!C15)+(492.3*'+70ANS'!C7)-(6.673*'+70ANS'!C9)),"")
B30: DER x facteur d'agression polytraumatisé | C30: 1.5
B31: DER x facteur d'agression infection | C31: 1.6
B32: DER x facteur d'agression brulures étendues | C32: 2
