Workbook

Sheet Budget
A1: 2026 - 2027
A2: Mary of Nazareth Home & School Association Budget
A4: INCOME: | C4: 2021-2022 Budget | D4: 2021-2022 Actual | E4: 2023-2024 Budget | F4: 2023-2024 Actual | G4: 2024-2025 Budget | H4: 2024-2025 Actual | I4: 2025-2026 Budget | J4: 2025-2026 Actual | K4: 2026 -2027 Budget (PROPOSED) | L4: Purpose
A5: Class Activity Fee (CAF) | C5: 8500 | D5: 8780 | E5: 8500 | F5: 10600 | G5: 10000 | H5: 8400 | I5: 9000 | J5: 9200 | K5: 9000 | L5: CAF fees for classroom related activitives. Managed by the room parents
A6: Cultural Arts - Field Trips | C6: 26000 | D6: 0 | E6: 25000 | F6: 36963.91 | G6: 30000 | H6: 30625.39 | I6: 31000 | J6: 30195.5 | K6: 30000 | L6: Classroom field trips which is paid by the parents. This should be a net zero balance with Cultural Arts Expense - Field Trips
A7: Family Activities | C7: 11000 | D7: 0 | E7: =SUM(E8:E14) -> 15300 | F7: =SUM(F8:F14) -> 19135 | G7: =SUM(G8:G14) -> 22800 | H7: =SUM(H8:H14) -> 25383.64 | I7: =SUM(I8:I14) -> 26500 | J7: =SUM(J8:J14) -> 26107 | K7: =SUM(K8:K14) -> 26150
B8: Back To School Picnic | C8: 2800 | D8: 0 | E8: 4200 | F8: 4140 | G8: 4400 | H8: 5125 | I8: 5500 | J8: =GETPIVOTDATA("[Measures].[Sum of Total sales]",'[1]PIVOT 10.6.25'!$A$3,"[Range].[Line Item]","[Range].[Line Item].&[PICN]") -> 5675 | K8: 5800 | L8: Event held after the return of the school year.
B9: Breakfast with Santa | C9: - | D9: 0 | E9: 3200 | F9: 0 | G9: 3500 | H9: 4270 | I9: 4500 | J9: 4275 | K9: 4300 | L9: Income/Fees collected for the Christmas event
B10: Fall Social | C10: - | D10: 535 | E10: 0 | F10: 0 | G10: 0 | H10: 325 | I10: 0 | J10: 0
B11: Father Daughter Dance | C11: - | D11: 980 | E11: 3300 | F11: 3885 | G11: 3500 | H11: 3920 | I11: 4000 | J11: 4060 | K11: 4000 | L11: Income from the sale of the event set by the chair of the event
B12: Mother Son Event | E12: 2500 | F12: 7875 | G12: 8000 | H12: 7415.64 | I12: 8000 | J12: 7720 | K12: 7800 | L12: New event in 2023. Event was held at the bowling alley
B13: International Night | C13: - | D13: 0 | E13: 1300 | F13: 1980 | G13: 1900 | H13: 3140 | I13: 3000 | J13: 2625 | K13: 2750 | L13: Income from the sale of the event set by the chair of the event
B14: Spring K-5 Dance | C14: - | D14: 2033.18 | E14: 800 | F14: 1255 | G14: 1500 | H14: 1188 | I14: 1500 | J14: 1752 | K14: 1500 | L14: Income from the sale of the event set by the chair of the event
A15: Golf Event | C15: - | D15: 12775 | E15: 12000 | F15: 14955 | G15: 16000 | H15: 17910 | I15: 18000 | J15: 20760 | K15: 20000 | L15: Golf event held to raise funds for the sports committee. This is considered sports committee income
A16: Food Fundraisers | C16: 1000 | D16: 1743.5 | E16: 500 | F16: 340.48 | G16: 500 | H16: 22.4 | I16: 300 | J16: 0 | K16: 0 | L16: Harris teeter / box tops program
A17: HSA Dues | C17: 7000 | D17: 7114.05 | E17: 7000 | F17: 7225 | G17: 7200 | H17: 5700 | I17: 6500 | J17: 7075 | K17: 6800 | L17: HSA fee of $25 per family for the school year.
A18: Other | C18: 2000 | D18: 0 | E18: 0
B19: Lego League | C19: - | D19: 0 | E19: 0 | F19: 0 | G19: 0 | H19: 0 | I19: 0 | J19: 0 | K19: 0
B20: Chess Club | C20: - | D20: 0 | E20: 0 | F20: 0 | G20: 0 | H20: 0 | I20: 0 | J20: 0 | K20: 0
A21: Race for Scholars Fundraiser | C21: 15000 | D21: 24110 | E21: 20000 | F21: 24605 | G21: 25000 | H21: 27700 | I21: 28500 | J21: 37415 | K21: 30000 | L21: Fund raising event held in the fall (October). Income is primarily driven the sale of shirts and sponsorships
A22: Restaurant Night | C22: 2000 | D22: 4008.12 | E22: 3000 | F22: 4318.84 | G22: 4000 | H22: 4303.06 | I22: 4500 | J22: 4339.13 | K22: 4000 | L22: Partnership with restaurants for dinner nights throughout the school year with a portion of the proceeds are donated to the school, No expenses associated with the category
A23: Secret Santa Shop | C23: 1700 | D23: 782 | E23: 1000 | F23: 1670.26 | G23: 1200 | H23: 1327.28 | I23: 1300 | J23: 0 | K23: 0 | L23: Proceeds from the sale of christmas items at the christmas event in december.
A24: Scrip Sales | C24: 1500 | D24: 0 | E24: 0
A25: Spirit Shop | C25: 9000 | D25: 12361.86 | E25: 10000 | F25: 13258 | G25: 13000 | H25: 12747.41 | I25: 13000 | J25: 14012 | K25: 13000 | L25: Items purchased online through the spirit shop
A26: Sports | C26: 60000 | D26: 49877 | E26: 50000 | F26: 77266.52 | G26: 70000 | H26: 88420.25 | I26: 90000 | J26: 88384 | K26: 90000 | L26: Registration fees for sport sessions (i.e soccer, basketball, track etc.)
A27: Used Uniform Sales | C27: 5000 | D27: 13803 | E27: 9000 | F27: 7311 | G27: 7000 | H27: 6493.5 | I27: 7000 | J27: 9464 | K27: 8500 | L27: Sale of used uniforms held at events throughout the school year. There is 5% fee for the tagged items that were sold to the families that donated.
A28: Carry over from previous year | C28: - | D28: 0 | E28: 0
B29: TOTAL: | C29: 152500 | D29: =SUM(D5:D28) -> 138902.71 | E29: =SUM(E5:E28)-E7 -> 161300 | F29: =F5+F6+F7+F15+F16+F17+F21+F22+F23+F25+F26+F27 -> 217649.01 | G29: =G5+G6+G7+G15+G16+G17+G21+G22+G23+G25+G26+G27 -> 206700 | H29: =H5+H6+H7+H15+H16+H17+H21+H22+H23+H25+H26+H27 -> 229032.93 | I29: =I5+I6+I7+I15+I16+I17+I21+I22+I23+I25+I26+I27 -> 235600 | J29: =J5+J6+J7+J15+J16+J17+J21+J22+J23+J25+J26+J27 -> 246951.63 | K29: =K5+K6+K7+K15+K16+K17+K21+K22+K23+K25+K26+K27 -> 237450
A31: EXPENSES: | C31: 2021-2022 Budget | D31: 2021-2022 Actual | E31: 2023-2024 Budget | F31: 2023-2024 Actual | G31: 2024-2025 Budget | H31: 2024-2025 Actual | I31: 2025-2026 Budget | J31: 2025-2026 Actual | K31: 2026 -2027 Budget (PROPOSED) | L31: Purpose
A32: Bank Charge | C32: -100 | D32: 0 | E32: -100 | F32: 0 | G32: -100 | H32: 0 | I32: 0 | J32: -34.3 | K32: 0 | L32: Bank fees
A33: Class Activity Fee (CAF) | C33: -8500 | D33: -4894.69 | E33: -8500 | F33: -11017.27 | G33: -10000 | H33: -5549.46 | I33: -7000 | J33: -6237.19 | K33: -7000 | L33: Expenses for classroom events and parties
A34: Communications | C34: -100 | D34: 0 | E34: -100 | G34: -100 | H34: 0 | I34: 0 | J34: 0 | K34: 0
A35: Computer/Donation to School | C35: -5000 | D35: -5000 | E35: -5000 | G35: -5000 | H35: -10000 | I35: -5000 | J35: -5000 | K35: -5000 | L35: HSA donation to school
A36: Cultural Arts - Field Trips | C36: -26000 | D36: 0 | E36: -25000 | F36: -37416.24 | G36: -30000 | H36: -31512.91 | I36: -32000 | J36: -28226.54 | K36: =-K6 -> -30000 | L36: Classroom field trips which is paid by the parents. This should be a net zero balance with Cultural Arts Income - Field Trips. The expenses include entrance fees and transportation
A37: Family Activities | C37: -10050 | D37: =SUM(D38:D44) -> -3463.53 | E37: =SUM(E38:E44) -> -12000 | F37: =SUM(F38:F44) -> -18376.47 | G37: =SUM(G38:G44) -> -17700 | H37: =SUM(H38:H44) -> -20318.39 | I37: =SUM(I38:I44) -> -21300 | J37: =SUM(J38:J44) -> -20383.233 | K37: =SUM(K38:K44) -> -22900
B38: Back to School Picnic | C38: -2000 | D38: 0 | E38: -2200 | F38: -2210.8 | G38: -2200 | H38: -2126.95 | I38: -2300 | J38: -2381.62 | K38: -2700 | L38: Expenses related to the event may include food trucks, inflatables, dj and other supplies
B39: Breakfast with St. Nick | C39: -500 | D39: -547.47 | E39: -2500 | F39: -2120.71 | G39: -3500 | H39: -3472.16 | I39: -3200 | J39: -3751.18 | K39: -4500 | L39: Expense include inflatables, food, decorations, supplies other
B40: Fall Social | C40: 0 | D40: -680.08 | E40: -500 | H40: -12.85 | I40: -300 | J40: -94.94 | K40: -300
B41: Father Daughter Dance | C41: 0 | D41: -1260.6 | E41: -3000 | F41: -4137.15 | G41: -3000 | H41: -4720.75 | I41: -5250 | J41: -5356.63 | K41: -5500 | L41: Expenses include DJ, decorations, food and other supplies
B42: Mother Son Event | E42: -2500 | F42: -8504.5 | G42: -7500 | H42: -7768.15 | I42: -8000 | J42: -6857.88 | K42: -7500 | L42: Expense related to paying the venue, tip and and other souvenior
...

Sheet Teacher Appreciation
A2: Staff Lunches
B5: Total Budget | C5: =Budget!K81 -> -6500
B7: K | C7: 300
B8: 1 | C8: 300
B9: 2 | C9: 300
B10: 3 | C10: 300
B11: 4 | C11: 400
B12: 5 | C12: 300
B13: 6 | C13: 300
B14: 7 | C14: 300
B15: 8 | C15: 300
C16: =SUM(C7:C15) -> 2800
B18: Remainder | C18: =C5+C16 -> -3700 | D18: For 3 lunches
B20: Birthdays | C20: $25 Gift cards

Sheet Bud to Act - 9.15.25
A1: 2025 - 2026
A2: Mary of Nazareth Home & School Association Budget
L3: Based off of Prior year results plus any known increases for expenses
A4: INCOME: | C4: 2021-2022 Budget | D4: 2021-2022 Actual | E4: 2023-2024 Budget | F4: 2023-2024 Actual | G4: 2024-2025 Budget | H4: 2024-2025 Actual | I4: 2025-2026 Budget PROPOSED | J4: Purpose | L4: Actual as of 9/15/2025 | M4: Count | N4: Variance | Q4: HSA and CAF Underruns
A5: Class Activity Fee (CAF) | C5: 8500 | D5: 8780 | E5: 8500 | F5: 10600 | G5: 10000 | H5: 8400 | I5: 9000 | J5: CAF fees for classroom related activitives. Managed by the room parents | L5: =GETPIVOTDATA("Total sales",PIVOT!$A$3,"Line Item","CAF") -> 4160 | M5: =GETPIVOTDATA("Sum of Net items sold",PIVOT!$A$3,"Line Item","CAF") -> 208 | N5: =L5-I5 -> -4840 | Q5: =N5+N17 -> -8340
A6: Cultural Arts - Field Trips | C6: 26000 | D6: 0 | E6: 25000 | F6: 36963.91 | G6: 30000 | H6: 30625.39 | I6: 31000 | J6: Classroom field trips which is paid by the parents. This should be a net zero balance with Cultural Arts Expense - Field Trips
A7: Family Activities | C7: 11000 | D7: 0 | E7: =SUM(E8:E14) -> 15300 | F7: =SUM(F8:F14) -> 19135 | G7: =SUM(G8:G14) -> 22800 | H7: =SUM(H8:H14) -> 25383.64 | I7: =SUM(I8:I14) -> 26500
B8: Back To School Picnic | C8: 2800 | D8: 0 | E8: 4200 | F8: 4140 | G8: 4400 | H8: 5125 | I8: 5500 | J8: Event held after the return of the school year. | L8: =GETPIVOTDATA("Total sales",PIVOT!$A$3,"Line Item","PICN") -> 5675 | M8: =GETPIVOTDATA("Sum of Net items sold",PIVOT!$A$3,"Line Item","PICN") -> 227 | N8: =L8-I8 -> 175
B9: Breakfast with St. Nick | C9: - | D9: 0 | E9: 3200 | F9: 0 | G9: 3500 | H9: 4270 | I9: 4500 | J9: Income/Fees collected for the Christmas event
B10: Fall Social | C10: - | D10: 535 | E10: 0 | F10: 0 | G10: 0 | H10: 325 | I10: 0
B11: Father Daughter Dance | C11: - | D11: 980 | E11: 3300 | F11: 3885 | G11: 3500 | H11: 3920 | I11: 4000 | J11: Income from the sale of the event set by the chair of the event
B12: Mother Son Event | E12: 2500 | F12: 7875 | G12: 8000 | H12: 7415.64 | I12: 8000 | J12: New event in 2023. Event was held at the bowling alley
B13: International Night | C13: - | D13: 0 | E13: 1300 | F13: 1980 | G13: 1900 | H13: 3140 | I13: 3000 | J13: Income from the sale of the event set by the chair of the event
B14: Spring K-5 Dance | C14: - | D14: 2033.18 | E14: 800 | F14: 1255 | G14: 1500 | H14: 1188 | I14: 1500 | J14: Income from the sale of the event set by the chair of the event
A15: Golf Event | C15: - | D15: 12775 | E15: 12000 | F15: 14955 | G15: 16000 | H15: 17910 | I15: 18000 | J15: Golf event held to raise funds for the sports committee. This is considered sports committee income | L15: =GETPIVOTDATA("Total sales",PIVOT!$A$3,"Line Item","Golf") -> 4625 | M15: =GETPIVOTDATA("Sum of Net items sold",PIVOT!$A$3,"Line Item","Golf") -> 10 | N15: =L15-I15 -> -13375 | O15: 5 foursomes/1 individual/1 dinner sponser/1 Bagpiper sponser/2 BBQ and wine
A16: Food Fundraisers | C16: 1000 | D16: 1743.5 | E16: 500 | F16: 340.48 | G16: 500 | H16: 22.4 | I16: 300 | J16: Harris teeter / box tops program
A17: HSA Dues | C17: 7000 | D17: 7114.05 | E17: 7000 | F17: 7225 | G17: 7200 | H17: 5700 | I17: 6500 | J17: HSA fee of $25 per family for the school year. | L17: =GETPIVOTDATA("Total sales",PIVOT!$A$3,"Line Item","HSA Dues") -> 3000 | M17: =GETPIVOTDATA("Sum of Net items sold",PIVOT!$A$3,"Line Item","HSA Dues") -> 120 | N17: =L17-I17 -> -3500
A18: Other | C18: 2000 | D18: 0 | E18: 0
B19: Lego League | C19: - | D19: 0 | E19: 0 | F19: 0 | G19: 0 | H19: 0 | I19: 0
B20: Chess Club | C20: - | D20: 0 | E20: 0 | F20: 0 | G20: 0 | H20: 0 | I20: 0
A21: Race for Scholars Fundraiser | C21: 15000 | D21: 24110 | E21: 20000 | F21: 24605 | G21: 25000 | H21: 27700 | I21: 28500 | J21: Fund raising event held in the fall (October). Income is primarily driven the sale of shirts and sponsorships | L21: =GETPIVOTDATA("Total sales",PIVOT!$A$3,"Line Item","RACE") -> 3475 | M21: =GETPIVOTDATA("Sum of Net items sold",PIVOT!$A$3,"Line Item","RACE") -> 5 | N21: =L21-I21 -> -25025 | O21: Sponsorhips due to me by 9/28
A22: Restaurant Night | C22: 2000 | D22: 4008.12 | E22: 3000 | F22: 4318.84 | G22: 4000 | H22: 4303.06 | I22: 4500 | J22: Partnership with restaurants for dinner nights throughout the school year with a portion of the proceeds are donated to the school, No expenses associated with the category | O22: Tee shirts Sales
A23: Secret Santa Shop | C23: 1700 | D23: 782 | E23: 1000 | F23: 1670.26 | G23: 1200 | H23: 1327.28 | I23: 1300 | J23: Proceeds from the sale of christmas items at the christmas event in december.
A24: Scrip Sales | C24: 1500 | D24: 0 | E24: 0
A25: Spirit Shop | C25: 9000 | D25: 12361.86 | E25: 10000 | F25: 13258 | G25: 13000 | H25: 12747.41 | I25: 13000 | J25: Items purchased online through the spirit shop | L25: =GETPIVOTDATA("Total sales",PIVOT!$A$3,"Line Item","Spirit") -> 4081 | M25: =GETPIVOTDATA("Sum of Net items sold",PIVOT!$A$3,"Line Item","Spirit") -> 151 | N25: =L25-I25 -> -8919
A26: Sports | C26: 60000 | D26: 49877 | E26: 50000 | F26: 77266.52 | G26: 70000 | H26: 88420.25 | I26: 90000 | J26: Registration fees for sport sessions (i.e soccer, basketball, track etc.)
A27: Used Uniform Sales | C27: 5000 | D27: 13803 | E27: 9000 | F27: 7311 | G27: 7000 | H27: 6493.5 | I27: 7000 | J27: Sale of used uniforms held at events throughout the school year. There is 5% fee for the tagged items that were sold to the families that donated. | L27: =GETPIVOTDATA("Total sales",PIVOT!$A$3,"Line Item","UNIFORM") -> 3242 | M27: =GETPIVOTDATA("Sum of Net items sold",PIVOT!$A$3,"Line Item","UNIFORM") -> 459 | N27: =L27-I27 -> -3758
A28: Carry over from previous year | C28: - | D28: 0 | E28: 0
B29: TOTAL: | C29: 152500 | D29: =SUM(D5:D28) -> 138902.71 | E29: =SUM(E5:E28)-E7 -> 161300 | F29: =F5+F6+F7+F15+F16+F17+F21+F22+F23+F25+F26+F27 -> 217649.01 | G29: =G5+G6+G7+G15+G16+G17+G21+G22+G23+G25+G26+G27 -> 206700 | H29: =H5+H6+H7+H15+H16+H17+H21+H22+H23+H25+H26+H27 -> 229032.93 | I29: =I5+I6+I7+I15+I16+I17+I21+I22+I23+I25+I26+I27 -> 235600 | L29: =SUM(L5:L27) -> 28258 | N29: =SUM(N5:N27) -> -59242
K30: Check | L30: =L29-GETPIVOTDATA("Total sales",PIVOT!$A$3) -> 0
A31: EXPENSES: | C31: 2021-2022 Budget | D31: 2021-2022 Actual | E31: 2023-2024 Budget | F31: 2023-2024 Actual | G31: 2024-2025 Budget | H31: 2024-2025 Actual | I31: 2025-2026 Budget PROPOSED | J31: Purpose
A32: Bank Charge | C32: -100 | D32: 0 | E32: -100 | F32: 0 | G32: -100 | H32: 0 | I32: 0 | J32: Bank fees
A33: Class Activity Fee (CAF) | C33: -8500 | D33: -4894.69 | E33: -8500 | F33: -11017.27 | G33: -10000 | H33: -5549.46 | I33: -7000 | J33: Expenses for classroom events and parties | L33: 0
A34: Communications | C34: -100 | D34: 0 | E34: -100 | G34: -100 | H34: 0 | I34: 0 | L34: 0
A35: Computer/Donation to School | C35: -5000 | D35: -5000 | E35: -5000 | G35: -5000 | H35: -10000 | I35: -5000 | J35: HSA donation to school | L35: 0
A36: Cultural Arts - Field Trips | C36: -26000 | D36: 0 | E36: -25000 | F36: -37416.24 | G36: -30000 | H36: -31512.91 | I36: -32000 | J36: Classroom field trips which is paid by the parents. This should be a net zero balance with Cultural Arts Income - Field Trips. The expenses include entrance fees and transportation | L36: 0
A37: Family Activities | C37: -10050 | D37: =SUM(D38:D44) -> -3463.53 | E37: =SUM(E38:E44) -> -12000 | F37: =SUM(F38:F44) -> -18376.47 | G37: =SUM(G38:G44) -> -17700 | H37: =SUM(H38:H44) -> -20318.39 | I37: =SUM(I38:I44) -> -21300
B38: Back to School Picnic | C38: -2000 | D38: 0 | E38: -2200 | F38: -2210.8 | G38: -2200 | H38: -2126.95 | I38: -2300 | J38: Expenses related to the event may include food trucks, inflatables, dj and other supplies | L38: =1056+975 -> 2031
B39: Breakfast with St. Nick | C39: -500 | D39: -547.47 | E39: -2500 | F39: -2120.71 | G39: -3500 | H39: -3472.16 | I39: -3200 | J39: Expense include inflatables, food, decorations, supplies other
B40: Fall Social | C40: 0 | D40: -680.08 | E40: -500 | H40: -12.85 | I40: -300
...

Sheet Shopify 9-15-25
A1: Line Item | B1: Product title | C1: Product variant title | D1: Product variant SKU | E1: Net items sold | F1: Gross sales | G1: Discounts | H1: Returns | I1: Net sales | J1: Taxes | K1: Total sales
A2: CAF | B2: 1st grade CAF - Class Activity Fee | C2: Default Title | E2: 26 | F2: 520 | G2: 0 | H2: 0 | I2: 520 | J2: 0 | K2: 520
A3: Golf | B3: 2025 An Evening on the Green: Wine Tasting and Dinner | C3: Default Title | E3: 2 | F3: 150 | G3: 0 | H3: 0 | I3: 150 | J3: 0 | K3: 150
A4: Golf | B4: 2025 Golf Outing: Bagpiper Sponsor | C4: Default Title | E4: 1 | F4: 300 | G4: 0 | H4: 0 | I4: 300 | J4: 0 | K4: 300
A5: Golf | B5: 2025 Golf Outing: Dinner Sponsor | C5: Default Title | E5: 1 | F5: 500 | G5: 0 | H5: 0 | I5: 500 | J5: 0 | K5: 500
A6: Golf | B6: 2025 Golf Outing: Foursome Registration | C6: Default Title | E6: 5 | F6: 3500 | G6: 0 | H6: 0 | I6: 3500 | J6: 0 | K6: 3500
A7: Golf | B7: 2025 Golf Outing: Individual Registration | C7: Default Title | E7: 1 | F7: 175 | G7: 0 | H7: 0 | I7: 175 | J7: 0 | K7: 175
A8: CAF | B8: 2nd grade CAF - Class Activity Fee | C8: Default Title | E8: 22 | F8: 440 | G8: 0 | H8: 0 | I8: 440 | J8: 0 | K8: 440
A9: CAF | B9: 3rd grade CAF - Class Activity Fee | C9: Default Title | E9: 26 | F9: 520 | G9: 0 | H9: 0 | I9: 520 | J9: 0 | K9: 520
A10: CAF | B10: 4th grade CAF - Class Activity Fee | C10: Default Title | E10: 25 | F10: 500 | G10: 0 | H10: 0 | I10: 500 | J10: 0 | K10: 500
A11: CAF | B11: 5th grade CAF - Class Activity Fee | C11: Default Title | E11: 25 | F11: 500 | G11: 0 | H11: 0 | I11: 500 | J11: 0 | K11: 500
A12: CAF | B12: 6th grade CAF - Class Activity Fee | C12: Default Title | E12: 18 | F12: 360 | G12: 0 | H12: 0 | I12: 360 | J12: 0 | K12: 360
A13: CAF | B13: 7th grade CAF - Class Activity Fee | C13: Default Title | E13: 22 | F13: 440 | G13: 0 | H13: 0 | I13: 440 | J13: 0 | K13: 440
... A74: UNIFORM | B74: Used Uniform: PE T-shirt with logo | C74: Default Title | E74: 52 | F74: 260 | G74: 0 | H74: 0 | I74: 260 | J74: 0 | K74: 260

Sheet PIVOT
A3: Row Labels | B3: Sum of Total sales | C3: Sum of Net items sold
A4: CAF | B4: 4160 | C4: 208
A5: Golf | B5: 4625 | C5: 10
A6: HSA Dues | B6: 3000 | C6: 120
A7: PICN | B7: 5675 | C7: 227
A8: RACE | B8: 3475 | C8: 5
A9: Spirit | B9: 4081 | C9: 151
A10: UNIFORM | B10: 3242 | C10: 459
A11: Grand Total | B11: 28258 | C11: 1180
