Workbook

Sheet Blad1
C1: INSCHRIJFFORMULIER | I1: Nr: niet invullen
C2: 33e MIDDEN DRENTHE SHOW
C3: 22 t/m 24 oktober 2026
C4: www.kvmd.nl
A6: Na invullen en ondertekening opsturen aan: Annechien Pol: Brugstraat 11, 7852 TH Wezup. Of TTsecretarisKMD@gmail.com
A7: Het bedrag overmaken op bankrekening IBAN: NL75RABO0306515601 t.n.v. penn.m KMD
A8: Sluiting inschrijving donderdag 1 oktober 2026. Bij meer dan 20 dieren dit formulier kopiëren
B9: Inschrijvingen á € 4,50 | D9: =A9*4.5 -> 0 | E9: Naam inzender
B10: Inschrijvingen á € 4,50 (= groep/4tal) | D10: =A10*4.5 -> 0 | E10: Adres
B11: Inschrijvingen Trio's á € 6,00 | D11: =A11*6 -> 0 | E11: Postcode/Woonplaats
B12: Inschrijvingen Tomen á € 8,00 | D12: =A12*8 -> 0 | E12: E-mailadres
A13: 1 | B13: Catalogus | D13: =A13*6 -> 6 | E13: Telefoonnummer
B14: Papierenversie nazenden € 2,50 | D14: =A14*2.5 -> 0 | F14: Adres is tevens verblijfplaats van hoenderachtigen
A15: 1 | B15: Administratiekosten | D15: =A15*5 -> 5 | E15: Zo nee, wat is de verblijfplaats?
B16: Doorloopkaart á € 7,50 | D16: =A16*7.5 -> 0
A17: =IF(D17,1,"") | B17: Beschikbaar te stellen ereprijs (wordt vermeld in de catalogus) | E17: Inzender lid van KVMD | H17: Ja / Nee
B18: Fokkersavond eind november á € 12,00 | D18: =A18*12 -> 0 | E18: Inzender jeugdlid | H18: Ja / Nee
A19: Totaal door u te betalen | D19: =SUM(D9:D18) -> 11 | E19: Nummer fokkerskaart | H19: K.L.N.:
H20: N.B.S.:
B21: Ik geef mij op als drager/schrijver | D21: Ja / Nee | E21: Ik geef mij op als helper afbouwen | H21: Ja / Nee
B22: Als u dit vakje aankruist (x) zullen we uw naam, adres en fokkerskaartnr. NIET VERMELDEN in de inzenderslijst
A24: Let op: O voor oud, J voor Jong en C voor konijnen geboren na 30 april 2026 die gekeurd worden in de C-klasse.
A25: Let op: Serama's keuze uit J voor jong, A voor Klasse A, B voor Klasse B of C voor Klasse C .
B26: Ras | C26: Groot/ Dwerg | D26: Kleur | E26: M/V | F26: Oud/Jong/ Klasse A, B of C | G26: EUR. Klasse | H26: Groep / 4-tal konijn | I26: Oormerk | K26: Collectie (6 dieren per collectie)
A27: 1
A28: 2
A29: 3
A30: 4
A31: 5
A32: 6
A33: 7
A34: 8
A35: 9
A36: 10
A37: 11
A38: 12
... A46: 20
A48: Datum: | D48: Akkoord:
E49: Als u dit vakje aankruist (x) dan verklaart u zich akkoord met de voor deze tentoonstelling geldende bepalingen en dat u alles naar waarheid heeft ingevuld.
E51: (voor algemene tentoonstellingsbepalingen zie Almanak 2026)
...

Sheet Blad4
I1: Nummer fokkerskaart
A2: Naam inzender | B2: Adres | C2: Postcode/Woonplaats | D2: E-mailadres | E2: Telefoonnummer | F2: Inzender lid van KVMD | G2: Inzender jeugdlid | H2: IBAN: | I2: K.L.N.: | J2: N.B.S.: | K2: Ik geef mij op als helper afbouwen | L2: Als u dit vakje aankruist (x) zullen we uw naam, adres en fokkerskaartnr. NIET VERMELDEN in de inzenderslijst | M2: Ik geef mij op als drager/schrijver | N2: Inschrijvingen á € 4,00 | O2: Inschrijvingen á € 3,00 (= groep) | P2: Inschrijvingen Trio's á € 6,00 | Q2: Inschrijvingen Tomen á € 8,00 | R2: Catalogus | S2: Verkoopkaarten (gratis) | T2: Doorloopkaart á € 6,00 | U2: Beschikbaar te stellen ereprijs (wordt vermeld in de catalogus) | V2: Fokkersavond eind november á € 12,00 | W2: Totaal door u te betalen
A3: =Blad1!H9 -> 0 | B3: =Blad1!H10 -> 0 | C3: =Blad1!H11 -> 0 | D3: =Blad1!H12 -> 0 | E3: =Blad1!H13 -> 0 | F3: =Blad1!H17 -> Ja / Nee | G3: =Blad1!H18 -> Ja / Nee | H3: =Blad1!#REF! -> #REF! | I3: =Blad1!I19 -> 0 | J3: =Blad1!I20 -> 0 | K3: =Blad1!H21 -> Ja / Nee | L3: =Blad1!A22 -> 0 | M3: =Blad1!D21 -> Ja / Nee | N3: =Blad1!A9 -> 0 | O3: =Blad1!A10 -> 0 | P3: =Blad1!A11 -> 0 | Q3: =Blad1!A12 -> 0 | R3: =Blad1!A13 -> 1 | S3: =Blad1!#REF! -> #REF! | T3: =Blad1!A16 -> 0 | U3: =Blad1!D17 -> 0 | V3: =Blad1!A18 -> 0 | W3: =Blad1!D19 -> 11
