Workbook

Sheet Data
B1: Name | C1: Last | D1: Full | E1: Email | F1: House | G1: Taxes | H1: Medical Insurance | I1: FICA | J1: Location | K1: Birthday | L1: Age in Months | M1: Age in Years | N1: Rounded Down
A2: 1 | B2: Kevin | C2: Kirley | D2: =CONCATENATE(B2," ",C2) -> Kevin Kirley | E2: kkirley@basilian.org | F2: Presentation Manor | G2: Curial Office | H2: CRASI | J2: In Canada | K2: 9707 | L2: =(YEAR($O$28)-YEAR(K2))*12+MONTH($O$28)-MONTH(K2) -> 1197 | M2: =L2/12 -> 99.75 | N2: =ROUNDDOWN(M2,0) -> 99 | O2: Basilian Age | Y2: =IF(OR(LEFT(J2,1)=" ",RIGHT(J2,1)=" "),TRUE,FALSE) -> FALSE
A3: 2 | B3: Thomas | C3: Dugan | D3: =CONCATENATE(B3," ",C3) -> Thomas Dugan | E3: tpdugan7@gmail.com | F3: Sisters of Saint Joseph | H3: ElderOne program-Medicare A&B | J3: In USA | K3: 10770 | L3: =(YEAR($O$28)-YEAR(K3))*12+MONTH($O$28)-MONTH(K3) -> 1162 | M3: =L3/12 -> 96.833333 | N3: =ROUNDDOWN(M3,0) -> 96 | O3: 90-99 | P3: =Q3/$Q$11 -> 0.12149533 | Q3: =COUNTIFS($M2:$M110,">=90", $M2:$M110,"<=99.99") -> 13 | S3: 85+ | T3: =COUNTIFS($M2:$M110,">=85", $M2:$M110,"<=99.99") -> 25 | Y3: =IF(OR(LEFT(J3,1)=" ",RIGHT(J3,1)=" "),TRUE,FALSE) -> FALSE
A4: 3 | B4: Wilfrid | C4: Janisse | D4: =CONCATENATE(B4," ",C4) -> Wilfrid Janisse | E4: janisse@basilian.org | F4: Presentation Manor | G4: Curial Office | H4: CRASI | J4: In Canada | K4: 10951 | L4: =(YEAR($O$28)-YEAR(K4))*12+MONTH($O$28)-MONTH(K4) -> 1156 | M4: =L4/12 -> 96.333333 | N4: =ROUNDDOWN(M4,0) -> 96 | O4: 80-89 | P4: =Q4/$Q$11 -> 0.26168224 | Q4: =COUNTIFS($M2:$M110,">=80", $M2:$M110,"<=89.99") -> 28 | S4: 75-84 | T4: =COUNTIFS($M2:$M110,">=75", $M2:$M110,"<=84.99") -> 27 | Y4: =IF(OR(LEFT(J4,1)=" ",RIGHT(J4,1)=" "),TRUE,FALSE) -> FALSE
A5: 4 | B5: Brian | C5: Inglis | D5: =CONCATENATE(B5," ",C5) -> Brian Inglis | E5: inglis@basilian.org | F5: Presentation Manor | G5: Curial Office | H5: CRASI | J5: In Canada | K5: 11894 | L5: =(YEAR($O$28)-YEAR(K5))*12+MONTH($O$28)-MONTH(K5) -> 1125 | M5: =L5/12 -> 93.75 | N5: =ROUNDDOWN(M5,0) -> 93 | O5: 70-79 | P5: =Q5/$Q$11 -> 0.22429907 | Q5: =COUNTIFS($M2:$M110,">=70", $M2:$M110,"<=79.99") -> 24 | S5: 65-74 | T5: =COUNTIFS($M2:$M110,">=65", $M2:$M110,"<=74.99") -> 23 | Y5: =IF(OR(LEFT(J5,1)=" ",RIGHT(J5,1)=" "),TRUE,FALSE) -> FALSE
A6: 5 | B6: Joseph | C6: Moffatt | D6: =CONCATENATE(B6," ",C6) -> Joseph Moffatt | E6: jmof515@gmail.com | F6: Independent | H6: Blue Cross | J6: In USA | K6: 12090 | L6: =(YEAR($O$28)-YEAR(K6))*12+MONTH($O$28)-MONTH(K6) -> 1118 | M6: =L6/12 -> 93.166667 | N6: =ROUNDDOWN(M6,0) -> 93 | O6: 60-69 | P6: =Q6/$Q$11 -> 0.14953271 | Q6: =COUNTIFS($M2:$M110,">=60", $M2:$M110,"<=69.99") -> 16 | S6: 55-64 | T6: =COUNTIFS($M2:$M110,">=55", $M2:$M110,"<=64.99") -> 8 | Y6: =IF(OR(LEFT(J6,1)=" ",RIGHT(J6,1)=" "),TRUE,FALSE) -> FALSE
A7: 6 | B7: John | C7: Gallagher | D7: =CONCATENATE(B7," ",C7) -> John Gallagher | E7: jgallagher1@basilian.org | F7: Presentation Manor | H7: CRASI | J7: In Canada | K7: 12421 | L7: =(YEAR($O$28)-YEAR(K7))*12+MONTH($O$28)-MONTH(K7) -> 1107 | M7: =L7/12 -> 92.25 | N7: =ROUNDDOWN(M7,0) -> 92 | O7: 50-59 | P7: =Q7/$Q$11 -> 0.056074766 | Q7: =COUNTIFS($M2:$M110,">=50", $M2:$M110,"<=59.99") -> 6 | S7: 45-54 | T7: =COUNTIFS($M2:$M110,">=45", $M2:$M110,"<=54.99") -> 9 | Y7: =IF(OR(LEFT(J7,1)=" ",RIGHT(J7,1)=" "),TRUE,FALSE) -> FALSE
A8: 7 | B8: Leo | C8: Burns | D8: =CONCATENATE(B8," ",C8) -> Leo Burns | F8: Presentation Manor | G8: Curial Office | J8: In Canada | K8: 12499 | L8: =(YEAR($O$28)-YEAR(K8))*12+MONTH($O$28)-MONTH(K8) -> 1105 | M8: =L8/12 -> 92.083333 | N8: =ROUNDDOWN(M8,0) -> 92 | O8: 40-49 | P8: =Q8/$Q$11 -> 0.093457944 | Q8: =COUNTIFS($M2:$M110,">=40", $M2:$M110,"<=49.99") -> 10 | S8: 35-44 | T8: =COUNTIFS($M2:$M110,">=35", $M2:$M110,"<=44.99") -> 12 | Y8: =IF(OR(LEFT(J8,1)=" ",RIGHT(J8,1)=" "),TRUE,FALSE) -> FALSE
A9: 8 | B9: Bernard | C9: Pinsonneault | D9: =CONCATENATE(B9," ",C9) -> Bernard Pinsonneault | E9: frbjcsb@protonmail.com | F9: Independent | H9: CRASI | J9: In Canada | K9: 12726 | L9: =(YEAR($O$28)-YEAR(K9))*12+MONTH($O$28)-MONTH(K9) -> 1097 | M9: =L9/12 -> 91.416667 | N9: =ROUNDDOWN(M9,0) -> 91 | O9: 30-39 | P9: =Q9/$Q$11 -> 0.093457944 | Q9: =COUNTIFS($M2:$M110,">=30", $M2:$M110,"<=39.99") -> 10 | S9: 35- | T9: =COUNTIFS($M2:$M110,">=0", $M2:$M110,"<=34.99") -> 3 | Y9: =IF(OR(LEFT(J9,1)=" ",RIGHT(J9,1)=" "),TRUE,FALSE) -> FALSE
A10: 9 | B10: Alexander Leo | C10: Reilly | D10: =CONCATENATE(B10," ",C10) -> Alexander Leo Reilly | E10: lereilly1@hotmail.com | F10: Presentation Manor | G10: Curial Office | H10: CRASI | J10: In Canada | K10: 12904 | L10: =(YEAR($O$28)-YEAR(K10))*12+MONTH($O$28)-MONTH(K10) -> 1092 | M10: =L10/12 -> 91 | N10: =ROUNDDOWN(M10,0) -> 91 | O10: 20-29 | P10: =Q10/$Q$11 -> 0 | Q10: =COUNTIFS($M2:$M110,">=20", $M2:$M110,"<=29.99") -> 0 | Y10: =IF(OR(LEFT(J10,1)=" ",RIGHT(J10,1)=" "),TRUE,FALSE) -> FALSE
A11: 10 | B11: Daniel | C11: Callam | D11: =CONCATENATE(B11," ",C11) -> Daniel Callam | E11: ddcallam@gmail.com | F11: Presentation Manor | H11: CRASI | J11: In Canada | K11: 12947 | L11: =(YEAR($O$28)-YEAR(K11))*12+MONTH($O$28)-MONTH(K11) -> 1090 | M11: =L11/12 -> 90.833333 | N11: =ROUNDDOWN(M11,0) -> 90 | P11: =SUM(P3:P10) -> 1 | Q11: =SUM(Q3:Q10) -> 107 | T11: =SUM(T3:T10) -> 107 | Y11: =IF(OR(LEFT(J11,1)=" ",RIGHT(J11,1)=" "),TRUE,FALSE) -> FALSE
A12: 11 | B12: Quentin | C12: Johnson | D12: =CONCATENATE(B12," ",C12) -> Quentin Johnson | E12: dominicrobertquentin@gmail.com | F12: Amica at Windsor | G12: Curial Office | J12: In Canada | K12: 13000 | L12: =(YEAR($O$28)-YEAR(K12))*12+MONTH($O$28)-MONTH(K12) -> 1088 | M12: =L12/12 -> 90.666667 | N12: =ROUNDDOWN(M12,0) -> 90 | Y12: =IF(OR(LEFT(J12,1)=" ",RIGHT(J12,1)=" "),TRUE,FALSE) -> FALSE
A13: 12 | B13: Carl | C13: Belisch | D13: =CONCATENATE(B13," ",C13) -> Carl Belisch | E13: cbelisch1@basilian.org | F13: Dillon House | H13: Christian Brothers - Medicare | J13: In USA | K13: 13142 | L13: =(YEAR($O$28)-YEAR(K13))*12+MONTH($O$28)-MONTH(K13) -> 1084 | M13: =L13/12 -> 90.333333 | N13: =ROUNDDOWN(M13,0) -> 90 | Y13: =IF(OR(LEFT(J13,1)=" ",RIGHT(J13,1)=" "),TRUE,FALSE) -> FALSE
A14: 13 | B14: Gordon | C14: Kennedy | D14: =CONCATENATE(B14," ",C14) -> Gordon Kennedy | E14: gkndy21@hotmail.com | F14: Presentation Manor | H14: CRASI | J14: In Canada | K14: 13261 | L14: =(YEAR($O$28)-YEAR(K14))*12+MONTH($O$28)-MONTH(K14) -> 1080 | M14: =L14/12 -> 90 | N14: =ROUNDDOWN(M14,0) -> 90 | O14: Over 65 | P14: =Q14/Q11 -> 0.70093458 | Q14: =COUNTIFS($M2:$M110,">=65", $M2:$M110,"<=99.99") -> 75 | Y14: =IF(OR(LEFT(J14,1)=" ",RIGHT(J14,1)=" "),TRUE,FALSE) -> FALSE
A15: 14 | B15: Robert | C15: Holmes | D15: =CONCATENATE(B15," ",C15) -> Robert Holmes | E15: rholmes@basilian.org | F15: Presentation Manor | G15: Curial Office | H15: CRASI | J15: In Canada | K15: 13337 | L15: =(YEAR($O$28)-YEAR(K15))*12+MONTH($O$28)-MONTH(K15) -> 1077 | M15: =L15/12 -> 89.75 | N15: =ROUNDDOWN(M15,0) -> 89 | O15: Under 65 | P15: =Q15/Q11 -> 0.29906542 | Q15: =COUNTIFS($M2:$M110,">=0", $M2:$M110,"<=64.99") -> 32 | Y15: =IF(OR(LEFT(J15,1)=" ",RIGHT(J15,1)=" "),TRUE,FALSE) -> FALSE
A16: 15 | B16: + Ricardo | C16: Ramírez | D16: =CONCATENATE(B16," ",C16) -> + Ricardo Ramírez | E16: rramirez@rcdlc.org | F16: Dillon House | H16: Diocese of Las Cruces | J16: In USA | K16: 13405 | L16: =(YEAR($O$28)-YEAR(K16))*12+MONTH($O$28)-MONTH(K16) -> 1075 | M16: =L16/12 -> 89.583333 | N16: =ROUNDDOWN(M16,0) -> 89 | P16: =SUM(P14:P15) -> 1 | Q16: =SUM(Q14:Q15) -> 107 | Y16: =IF(OR(LEFT(J16,1)=" ",RIGHT(J16,1)=" "),TRUE,FALSE) -> FALSE
A17: 16 | B17: James Leo | C17: Walsh | D17: =CONCATENATE(B17," ",C17) -> James Leo Walsh | E17: leowalsh@basilian.org | F17: Amica Riverside | G17: Curial Office | J17: In Canada | K17: 13616 | L17: =(YEAR($O$28)-YEAR(K17))*12+MONTH($O$28)-MONTH(K17) -> 1068 | M17: =L17/12 -> 89 | N17: =ROUNDDOWN(M17,0) -> 89 | Y17: =IF(OR(LEFT(J17,1)=" ",RIGHT(J17,1)=" "),TRUE,FALSE) -> FALSE
A18: 17 | B18: Joseph | C18: Johnson | D18: =CONCATENATE(B18," ",C18) -> Joseph Johnson | E18: tedjohnsoncsb@outlook.com | F18: Presentation Manor | G18: Curial Office | J18: In Canada | K18: 13799 | L18: =(YEAR($O$28)-YEAR(K18))*12+MONTH($O$28)-MONTH(K18) -> 1062 | M18: =L18/12 -> 88.5 | N18: =ROUNDDOWN(M18,0) -> 88 | Y18: =IF(OR(LEFT(J18,1)=" ",RIGHT(J18,1)=" "),TRUE,FALSE) -> FALSE
A19: 18 | B19: Michael | C19: Fallona | D19: =CONCATENATE(B19," ",C19) -> Michael Fallona | E19: fallona@basilian.org | F19: Presentation Manor | G19: Curial Office | H19: CRASI | J19: In Canada | K19: 14044 | L19: =(YEAR($O$28)-YEAR(K19))*12+MONTH($O$28)-MONTH(K19) -> 1054 | M19: =L19/12 -> 87.833333 | N19: =ROUNDDOWN(M19,0) -> 87 | Y19: =IF(OR(LEFT(J19,1)=" ",RIGHT(J19,1)=" "),TRUE,FALSE) -> FALSE
A20: 19 | B20: James | C20: Farge | D20: =CONCATENATE(B20," ",C20) -> James Farge | E20: james.farge@utoronto.ca | F20: University of St. Michael’s College | J20: In Canada | K20: 14114 | L20: =(YEAR($O$28)-YEAR(K20))*12+MONTH($O$28)-MONTH(K20) -> 1052 | M20: =L20/12 -> 87.666667 | N20: =ROUNDDOWN(M20,0) -> 87 | Y20: =IF(OR(LEFT(J20,1)=" ",RIGHT(J20,1)=" "),TRUE,FALSE) -> FALSE
A21: 20 | B21: Jamie | C21: Abercrombie | D21: =CONCATENATE(B21," ",C21) -> Jamie Abercrombie | F21: Silverado Hermann Park Memory Care | H21: Christian Brothers - Medicare | J21: In USA | K21: 14129 | L21: =(YEAR($O$28)-YEAR(K21))*12+MONTH($O$28)-MONTH(K21) -> 1051 | M21: =L21/12 -> 87.583333 | N21: =ROUNDDOWN(M21,0) -> 87 | Y21: =IF(OR(LEFT(J21,1)=" ",RIGHT(J21,1)=" "),TRUE,FALSE) -> FALSE
A22: 21 | B22: Donald | C22: Hyatt | D22: =CONCATENATE(B22," ",C22) -> Donald Hyatt | E22: aqspz@yahoo.com | F22: Heritage House | H22: Christian Brothers - Medicare | J22: In USA | K22: 14326 | L22: =(YEAR($O$28)-YEAR(K22))*12+MONTH($O$28)-MONTH(K22) -> 1045 | M22: =L22/12 -> 87.083333 | N22: =ROUNDDOWN(M22,0) -> 87 | Y22: =IF(OR(LEFT(J22,1)=" ",RIGHT(J22,1)=" "),TRUE,FALSE) -> FALSE
A23: 22 | B23: Ronald | C23: Schwenzer | D23: =CONCATENATE(B23," ",C23) -> Ronald Schwenzer | E23: rschwenzer@basilian.org | F23: Dillon House | H23: Christian Brothers - Medicare | J23: In USA | K23: 14586 | L23: =(YEAR($O$28)-YEAR(K23))*12+MONTH($O$28)-MONTH(K23) -> 1036 | M23: =L23/12 -> 86.333333 | N23: =ROUNDDOWN(M23,0) -> 86 | Y23: =IF(OR(LEFT(J23,1)=" ",RIGHT(J23,1)=" "),TRUE,FALSE) -> FALSE
A24: 23 | B24: Vincent | C24: Dulock | D24: =CONCATENATE(B24," ",C24) -> Vincent Dulock | E24: vdulock@earthlink.net | F24: Dillon House | H24: Christian Brothers - Medicare | J24: In USA | K24: 14659 | L24: =(YEAR($O$28)-YEAR(K24))*12+MONTH($O$28)-MONTH(K24) -> 1034 | M24: =L24/12 -> 86.166667 | N24: =ROUNDDOWN(M24,0) -> 86 | Y24: =IF(OR(LEFT(J24,1)=" ",RIGHT(J24,1)=" "),TRUE,FALSE) -> FALSE
A25: 24 | B25: Ronald | C25: Griffin | D25: =CONCATENATE(B25," ",C25) -> Ronald Griffin | E25: rgriffin@stmcollege.ca | F25: Independent | J25: In Canada | K25: 14814 | L25: =(YEAR($O$28)-YEAR(K25))*12+MONTH($O$28)-MONTH(K25) -> 1029 | M25: =L25/12 -> 85.75 | N25: =ROUNDDOWN(M25,0) -> 85 | Y25: =IF(OR(LEFT(J25,1)=" ",RIGHT(J25,1)=" "),TRUE,FALSE) -> FALSE
A26: 25 | B26: Neil | C26: Hibberd | D26: =CONCATENATE(B26," ",C26) -> Neil Hibberd | E26: n.hibberd@hotmail.ca | F26: Presentation Manor | G26: Curial Office | H26: CRASI | J26: In Canada | K26: 14820 | L26: =(YEAR($O$28)-YEAR(K26))*12+MONTH($O$28)-MONTH(K26) -> 1029 | M26: =L26/12 -> 85.75 | N26: =ROUNDDOWN(M26,0) -> 85 | Y26: =IF(OR(LEFT(J26,1)=" ",RIGHT(J26,1)=" "),TRUE,FALSE) -> FALSE
A27: 26 | B27: Denis | C27: April | D27: =CONCATENATE(B27," ",C27) -> Denis April | E27: denisapril@gmail.com | F27: Presentation Manor | G27: Curial Office | H27: CRASI | J27: In Canada | K27: 15104 | L27: =(YEAR($O$28)-YEAR(K27))*12+MONTH($O$28)-MONTH(K27) -> 1019 | M27: =L27/12 -> 84.916667 | N27: =ROUNDDOWN(M27,0) -> 84 | Y27: =IF(OR(LEFT(J27,1)=" ",RIGHT(J27,1)=" "),TRUE,FALSE) -> FALSE
A28: 27 | B28: David | C28: Sharp | D28: =CONCATENATE(B28," ",C28) -> David Sharp | E28: padredavidsharp@gmail.com | F28: Independent | H28: Christian Brothers - Medicare | J28: In USA | K28: 15100 | L28: =(YEAR($O$28)-YEAR(K28))*12+MONTH($O$28)-MONTH(K28) -> 1019 | M28: =L28/12 -> 84.916667 | N28: =ROUNDDOWN(M28,0) -> 84 | O28: 46129 | Y28: =IF(OR(LEFT(J28,1)=" ",RIGHT(J28,1)=" "),TRUE,FALSE) -> FALSE
A29: 28 | B29: Paul | C29: O’Connor | D29: =CONCATENATE(B29," ",C29) -> Paul O’Connor | E29: paulfochap@gmail.com | F29: Dillon House | H29: Blue Cross | J29: In USA | K29: 15174 | L29: =(YEAR($O$28)-YEAR(K29))*12+MONTH($O$28)-MONTH(K29) -> 1017 | M29: =L29/12 -> 84.75 | N29: =ROUNDDOWN(M29,0) -> 84 | Y29: =IF(OR(LEFT(J29,1)=" ",RIGHT(J29,1)=" "),TRUE,FALSE) -> FALSE
A30: 29 | B30: David | C30: Klein | D30: =CONCATENATE(B30," ",C30) -> David Klein | F30: Independent | H30: Federal Employees Health Benefits | J30: In USA | K30: 15572 | L30: =(YEAR($O$28)-YEAR(K30))*12+MONTH($O$28)-MONTH(K30) -> 1004 | M30: =L30/12 -> 83.666667 | N30: =ROUNDDOWN(M30,0) -> 83 | Y30: =IF(OR(LEFT(J30,1)=" ",RIGHT(J30,1)=" "),TRUE,FALSE) -> FALSE
A31: 30 | B31: Paul | C31: McGill | D31: =CONCATENATE(B31," ",C31) -> Paul McGill | E31: mcgill@basilian.org | F31: Amica Riverside | H31: CRASI | J31: In Canada | K31: 15560 | L31: =(YEAR($O$28)-YEAR(K31))*12+MONTH($O$28)-MONTH(K31) -> 1004 | M31: =L31/12 -> 83.666667 | N31: =ROUNDDOWN(M31,0) -> 83 | Y31: =IF(OR(LEFT(J31,1)=" ",RIGHT(J31,1)=" "),TRUE,FALSE) -> FALSE
A32: 31 | B32: Michael | C32: Brand | D32: =CONCATENATE(B32," ",C32) -> Michael Brand | E32: mpbrnd@aol.com | F32: Amica at Windsor | J32: In Canada | K32: 15812 | L32: =(YEAR($O$28)-YEAR(K32))*12+MONTH($O$28)-MONTH(K32) -> 996 | M32: =L32/12 -> 83 | N32: =ROUNDDOWN(M32,0) -> 83 | Y32: =IF(OR(LEFT(J32,1)=" ",RIGHT(J32,1)=" "),TRUE,FALSE) -> FALSE
A33: 32 | B33: Donald | C33: McLeod | D33: =CONCATENATE(B33," ",C33) -> Donald McLeod | E33: dmcleod@basilian.org | F33: Presentation Manor | G33: Independetnt | H33: CRASI | J33: In Canada | K33: 15975 | L33: =(YEAR($O$28)-YEAR(K33))*12+MONTH($O$28)-MONTH(K33) -> 991 | M33: =L33/12 -> 82.583333 | N33: =ROUNDDOWN(M33,0) -> 82 | Y33: =IF(OR(LEFT(J33,1)=" ",RIGHT(J33,1)=" "),TRUE,FALSE) -> FALSE
A34: 33 | B34: Richard | C34: Wahl | D34: =CONCATENATE(B34," ",C34) -> Richard Wahl | E34: rawahlcsb@yahoo.com | F34: Dillon House | H34: Christian Brothers - Medicare | J34: In USA | K34: 16020 | L34: =(YEAR($O$28)-YEAR(K34))*12+MONTH($O$28)-MONTH(K34) -> 989 | M34: =L34/12 -> 82.416667 | N34: =ROUNDDOWN(M34,0) -> 82 | Y34: =IF(OR(LEFT(J34,1)=" ",RIGHT(J34,1)=" "),TRUE,FALSE) -> FALSE
A35: 34 | B35: Manuel | C35: Chircop | D35: =CONCATENATE(B35," ",C35) -> Manuel Chircop | E35: mjchircopjd@gmail.com | F35: Independent | H35: Blue Cross /Delta dental | J35: In USA | K35: 16065 | L35: =(YEAR($O$28)-YEAR(K35))*12+MONTH($O$28)-MONTH(K35) -> 988 | M35: =L35/12 -> 82.333333 | N35: =ROUNDDOWN(M35,0) -> 82 | Y35: =IF(OR(LEFT(J35,1)=" ",RIGHT(J35,1)=" "),TRUE,FALSE) -> FALSE
A36: 35 | B36: Jack | C36: Hanna | D36: =CONCATENATE(B36," ",C36) -> Jack Hanna | E36: hannaj@basilian.org | F36: Frassati House | J36: In Canada | K36: 16152 | L36: =(YEAR($O$28)-YEAR(K36))*12+MONTH($O$28)-MONTH(K36) -> 985 | M36: =L36/12 -> 82.083333 | N36: =ROUNDDOWN(M36,0) -> 82 | Y36: =IF(OR(LEFT(J36,1)=" ",RIGHT(J36,1)=" "),TRUE,FALSE) -> FALSE
A37: 36 | B37: Robert | C37: Barringer | D37: =CONCATENATE(B37," ",C37) -> Robert Barringer | E37: barringerr9@gmail.com | F37: Presentation Manor | G37: * | H37: CRASI | J37: In Canada | K37: 16209 | L37: =(YEAR($O$28)-YEAR(K37))*12+MONTH($O$28)-MONTH(K37) -> 983 | M37: =L37/12 -> 81.916667 | N37: =ROUNDDOWN(M37,0) -> 81 | Y37: =IF(OR(LEFT(J37,1)=" ",RIGHT(J37,1)=" "),TRUE,FALSE) -> FALSE
A38: 37 | B38: Douglas | C38: Mosey | D38: =CONCATENATE(B38," ",C38) -> Douglas Mosey | E38: frdmosey@gmail.com | F38: Independent | H38: Christian Brothers - Medicare | J38: In USA | K38: 16319 | L38: =(YEAR($O$28)-YEAR(K38))*12+MONTH($O$28)-MONTH(K38) -> 979 | M38: =L38/12 -> 81.583333 | N38: =ROUNDDOWN(M38,0) -> 81 | Y38: =IF(OR(LEFT(J38,1)=" ",RIGHT(J38,1)=" "),TRUE,FALSE) -> FALSE
A39: 38 | B39: C. Daniel | C39: Porter | D39: =CONCATENATE(B39," ",C39) -> C. Daniel Porter | E39: porter.daniel15@yahoo.com | F39: Dillon House | H39: Christian Brothers - Medicare | J39: In USA | K39: 16421 | L39: =(YEAR($O$28)-YEAR(K39))*12+MONTH($O$28)-MONTH(K39) -> 976 | M39: =L39/12 -> 81.333333 | N39: =ROUNDDOWN(M39,0) -> 81 | Y39: =IF(OR(LEFT(J39,1)=" ",RIGHT(J39,1)=" "),TRUE,FALSE) -> FALSE
A40: 39 | B40: Norman | C40: Tanck | D40: =CONCATENATE(B40," ",C40) -> Norman Tanck | E40: ntanck@basilian.org | F40: Frassati House | G40: Curial Office | H40: CRASI | J40: In Canada | K40: 16423 | L40: =(YEAR($O$28)-YEAR(K40))*12+MONTH($O$28)-MONTH(K40) -> 976 | M40: =L40/12 -> 81.333333 | N40: =ROUNDDOWN(M40,0) -> 81 | Y40: =IF(OR(LEFT(J40,1)=" ",RIGHT(J40,1)=" "),TRUE,FALSE) -> FALSE
...

Sheet Professed Members -
B1: Name | C1: Birthday | D1: Age | E1: Location
A2: =Data!A2 -> 1 | B2: =Data!D2 -> Kevin Kirley | C2: =Data!K2 -> 9707 | D2: =Data!N2 -> 99 | E2: =Data!J2 -> In Canada | F2: Basilian Age
A3: =Data!A3 -> 2 | B3: =Data!D3 -> Thomas Dugan | C3: =Data!K3 -> 10770 | D3: =Data!N3 -> 96 | E3: =Data!J3 -> In USA | F3: 90-99 | G3: =H3/$H$11 -> 0.12149533 | H3: =Data!Q3 -> 13 | J3: In Canada | K3: =COUNTIF(E$2:E$111,"In Canada") -> 49
A4: =Data!A4 -> 3 | B4: =Data!D4 -> Wilfrid Janisse | C4: =Data!K4 -> 10951 | D4: =Data!N4 -> 96 | E4: =Data!J4 -> In Canada | F4: 80-89 | G4: =H4/$H$11 -> 0.26168224 | H4: =Data!Q4 -> 28 | J4: In USA | K4: =COUNTIF(E$2:E$111,"In USA") -> 38
A5: =Data!A5 -> 4 | B5: =Data!D5 -> Brian Inglis | C5: =Data!K5 -> 11894 | D5: =Data!N5 -> 93 | E5: =Data!J5 -> In Canada | F5: 70-79 | G5: =H5/$H$11 -> 0.22429907 | H5: =Data!Q5 -> 24 | J5: In Mexico | K5: =COUNTIF(E$2:E$111,"In Mexico") -> 11
A6: =Data!A6 -> 5 | B6: =Data!D6 -> Joseph Moffatt | C6: =Data!K6 -> 12090 | D6: =Data!N6 -> 93 | E6: =Data!J6 -> In USA | F6: 60-69 | G6: =H6/$H$11 -> 0.14953271 | H6: =Data!Q6 -> 16 | J6: In France | K6: =COUNTIF(E$2:E$111,"In France") -> 2
A7: =Data!A7 -> 6 | B7: =Data!D7 -> John Gallagher | C7: =Data!K7 -> 12421 | D7: =Data!N7 -> 92 | E7: =Data!J7 -> In Canada | F7: 50-59 | G7: =H7/$H$11 -> 0.056074766 | H7: =Data!Q7 -> 6 | J7: In Colombia | K7: =COUNTIF(E$2:E$111,"In Colombia") -> 7
A8: =Data!A8 -> 7 | B8: =Data!D8 -> Leo Burns | C8: =Data!K8 -> 12499 | D8: =Data!N8 -> 92 | E8: =Data!J8 -> In Canada | F8: 40-49 | G8: =H8/$H$11 -> 0.093457944 | H8: =Data!Q8 -> 10 | K8: =SUM(K3:K7) -> 107
A9: =Data!A9 -> 8 | B9: =Data!D9 -> Bernard Pinsonneault | C9: =Data!K9 -> 12726 | D9: =Data!N9 -> 91 | E9: =Data!J9 -> In Canada | F9: 30-39 | G9: =H9/$H$11 -> 0.093457944 | H9: =Data!Q9 -> 10
A10: =Data!A10 -> 9 | B10: =Data!D10 -> Alexander Leo Reilly | C10: =Data!K10 -> 12904 | D10: =Data!N10 -> 91 | E10: =Data!J10 -> In Canada | F10: 20-29 | G10: =H10/$H$11 -> 0 | H10: =Data!Q10 -> 0
A11: =Data!A11 -> 10 | B11: =Data!D11 -> Daniel Callam | C11: =Data!K11 -> 12947 | D11: =Data!N11 -> 90 | E11: =Data!J11 -> In Canada | G11: =SUM(G3:G10) -> 1 | H11: =SUM(H3:H10) -> 107
A12: =Data!A12 -> 11 | B12: =Data!D12 -> Quentin Johnson | C12: =Data!K12 -> 13000 | D12: =Data!N12 -> 90 | E12: =Data!J12 -> In Canada | J12: Median Age | K12: =MEDIAN(D2:D105) -> 74.5
A13: =Data!A13 -> 12 | B13: =Data!D13 -> Carl Belisch | C13: =Data!K13 -> 13142 | D13: =Data!N13 -> 90 | E13: =Data!J13 -> In USA | F13: Retirement
A14: =Data!A14 -> 13 | B14: =Data!D14 -> Gordon Kennedy | C14: =Data!K14 -> 13261 | D14: =Data!N14 -> 90 | E14: =Data!J14 -> In Canada | F14: Over 65 | G14: =Data!P14 -> 0.70093458 | H14: =Data!Q14 -> 75
A15: =Data!A15 -> 14 | B15: =Data!D15 -> Robert Holmes | C15: =Data!K15 -> 13337 | D15: =Data!N15 -> 89 | E15: =Data!J15 -> In Canada | F15: Under 65 | G15: =Data!P15 -> 0.29906542 | H15: =Data!Q15 -> 32
A16: =Data!A16 -> 15 | B16: =Data!D16 -> + Ricardo Ramírez | C16: =Data!K16 -> 13405 | D16: =Data!N16 -> 89 | E16: =Data!J16 -> In USA | G16: =SUM(G14:G15) -> 1 | H16: =SUM(H14:H15) -> 107
A17: =Data!A17 -> 16 | B17: =Data!D17 -> James Leo Walsh | C17: =Data!K17 -> 13616 | D17: =Data!N17 -> 89 | E17: =Data!J17 -> In Canada
A18: =Data!A18 -> 17 | B18: =Data!D18 -> Joseph Johnson | C18: =Data!K18 -> 13799 | D18: =Data!N18 -> 88 | E18: =Data!J18 -> In Canada
A19: =Data!A19 -> 18 | B19: =Data!D19 -> Michael Fallona | C19: =Data!K19 -> 14044 | D19: =Data!N19 -> 87 | E19: =Data!J19 -> In Canada
A20: =Data!A20 -> 19 | B20: =Data!D20 -> James Farge | C20: =Data!K20 -> 14114 | D20: =Data!N20 -> 87 | E20: =Data!J20 -> In Canada
A21: =Data!A21 -> 20 | B21: =Data!D21 -> Jamie Abercrombie | C21: =Data!K21 -> 14129 | D21: =Data!N21 -> 87 | E21: =Data!J21 -> In USA
A22: =Data!A22 -> 21 | B22: =Data!D22 -> Donald Hyatt | C22: =Data!K22 -> 14326 | D22: =Data!N22 -> 87 | E22: =Data!J22 -> In USA
A23: =Data!A23 -> 22 | B23: =Data!D23 -> Ronald Schwenzer | C23: =Data!K23 -> 14586 | D23: =Data!N23 -> 86 | E23: =Data!J23 -> In USA
A24: =Data!A24 -> 23 | B24: =Data!D24 -> Vincent Dulock | C24: =Data!K24 -> 14659 | D24: =Data!N24 -> 86 | E24: =Data!J24 -> In USA
A25: =Data!A25 -> 24 | B25: =Data!D25 -> Ronald Griffin | C25: =Data!K25 -> 14814 | D25: =Data!N25 -> 85 | E25: =Data!J25 -> In Canada
A26: =Data!A26 -> 25 | B26: =Data!D26 -> Neil Hibberd | C26: =Data!K26 -> 14820 | D26: =Data!N26 -> 85 | E26: =Data!J26 -> In Canada
A27: =Data!A27 -> 26 | B27: =Data!D27 -> Denis April | C27: =Data!K27 -> 15104 | D27: =Data!N27 -> 84 | E27: =Data!J27 -> In Canada
A28: =Data!A28 -> 27 | B28: =Data!D28 -> David Sharp | C28: =Data!K28 -> 15100 | D28: =Data!N28 -> 84 | E28: =Data!J28 -> In USA
... A108: =Data!A108 -> 107 | B108: =Data!D108 -> José de Jesús Rodríguez Pérez | C108: =Data!K108 -> 34195 | D108: =Data!N108 -> 32 | E108: =Data!J108 -> In Mexico

Sheet old
A1: Name | B1: Last | C1: Full Name | D1: Email | E1: Location | F1: Status | G1: Active | H1: Birthday | I1: Age in Months | J1: Age in Years | K1: Rounded Down
A2: Diego Alejandro | B2: Martínez López | C2: =CONCATENATE(A2," ",B2) -> Diego Alejandro Martínez López | D2: diego23.marlopez@gmail.com | E2: In Mexico | F2: Associate | G2: Active | H2: 36853 | I2: =(YEAR($L$28)-YEAR(H2))*12+MONTH($L$28)-MONTH(H2) -> 305 | J2: =I2/12 -> 25.416667 | K2: =ROUNDDOWN(J2,0) -> 25
A3: José Juan | B3: Téllez Hernández | C3: =CONCATENATE(A3," ",B3) -> José Juan Téllez Hernández | D3: juanseeth@gmail.com | E3: In Mexico | F3: Associate | G3: Left | H3: 36249 | I3: =(YEAR($L$28)-YEAR(H3))*12+MONTH($L$28)-MONTH(H3) -> 325 | J3: =I3/12 -> 27.083333 | K3: =ROUNDDOWN(J3,0) -> 27 | M3: Age | Q3: Location
A4: Emerson | B4: Bolaños Cerón | C4: =CONCATENATE(A4," ",B4) -> Emerson Bolaños Cerón | D4: emersonbolanos42@gmail.com | E4: In Colombia | F4: Associate | G4: Left | H4: 37502 | I4: =(YEAR($L$28)-YEAR(H4))*12+MONTH($L$28)-MONTH(H4) -> 283 | J4: =I4/12 -> 23.583333 | K4: =ROUNDDOWN(J4,0) -> 23 | M4: 90-99 | N4: =O4/$O$12 -> 0 | O4: =COUNTIFS($K2:$K106,">=90", $K2:$K106,"<=99.99") -> 0 | Q4: In Canada | R4: =COUNTIF(E$2:E$105,"In Canada") -> 1
A5: José Yonni | B5: Villa de Jesús | C5: =CONCATENATE(A5," ",B5) -> José Yonni Villa de Jesús | D5: villadejesusj@gmail.com | E5: In Mexico | F5: Associate | G5: Active | H5: 37334 | I5: =(YEAR($L$28)-YEAR(H5))*12+MONTH($L$28)-MONTH(H5) -> 289 | J5: =I5/12 -> 24.083333 | K5: =ROUNDDOWN(J5,0) -> 24 | M5: 80-89 | N5: =O5/$O$12 -> 0 | O5: =COUNTIFS($K2:$K106,">=80", $K2:$K106,"<=89.99") -> 0 | Q5: In USA | R5: =COUNTIF(E$2:E$105,"In USA") -> 0
A6: Yamid Leonardo | B6: Castro Mora | C6: =CONCATENATE(A6," ",B6) -> Yamid Leonardo Castro Mora | D6: castroyamid0113@gmail.com | F6: Associate | G6: Left | H6: 36538 | I6: =(YEAR($L$28)-YEAR(H6))*12+MONTH($L$28)-MONTH(H6) -> 315 | J6: =I6/12 -> 26.25 | M6: 70-79 | N6: =O6/$O$12 -> 0 | O6: =COUNTIFS($K2:$K106,">=70", $K2:$K106,"<=79.99") -> 0 | Q6: In Mexico | R6: =COUNTIF(E$2:E$105,"In Mexico") -> 11
A7: Dan | B7: Ryan | C7: =CONCATENATE(A7," ",B7) -> Dan Ryan | D7: djy4321@gmail.com | F7: Scholastic | G7: Left | H7: 35945 | I7: =(YEAR($L$28)-YEAR(H7))*12+MONTH($L$28)-MONTH(H7) -> 335 | J7: =I7/12 -> 27.916667 | M7: 60-69 | N7: =O7/$O$12 -> 0 | O7: =COUNTIFS($K2:$K106,">=60", $K2:$K106,"<=69.99") -> 0 | Q7: In France | R7: =COUNTIF(E$2:E$105,"In France") -> 0
A8: David | B8: Basil | C8: =CONCATENATE(A8," ",B8) -> David Basil | D8: David.Basil@stthom.edu | E8: In Canada | F8: Deacon | G8: Active | H8: 33139 | I8: =(YEAR($L$28)-YEAR(H8))*12+MONTH($L$28)-MONTH(H8) -> 427 | J8: =I8/12 -> 35.583333 | K8: =ROUNDDOWN(J8,0) -> 35 | M8: 50-59 | N8: =O8/$O$12 -> 0 | O8: =COUNTIFS($K2:$K106,">=50", $K2:$K106,"<=59.99") -> 0 | Q8: In Colombia | R8: =COUNTIF(E$2:E$105,"In Colombia") -> 8
A9: Osman Enrique | B9: De La Hoz Escorcia | C9: =CONCATENATE(A9," ",B9) -> Osman Enrique De La Hoz Escorcia | D9: osende_2008_@hotmail.com | F9: Ordained | G9: Active | H9: 31876 | I9: =(YEAR($L$28)-YEAR(H9))*12+MONTH($L$28)-MONTH(H9) -> 468 | J9: =I9/12 -> 39 | M9: 40-49 | N9: =O9/$O$12 -> 0.18181818 | O9: =COUNTIFS($K2:$K106,">=40", $K2:$K106,"<=49.99") -> 4 | R9: =SUM(R4:R8) -> 20
A10: Erick de Jesús | B10: Enríquez Gutiérrez | C10: =CONCATENATE(A10," ",B10) -> Erick de Jesús Enríquez Gutiérrez | D10: erickcsb1822@gmail.com | F10: Ordained | G10: Active | H10: 30125 | I10: =(YEAR($L$28)-YEAR(H10))*12+MONTH($L$28)-MONTH(H10) -> 526 | J10: =I10/12 -> 43.833333 | M10: 30-39 | N10: =O10/$O$12 -> 0.54545455 | O10: =COUNTIFS($K2:$K106,">=30", $K2:$K106,"<=39.99") -> 12
A11: Marlon Andrés | B11: Rincón Moreno | C11: =CONCATENATE(A11," ",B11) -> Marlon Andrés Rincón Moreno | D11: maranrinmo@gmail.com | E11: In Colombia | F11: Deacon | G11: Active | H11: 34716 | I11: =(YEAR($L$28)-YEAR(H11))*12+MONTH($L$28)-MONTH(H11) -> 375 | J11: =I11/12 -> 31.25 | K11: =ROUNDDOWN(J11,0) -> 31 | M11: 20-29 | N11: =O11/$O$12 -> 0.27272727 | O11: =COUNTIFS($K2:$K106,">=20", $K2:$K106,"<=29.99") -> 6
A12: Alejandro | B12: García Cárdenas | C12: =CONCATENATE(A12," ",B12) -> Alejandro García Cárdenas | D12: alex_tarom@hotmail.com | E12: In Mexico | F12: Scholastic | G12: Left | H12: 33018 | I12: =(YEAR($L$28)-YEAR(H12))*12+MONTH($L$28)-MONTH(H12) -> 431 | J12: =I12/12 -> 35.916667 | K12: =ROUNDDOWN(J12,0) -> 35 | N12: =SUM(N4:N11) -> 1 | O12: =SUM(O4:O11) -> 22
A13: José Adán | B13: Gómez Villalvazo | C13: =CONCATENATE(A13," ",B13) -> José Adán Gómez Villalvazo | D13: giossepe95@outlook.com | F13: Ordained | G13: Active | H13: 30435 | I13: =(YEAR($L$28)-YEAR(H13))*12+MONTH($L$28)-MONTH(H13) -> 516 | J13: =I13/12 -> 43
A14: Eduard Alexis | B14: Guerrero Carrillo | C14: =CONCATENATE(A14," ",B14) -> Eduard Alexis Guerrero Carrillo | D14: Eduardguerrero25@gmail.com | F14: Ordained | G14: Active | H14: 32094 | I14: =(YEAR($L$28)-YEAR(H14))*12+MONTH($L$28)-MONTH(H14) -> 461 | J14: =I14/12 -> 38.416667
A15: César Enrique | B15: Hernández Aguilar | C15: =CONCATENATE(A15," ",B15) -> César Enrique Hernández Aguilar | F15: Scholastic | G15: Left | H15: 34830 | I15: =(YEAR($L$28)-YEAR(H15))*12+MONTH($L$28)-MONTH(H15) -> 371 | J15: =I15/12 -> 30.916667
A16: Juan Ángel | B16: Vivas García | C16: =CONCATENATE(A16," ",B16) -> Juan Ángel Vivas García | D16: angel_viga@ciencias.unam.mx | E16: In Mexico | F16: Deacon | G16: Active | H16: 33252 | I16: =(YEAR($L$28)-YEAR(H16))*12+MONTH($L$28)-MONTH(H16) -> 423 | J16: =I16/12 -> 35.25 | K16: =ROUNDDOWN(J16,0) -> 35
A17: Diego Alejandro | B17: Lambis Navarro | C17: =CONCATENATE(A17," ",B17) -> Diego Alejandro Lambis Navarro | F17: Scholastic | G17: Left | H17: 37644 | I17: =(YEAR($L$28)-YEAR(H17))*12+MONTH($L$28)-MONTH(H17) -> 279 | J17: =I17/12 -> 23.25
A18: Óscar | B18: Martínez Ávila | C18: =CONCATENATE(A18," ",B18) -> Óscar Martínez Ávila | D18: terryjesusstein@hotmail.com | F18: Scholastic | G18: Left | H18: 25101 | I18: =(YEAR($L$28)-YEAR(H18))*12+MONTH($L$28)-MONTH(H18) -> 691 | J18: =I18/12 -> 57.583333
A19: Julio César | B19: Martínez Chávez | C19: =CONCATENATE(A19," ",B19) -> Julio César Martínez Chávez | D19: juliocemchavez@gmail.com | F19: Ordained | G19: Active | H19: 32414 | I19: =(YEAR($L$28)-YEAR(H19))*12+MONTH($L$28)-MONTH(H19) -> 451 | J19: =I19/12 -> 37.583333 | K19: =ROUNDDOWN(J19,0) -> 37
A20: Ciro Alfonso | B20: Cárdenas Balaguera | C20: =CONCATENATE(A20," ",B20) -> Ciro Alfonso Cárdenas Balaguera | D20: cardenasciroalfonso4@gmail.com | E20: In Colombia | F20: Novice | G20: Active | H20: 34205 | I20: =(YEAR($L$28)-YEAR(H20))*12+MONTH($L$28)-MONTH(H20) -> 392 | J20: =I20/12 -> 32.666667 | K20: =ROUNDDOWN(J20,0) -> 32
A21: Fabien | B21: Mwehu Itondo | C21: =CONCATENATE(A21," ",B21) -> Fabien Mwehu Itondo | D21: fabienitondo47@gmail.com | E21: In Colombia | F21: Novice | G21: Active | H21: 33620 | I21: =(YEAR($L$28)-YEAR(H21))*12+MONTH($L$28)-MONTH(H21) -> 411 | J21: =I21/12 -> 34.25 | K21: =ROUNDDOWN(J21,0) -> 34
A22: Luis Obdulio | B22: Olivera Orozco | C22: =CONCATENATE(A22," ",B22) -> Luis Obdulio Olivera Orozco | F22: Associate | G22: Left | H22: 33486 | I22: =(YEAR($L$28)-YEAR(H22))*12+MONTH($L$28)-MONTH(H22) -> 415 | J22: =I22/12 -> 34.583333
A23: Juan José | B23: Ortiz Torres | C23: =CONCATENATE(A23," ",B23) -> Juan José Ortiz Torres | F23: Scholastic | G23: Left | H23: 32444 | I23: =(YEAR($L$28)-YEAR(H23))*12+MONTH($L$28)-MONTH(H23) -> 450 | J23: =I23/12 -> 37.5
A24: Alejandro | B24: Balderas Rosas | C24: =CONCATENATE(A24," ",B24) -> Alejandro Balderas Rosas | D24: alex.bal.rosas@outlook.es | E24: In Mexico | F24: Scholastic | G24: Active | H24: 33464 | I24: =(YEAR($L$28)-YEAR(H24))*12+MONTH($L$28)-MONTH(H24) -> 416 | J24: =I24/12 -> 34.666667 | K24: =ROUNDDOWN(J24,0) -> 34
A25: Bishoy | B25: Dawood | C25: =CONCATENATE(A25," ",B25) -> Bishoy Dawood | D25: bdawood@basilian.org | E25: In Mexico | F25: Scholastic | G25: Active | H25: 29987 | I25: =(YEAR($L$28)-YEAR(H25))*12+MONTH($L$28)-MONTH(H25) -> 530 | J25: =I25/12 -> 44.166667 | K25: =ROUNDDOWN(J25,0) -> 44
A26: Juan Gabriel | B26: Galvis Villamizar | C26: =CONCATENATE(A26," ",B26) -> Juan Gabriel Galvis Villamizar | D26: villamizargalviz@gmail.com | E26: In Colombia | F26: Scholastic | G26: Active | H26: 36800 | I26: =(YEAR($L$28)-YEAR(H26))*12+MONTH($L$28)-MONTH(H26) -> 306 | J26: =I26/12 -> 25.5 | K26: =ROUNDDOWN(J26,0) -> 25
A27: José de Jesús | B27: Rodríguez Pérez | C27: =CONCATENATE(A27," ",B27) -> José de Jesús Rodríguez Pérez | D27: jose-de-jesus01@hotmail.com | F27: Ordained | G27: Active | H27: 34195 | I27: =(YEAR($L$28)-YEAR(H27))*12+MONTH($L$28)-MONTH(H27) -> 392 | J27: =I27/12 -> 32.666667 | K27: =ROUNDDOWN(J27,0) -> 32
A28: Lauro | B28: Sánchez Sánchez | C28: =CONCATENATE(A28," ",B28) -> Lauro Sánchez Sánchez | F28: Scholastic | G28: Left | H28: 31673 | I28: =(YEAR($L$28)-YEAR(H28))*12+MONTH($L$28)-MONTH(H28) -> 475 | J28: =I28/12 -> 39.583333 | L28: =TODAY() -> 46119
A29: José Enrique | B29: Hoyos Avilez | C29: =CONCATENATE(A29," ",B29) -> José Enrique Hoyos Avilez | D29: hoyosjosee@gmail.com | E29: In Colombia | F29: Scholastic | G29: Active | H29: 35848 | I29: =(YEAR($L$28)-YEAR(H29))*12+MONTH($L$28)-MONTH(H29) -> 338 | J29: =I29/12 -> 28.166667 | K29: =ROUNDDOWN(J29,0) -> 28
A30: Walter Roberto | B30: Martínez Royaceli | C30: =CONCATENATE(A30," ",B30) -> Walter Roberto Martínez Royaceli | D30: waltermartz10@gmail.com | E30: In Mexico | F30: Scholastic | G30: Active | H30: 34978 | I30: =(YEAR($L$28)-YEAR(H30))*12+MONTH($L$28)-MONTH(H30) -> 366 | J30: =I30/12 -> 30.5 | K30: =ROUNDDOWN(J30,0) -> 30
A31: Anderson Fabián | B31: Úsuga Giraldo | C31: =CONCATENATE(A31," ",B31) -> Anderson Fabián Úsuga Giraldo | D31: andersonusuga3@gmail.com | F31: Ordained | G31: Active | H31: 33697 | I31: =(YEAR($L$28)-YEAR(H31))*12+MONTH($L$28)-MONTH(H31) -> 408 | J31: =I31/12 -> 34
A32: Amaury Rafael | B32: Ramos Romero | C32: =CONCATENATE(A32," ",B32) -> Amaury Rafael Ramos Romero | D32: amaury3r@gmail.com | E32: In Colombia | F32: Scholastic | G32: Active | H32: 30839 | I32: =(YEAR($L$28)-YEAR(H32))*12+MONTH($L$28)-MONTH(H32) -> 502 | J32: =I32/12 -> 41.833333 | K32: =ROUNDDOWN(J32,0) -> 41
A33: Luis Alberto | B33: Rodríguez Justo | C33: =CONCATENATE(A33," ",B33) -> Luis Alberto Rodríguez Justo | D33: albertrodri644@gmail.com | E33: In Mexico | F33: Scholastic | G33: Active | H33: 29930 | I33: =(YEAR($L$28)-YEAR(H33))*12+MONTH($L$28)-MONTH(H33) -> 532 | J33: =I33/12 -> 44.333333 | K33: =ROUNDDOWN(J33,0) -> 44
A34: Marco Antonio | B34: Sierra García | C34: =CONCATENATE(A34," ",B34) -> Marco Antonio Sierra García | D34: ocram_sierra19@hotmail.com | E34: In Mexico | F34: Scholastic | G34: Active | H34: 33667 | I34: =(YEAR($L$28)-YEAR(H34))*12+MONTH($L$28)-MONTH(H34) -> 409 | J34: =I34/12 -> 34.083333 | K34: =ROUNDDOWN(J34,0) -> 34
A35: Germán Darío | B35: Suárez García | C35: =CONCATENATE(A35," ",B35) -> Germán Darío Suárez García | D35: german_dario_suarez@hotmail.es | E35: In Colombia | F35: Scholastic | G35: Active | H35: 28843 | I35: =(YEAR($L$28)-YEAR(H35))*12+MONTH($L$28)-MONTH(H35) -> 568 | J35: =I35/12 -> 47.333333 | K35: =ROUNDDOWN(J35,0) -> 47
A36: José Antonio | B36: Zamudio Reyes | C36: =CONCATENATE(A36," ",B36) -> José Antonio Zamudio Reyes | D36: pepetono18im@hotmail.com | E36: In Mexico | F36: Scholastic | G36: Active | H36: 33412 | I36: =(YEAR($L$28)-YEAR(H36))*12+MONTH($L$28)-MONTH(H36) -> 418 | J36: =I36/12 -> 34.833333 | K36: =ROUNDDOWN(J36,0) -> 34

Sheet old2
A1: =old!A1 -> Name | B1: =old!B1 -> Last | C1: =old!C1 -> Full Name | D1: =old!D1 -> Email | E1: =old!E1 -> Location | F1: =old!F1 -> Status | G1: =old!G1 -> Active | H1: =old!H1 -> Birthday | ... K1: =old!K1 -> Rounded Down
A2: =old!A2 -> Diego Alejandro | B2: =old!B2 -> Martínez López | C2: =old!C2 -> Diego Alejandro Martínez López | D2: =old!D2 -> diego23.marlopez@gmail.com | E2: =old!E2 -> In Mexico | F2: =old!F2 -> Associate | G2: =old!G2 -> Active | H2: =old!H2 -> 36853 | ... K2: =old!K2 -> 25
A3: =old!A3 -> José Juan | B3: =old!B3 -> Téllez Hernández | C3: =old!C3 -> José Juan Téllez Hernández | D3: =old!D3 -> juanseeth@gmail.com | E3: =old!E3 -> In Mexico | F3: =old!F3 -> Associate | G3: =old!G3 -> Left | H3: =old!H3 -> 36249 | ... K3: =old!K3 -> 27
A4: =old!A4 -> Emerson | B4: =old!B4 -> Bolaños Cerón | C4: =old!C4 -> Emerson Bolaños Cerón | D4: =old!D4 -> emersonbolanos42@gmail.com | E4: =old!E4 -> In Colombia | F4: =old!F4 -> Associate | G4: =old!G4 -> Left | H4: =old!H4 -> 37502 | ... K4: =old!K4 -> 23
A5: =old!A5 -> José Yonni | B5: =old!B5 -> Villa de Jesús | C5: =old!C5 -> José Yonni Villa de Jesús | D5: =old!D5 -> villadejesusj@gmail.com | E5: =old!E5 -> In Mexico | F5: =old!F5 -> Associate | G5: =old!G5 -> Active | H5: =old!H5 -> 37334 | ... K5: =old!K5 -> 24
A6: =old!A6 -> Yamid Leonardo | B6: =old!B6 -> Castro Mora | C6: =old!C6 -> Yamid Leonardo Castro Mora | D6: =old!D6 -> castroyamid0113@gmail.com | E6: =old!E6 -> 0 | F6: =old!F6 -> Associate | G6: =old!G6 -> Left | H6: =old!H6 -> 36538 | ... K6: =old!K6 -> 0
A7: =old!A7 -> Dan | B7: =old!B7 -> Ryan | C7: =old!C7 -> Dan Ryan | D7: =old!D7 -> djy4321@gmail.com | E7: =old!E7 -> 0 | F7: =old!F7 -> Scholastic | G7: =old!G7 -> Left | H7: =old!H7 -> 35945 | ... K7: =old!K7 -> 0
A8: =old!A8 -> David | B8: =old!B8 -> Basil | C8: =old!C8 -> David Basil | D8: =old!D8 -> David.Basil@stthom.edu | E8: =old!E8 -> In Canada | F8: =old!F8 -> Deacon | G8: =old!G8 -> Active | H8: =old!H8 -> 33139 | ... K8: =old!K8 -> 35
A9: =old!A9 -> Osman Enrique | B9: =old!B9 -> De La Hoz Escorcia | C9: =old!C9 -> Osman Enrique De La Hoz Escorcia | D9: =old!D9 -> osende_2008_@hotmail.com | E9: =old!E9 -> 0 | F9: =old!F9 -> Ordained | G9: =old!G9 -> Active | H9: =old!H9 -> 31876 | ... K9: =old!K9 -> 0
A10: =old!A10 -> Erick de Jesús | B10: =old!B10 -> Enríquez Gutiérrez | C10: =old!C10 -> Erick de Jesús Enríquez Gutiérrez | D10: =old!D10 -> erickcsb1822@gmail.com | E10: =old!E10 -> 0 | F10: =old!F10 -> Ordained | G10: =old!G10 -> Active | H10: =old!H10 -> 30125 | ... K10: =old!K10 -> 0
A11: =old!A11 -> Marlon Andrés | B11: =old!B11 -> Rincón Moreno | C11: =old!C11 -> Marlon Andrés Rincón Moreno | D11: =old!D11 -> maranrinmo@gmail.com | E11: =old!E11 -> In Colombia | F11: =old!F11 -> Deacon | G11: =old!G11 -> Active | H11: =old!H11 -> 34716 | ... K11: =old!K11 -> 31
A12: =old!A12 -> Alejandro | B12: =old!B12 -> García Cárdenas | C12: =old!C12 -> Alejandro García Cárdenas | D12: =old!D12 -> alex_tarom@hotmail.com | E12: =old!E12 -> In Mexico | F12: =old!F12 -> Scholastic | G12: =old!G12 -> Left | H12: =old!H12 -> 33018 | ... K12: =old!K12 -> 35
... A36: =old!A36 -> José Antonio | B36: =old!B36 -> Zamudio Reyes | C36: =old!C36 -> José Antonio Zamudio Reyes | D36: =old!D36 -> pepetono18im@hotmail.com | E36: =old!E36 -> In Mexico | F36: =old!F36 -> Scholastic | G36: =old!G36 -> Active | H36: =old!H36 -> 33412 | ... K36: =old!K36 -> 34
