Workbook

Sheet Hinweise
A1: Ausfüllhinweise:
A3: - Diese Datei gilt nur zum Melden für die 26. SCHWEDT-OPEN am 13. Februar 2027.
A5: - Sie muß erst auf Eurem Rechner gespeichert werden.
A7: - Die Datei ist ausgefüllt per e-mail als Dateianhang an rudern@wassersport-schwedt.de zu senden.
A9: - Die grauen Felder berechnen sich selbst und dienen Euch nur zur Kontrolle.
A11: - Eine Zeile je Boot nutzen

Sheet Meldungen
C2: Meldung zur 26. SCHWEDT-OPEN am 13.02.2027
B5: meldender Verein:
C6: Beispielverein
B8: Ansprechpartner
B9: Name
B10: Straße
B11: PLZ Ort
B12: Telefon
B13: e-mail | G13: gesamt | H13: =SUM(H17:H105) -> 0
G15: Schaden-
A16: Nr | B16: Renn-Nr | C16: Bezeichnung | D16: Verein | E16: Name, Vorname | F16: Jahrgang | G16: klasse | H16: Meldegeld
A17: =IF($B17<>"",ROW(B17)-16,"") | C17: =IF(B17>0,VLOOKUP(B17,Rennen!A:B,2,FALSE())," ") | D17: =IF(B17<>"",$C$6,"") | H17: =IF(B17>0,VLOOKUP(B17,Rennen!A:D,4,FALSE())," ")
A18: =IF($B18<>"",ROW(B18)-16,"") | C18: =IF(B18>0,VLOOKUP(B18,Rennen!A:B,2,FALSE())," ") | D18: =IF(B18<>"",$C$6,"") | H18: =IF(B18>0,VLOOKUP(B18,Rennen!A:D,4,FALSE())," ")
A19: =IF($B19<>"",ROW(B19)-16,"") | C19: =IF(B19>0,VLOOKUP(B19,Rennen!A:B,2,FALSE())," ") | D19: =IF(B19<>"",$C$6,"") | H19: =IF(B19>0,VLOOKUP(B19,Rennen!A:D,4,FALSE())," ")
A20: =IF($B20<>"",ROW(B20)-16,"") | C20: =IF(B20>0,VLOOKUP(B20,Rennen!A:B,2,FALSE())," ") | D20: =IF(B20<>"",$C$6,"") | H20: =IF(B20>0,VLOOKUP(B20,Rennen!A:D,4,FALSE())," ")
A21: =IF($B21<>"",ROW(B21)-16,"") | C21: =IF(B21>0,VLOOKUP(B21,Rennen!A:B,2,FALSE())," ") | D21: =IF(B21<>"",$C$6,"") | H21: =IF(B21>0,VLOOKUP(B21,Rennen!A:D,4,FALSE())," ")
A22: =IF($B22<>"",ROW(B22)-16,"") | C22: =IF(B22>0,VLOOKUP(B22,Rennen!A:B,2,FALSE())," ") | D22: =IF(B22<>"",$C$6,"") | H22: =IF(B22>0,VLOOKUP(B22,Rennen!A:D,4,FALSE())," ")
A23: =IF($B23<>"",ROW(B23)-16,"") | C23: =IF(B23>0,VLOOKUP(B23,Rennen!A:B,2,FALSE())," ") | D23: =IF(B23<>"",$C$6,"") | H23: =IF(B23>0,VLOOKUP(B23,Rennen!A:D,4,FALSE())," ")
A24: =IF($B24<>"",ROW(B24)-16,"") | C24: =IF(B24>0,VLOOKUP(B24,Rennen!A:B,2,FALSE())," ") | D24: =IF(B24<>"",$C$6,"") | H24: =IF(B24>0,VLOOKUP(B24,Rennen!A:D,4,FALSE())," ")
A25: =IF($B25<>"",ROW(B25)-16,"") | C25: =IF(B25>0,VLOOKUP(B25,Rennen!A:B,2,FALSE())," ") | D25: =IF(B25<>"",$C$6,"") | H25: =IF(B25>0,VLOOKUP(B25,Rennen!A:D,4,FALSE())," ")
A26: =IF($B26<>"",ROW(B26)-16,"") | C26: =IF(B26>0,VLOOKUP(B26,Rennen!A:B,2,FALSE())," ") | D26: =IF(B26<>"",$C$6,"") | H26: =IF(B26>0,VLOOKUP(B26,Rennen!A:D,4,FALSE())," ")
A27: =IF($B27<>"",ROW(B27)-16,"") | C27: =IF(B27>0,VLOOKUP(B27,Rennen!A:B,2,FALSE())," ") | D27: =IF(B27<>"",$C$6,"") | H27: =IF(B27>0,VLOOKUP(B27,Rennen!A:D,4,FALSE())," ")
A28: =IF($B28<>"",ROW(B28)-16,"") | C28: =IF(B28>0,VLOOKUP(B28,Rennen!A:B,2,FALSE())," ") | D28: =IF(B28<>"",$C$6,"") | H28: =IF(B28>0,VLOOKUP(B28,Rennen!A:D,4,FALSE())," ")
... A105: =IF($B105<>"",ROW(B105)-16,"") | C105: =IF(B105>0,VLOOKUP(B105,Rennen!A:B,2,FALSE())," ") | D105: =IF(B105<>"",$C$6,"") | H105: =IF(B105>0,VLOOKUP(B105,Rennen!A:D,4,FALSE())," ")

Sheet Rennen
A1: 1 | B1: Juniorinnen B 15/16 J. | C1: 1500m | D1: 10
A2: 2 | B2: Juniorinnen B 15/16 J. Lgw. | C2: 1500m | D2: 10
A3: 3 | B3: Junioren B 15/16 J. | C3: 1500m | D3: 10
A4: 4 | B4: Junioren B 15/16J. Lgw. | C4: 1500m | D4: 10
A5: Z | B5: Fun-Familien-Zweier | C5: 1000m | D5: 15
A6: A | B6: Mädchen 11 J. und jünger | C6: 250m | D6: 7
A7: B | B7: Jungen 11 J. und jünger | C7: 250m | D7: 7
A8: C | B8: Mädchen 12 J. | C8: 500m | D8: 7
A9: D | B9: Jungen 12 J. | C9: 500m | D9: 7
A10: E | B10: Mädchen 13 J. | C10: 1000m | D10: 7
A11: E1 | B11: Mädchen 13 J. Lgw. | C11: 1000m | D11: 7
A12: F | B12: Jungen 13 J. | C12: 1000m | D12: 7
A13: F1 | B13: Jungen 13 J. Lgw. | C13: 1000m | D13: 7
A14: G | B14: Mädchen 14 J. | C14: 1000m | D14: 7
A15: G1 | B15: Mädchen 14 J. Lgw. | C15: 1000m | D15: 7
A16: H | B16: Jungen 14 J. | C16: 1000m | D16: 7
... A56: R | B56: Schul-Vierer | C56: 2000m | D56: 20
A57: 5 | B57: Juniorinnen A 17/18 J. | C57: 2000m | D57: 10
A58: 6 | B58: Juniorinnen A 17/18 J. Lgw. | C58: 2000m | D58: 10
A59: 7 | B59: Junioren A 17/18 J. | C59: 2000m | D59: 10
A60: 8 | B60: Junioren A 17/18 J. Lgw. | C60: 2000m | D60: 10
A61: 9 | B61: Frauen 19-26 J. | C61: 2000m | D61: 15
A62: 10 | B62: Frauen 19-26 J. Lgw. | C62: 2000m | D62: 15
A63: 11 | B63: Männer 19-26 J. | C63: 2000m | D63: 15
A64: 12 | B64: Männer 19-26 J. Lgw | C64: 2000m | D64: 15
A65: M | B65: Fun-Fitness-Vierer | C65: 2000m | D65: 20
A66: N | B66: Kinder-Mixed-Vierer | C66: 2000m | D66: 20
A67: O | B67: Junior-Mixed-Vierer | C67: 2000m | D67: 20
A68: P | B68: Vereins-Mixed-Vierer | C68: 2000m | D68: 20
