Workbook

Sheet INSTRUCTIONS

Sheet CFBG New Line Form
G1: 1 | H1: =G1+1 -> 2 | I1: =H1+1 -> 3 | J1: =I1+1 -> 4 | K1: =EQ1+1 -> 2 | L1: =K1+1 -> 3 | M1: =L1+1 -> 4 | N1: =M1+1 -> 5 | O1: =N1+1 -> 6 | P1: =O1+1 -> 7 | Q1: =J1+1 -> 5 | R1: =Q1+1 -> 6 | S1: =R1+1 -> 7 | T1: =S1+1 -> 8 | U1: =T1+1 -> 9 | V1: =#REF!+1 -> #REF! | W1: =V1+1 -> #REF! | X1: =W1+1 -> #REF! | Y1: =X1+1 -> #REF! | Z1: =Y1+1 -> #REF! | AA1: =Z1+1 -> #REF! | AB1: =AA1+1 -> #REF! | AC1: =AB1+1 -> #REF! | AD1: =AC1+1 -> #REF! | ... BF1: =BE1+1 -> #REF! | BI1: =BF1+1 -> #REF! | BJ1: =BI1+1 -> #REF! | BK1: =BJ1+1 -> #REF! | BL1: =BK1+1 -> #REF! | BM1: =BL1+1 -> #REF! | BN1: =BM1+1 -> #REF! | BO1: =BN1+1 -> #REF! | BP1: =BO1+1 -> #REF! | BQ1: =BP1+1 -> #REF! | ... EF1: =EE1+1 -> #REF! | EI1: =#REF!+1 -> #REF! | EJ1: =EI1+1 -> #REF! | EK1: =EJ1+1 -> #REF! | EQ1: =EP1+1 -> 1 | ER1: =O1+1 -> 7
A2: FALSE
D3: I confirm that all information provided regarding the product is accurate and up to date. I understand that The Caterfood Buying Group (CFBG) accepts no liability for any errors or inaccuracies in the data submitted.
C5: Product Information | G5: Supplier Information | K5: Supplier Contact Details | Q5: Erudus & OPRI Information | V5: Additional Product Information | AO5: Shelf Life Information | AR5: Barcode Information | AU5: Allergens | BX5: Diet Suitability | CG5: Nutritional Information (As Sold) | CT5: Product Certification | DA5: Supplementary Ingredient Information | DE5: Packaging Dimensions & Pallet Information | EA5: MOQ's | EE5: Commercials | EL5: Additional Information
C7: Product Brand | D7: Product Name | E7: Product Description (As appears on Label) | G7: Supplier Product Code | H7: Manufacturer Product Code | I7: Supplier Name | K7: Form Completed By (Name) | L7: Position | M7: Date (DD/MM/YYYY) | N7: Contact E mail | O7: Contact Telephone | Q7: Is This Product On Erudus | R7: If No I Confirm We Will Complete All Data On OPRI | S7: Email Address Registered on OPRI | T7: Erudus ID If NO Erudus ID then please leave blank | V7: Long Product Description (Used for E-commerce) | W7: Product Awards or Benefits and any other Marketable attributes of the product (Local/British Etc) | X7: Ingredient Declaration | Y7: Units in Pack | Z7: Unit Size | AA7: Unit Size UOM | AB7: Weight Per Unit (Inc Packaging) | AC7: Units Per Case (Packs in Case) | AD7: Average Serving/Use (g/ml) | AE7: Portions Per Unit | AF7: Weighted Product | AG7: Purchased by Each or Weight (If Weight Please Specify Kg, Grams Etc) | AH7: Average Weight (kg) | AI7: Product Origin (Country) | AJ7: Product Origin (If UK: County) | AK7: Storage Conditions | AL7: Storage Instructions | AM7: Directions For Use | AO7: Shelf Life on Production (Days) | AP7: Minimum Shelf Life on Delivery (Days) | AR7: Barcode GTIN (Outer Case) | AS7: Barcode GTIN (Inner Pack) | AU7: Milk | AV7: Fish | AW7: Eggs | AX7: Soybeans | AY7: Molluscs | AZ7: Mustard | BA7: Lupin | BB7: Crustaceans | BC7: Celery/Celeriac | BD7: Sulphur Dioxiode and Sulphites | BE7: Cereals Containing Gluten | BF7: Wheat | BG7: Spelt | BH7: Kamut | BI7: Barley | BJ7: Oats | BK7: Rye | BL7: Sesame Seeds | BM7: Tree Nuts | BN7: Peanuts | BO7: Brazil Nuts | BP7: Cashew Nuts | BQ7: Hazelnuts | BR7: Macadamia Nuts | BS7: Pecan Nuts | BT7: Pistachio Nuts | BU7: Walnuts | BV7: Almond Nuts | BX7: Suitable For Halal | BY7: Suitable For Kosher | BZ7: Suitable For Vegans | CA7: Suitable For Vegetarians | CB7: Suitable For Diabetics | CC7: Suitable For Coeliacs | CD7: Suitable For Lactose Intolerance | CE7: Suitable For Nut Allergy Sufferers | CG7: Energy Per 100g (kJ) | CH7: Energy Per 100g (kcal) | CI7: Fat Per 100g | CJ7: Of which Saturates Per 100g | CK7: Of Which Mono-unsaturates Per 100g | CL7: Of which Polyunsaturates Per 100g | CM7: Carbohydrate Per 100g | CN7: Of Which Sugars Per 100g | CO7: Fibre Per 100g | CP7: Protein Per 100g | CQ7: Salt Per 100g | CR7: Sodium Per 100g | CT7: Product Certified Fairtrade | CU7: Product Certified MSC | CV7: Product Certified Organic | CW7: Product Certified Red Tractor | CX7: Product Certified Rainforest Alliance | CY7: School Standards Approved | DA7: Contains Palm Oil | DB7: Contains GM/ GM Protein/DNA | DC7: Contains Hydrogenated Vegetable Oil/Fat | DE7: Unit Dimension (Length In CM) | DF7: Unit Dimension (Width In CM) | DG7: Unit Dimension (Height In CM) | DH7: Case Dimension (Length In CM) | DI7: Case Dimension (Width In CM) | DJ7: Case Dimension (Height In CM) | DK7: Case Weight (KG) (Inc Packaging) | DL7: Case Volume (If Applicable) | DM7: Packaging & Recycling Information | DN7: Case Packaging - Card (g) | DO7: Case Packaging - Plastic (g) | DP7: Case Packaging - Glass (g) | DQ7: Case Packaging - Steel (g) | DR7: Case Packaging - Aluminium (g) | DS7: Case Packaging - other (g) | DT7: Cases Per Pallet | DU7: Cases Per Layer | DV7: Layers Per Pallet | DW7: Pallet Height (cm) | DX7: Pallet Weight (kg) | DY7: Confirm Euro Pallets Are Not Used | EA7: Minimum Order Quantity (Pallets) | EB7: Minimum Order Quantity (Cases) | EC7: Minimum Order Value (GBP) | EE7: Invoice Cost (Per Case) (GBP) | EF7: Invoice Cost (Per Unit) (GBP) | EG7: Net Cost per Case (GBP) | EH7: Is the product Vatable? | EI7: VAT Rate % (0, 5 or 20) | EJ7: Full Straight Pallet Cost Per Case (GBP) | EL7: I confirm specification will be sent with NLF | EM7: I confirm minimum of 1 pack shot image will be sent with NLF | EN7: Product Images - Original high-res 300dpi 2000 px (Pack shot on a plain white background) Sent with New Line Form | EO7: If this a chemical product I have emailed a copy of the COSHH data with New Line Form | EP7: I have emailed a product specification sheet along with New Line Form

Sheet Cimandis
C3: New Product / Product Amendment Form
D4: Please complete all blue sections as fully as possible and email to LRTBuyers@cimandis.com Please note incomplete forms or attachments will result in delay of product set up
B7: New Product | C7: Select from Drop Down
A8: Section A
A9: 1 | B9: Supplier Name | D9: =IF( IFERROR(INDEX('CFBG New Line Form'!$G$9:$EQ$105,MATCH(D11,'CFBG New Line Form'!$B$9:$B$105,0),MATCH(VLOOKUP(B9,MAPPING!$C$3:$J$131,8,0),'CFBG New Line Form'!$G$7:$EQ$7,0)),"")=0, "", IFERROR(INDEX('CFBG New Line Form'!$G$9:$EQ$105,MATCH(D11,'CFBG New Line Form'!$B$9:$B$105,0),MATCH(VLOOKUP(B9,MAPPING!$C$3:$J$131,8,0),'CFBG New Line Form'!$G$7:$EQ$7,0)),""))
A11: 1.01 | B11: Product Name | D11: Oat Barista Drink
A12: 1.02 | B12: Manufacturer Product Code | D12: =IF(IFERROR(INDEX('CFBG New Line Form'!$G$9:$EQ$105,MATCH(D11,'CFBG New Line Form'!$B$9:$B$105,0),MATCH(VLOOKUP(B12,MAPPING!$C$3:$J$131,8,0),'CFBG New Line Form'!$G$7:$EQ$7,0)),"")=0,"",IFERROR(INDEX('CFBG New Line Form'!$G$9:$EQ$105,MATCH(D11,'CFBG New Line Form'!$B$9:$B$105,0),MATCH(VLOOKUP(B12,MAPPING!$C$3:$J$131,8,0),'CFBG New Line Form'!$G$7:$EQ$7,0)),""))
B13: Supplier ordering code (if different from above) | D13: =IF(IFERROR(INDEX('CFBG New Line Form'!$G$9:$EQ$105,MATCH(D11,'CFBG New Line Form'!$B$9:$B$105,0),MATCH(VLOOKUP(B13,MAPPING!$C$3:$J$131,8,0),'CFBG New Line Form'!$G$7:$EQ$7,0)),"")=0,"",IFERROR(INDEX('CFBG New Line Form'!$G$9:$EQ$105,MATCH(D11,'CFBG New Line Form'!$B$9:$B$105,0),MATCH(VLOOKUP(B13,MAPPING!$C$3:$J$131,8,0),'CFBG New Line Form'!$G$7:$EQ$7,0)),""))
A14: 1.03 | B14: Product Category | D14: =IF(IFERROR(INDEX('CFBG New Line Form'!$G$9:$EQ$105,MATCH(D11,'CFBG New Line Form'!$B$9:$B$105,0),MATCH(VLOOKUP(B14,MAPPING!$C$3:$J$131,8,0),'CFBG New Line Form'!$G$7:$EQ$7,0)),"")=0,"",IFERROR(INDEX('CFBG New Line Form'!$G$9:$EQ$105,MATCH(D11,'CFBG New Line Form'!$B$9:$B$105,0),MATCH(VLOOKUP(B14,MAPPING!$C$3:$J$131,8,0),'CFBG New Line Form'!$G$7:$EQ$7,0)),""))
A15: 1.04 | B15: Product Brand | D15: =IF(IFERROR(INDEX('CFBG New Line Form'!$G$9:$EQ$105,MATCH(D11,'CFBG New Line Form'!$B$9:$B$105,0),MATCH(VLOOKUP(B15,MAPPING!$C$3:$J$131,8,0),'CFBG New Line Form'!$G$7:$EQ$7,0)),"")=0,"",IFERROR(INDEX('CFBG New Line Form'!$G$9:$EQ$105,MATCH(D11,'CFBG New Line Form'!$B$9:$B$105,0),MATCH(VLOOKUP(B15,MAPPING!$C$3:$J$131,8,0),'CFBG New Line Form'!$G$7:$EQ$7,0)),""))
A17: 1.05 | B17: Packs in case | D17: =IF(IFERROR(INDEX('CFBG New Line Form'!$G$9:$EQ$105,MATCH(D11,'CFBG New Line Form'!$B$9:$B$105,0),MATCH(VLOOKUP(B17,MAPPING!$C$3:$J$131,8,0),'CFBG New Line Form'!$G$7:$EQ$7,0)),"")=0,"",IFERROR(INDEX('CFBG New Line Form'!$G$9:$EQ$105,MATCH(D11,'CFBG New Line Form'!$B$9:$B$105,0),MATCH(VLOOKUP(B17,MAPPING!$C$3:$J$131,8,0),'CFBG New Line Form'!$G$7:$EQ$7,0)),"")) | E17: Units in Pack | G17: =IF(IFERROR(INDEX('CFBG New Line Form'!$G$9:$EQ$105,MATCH(D11,'CFBG New Line Form'!$B$9:$B$105,0),MATCH(VLOOKUP(E17,MAPPING!$C$3:$J$131,8,0),'CFBG New Line Form'!$G$7:$EQ$7,0)),"")=0,"",IFERROR(INDEX('CFBG New Line Form'!$G$9:$EQ$105,MATCH(D11,'CFBG New Line Form'!$B$9:$B$105,0),MATCH(VLOOKUP(E17,MAPPING!$C$3:$J$131,8,0),'CFBG New Line Form'!$G$7:$EQ$7,0)),""))
A18: 1.06 | B18: Unit Size | D18: =IF(IFERROR(INDEX('CFBG New Line Form'!$G$9:$EQ$105,MATCH(D11,'CFBG New Line Form'!$B$9:$B$105,0),MATCH(VLOOKUP(B18,MAPPING!$C$3:$J$131,8,0),'CFBG New Line Form'!$G$7:$EQ$7,0)),"")=0,"",IFERROR(INDEX('CFBG New Line Form'!$G$9:$EQ$105,MATCH(D11,'CFBG New Line Form'!$B$9:$B$105,0),MATCH(VLOOKUP(B18,MAPPING!$C$3:$J$131,8,0),'CFBG New Line Form'!$G$7:$EQ$7,0)),"")) | E18: Unit of Measure | G18: =IF(IFERROR(INDEX('CFBG New Line Form'!$G$9:$EQ$105,MATCH(D11,'CFBG New Line Form'!$B$9:$B$105,0),MATCH(VLOOKUP(E18,MAPPING!$C$3:$J$131,8,0),'CFBG New Line Form'!$G$7:$EQ$7,0)),"")=0,"",IFERROR(INDEX('CFBG New Line Form'!$G$9:$EQ$105,MATCH(D11,'CFBG New Line Form'!$B$9:$B$105,0),MATCH(VLOOKUP(E18,MAPPING!$C$3:$J$131,8,0),'CFBG New Line Form'!$G$7:$EQ$7,0)),""))
A19: 1.07 | B19: Layers per Pallet | D19: =IF(IFERROR(INDEX('CFBG New Line Form'!$G$9:$EQ$105,MATCH(D11,'CFBG New Line Form'!$B$9:$B$105,0),MATCH(VLOOKUP(B19,MAPPING!$C$3:$J$131,8,0),'CFBG New Line Form'!$G$7:$EQ$7,0)),"")=0,"",IFERROR(INDEX('CFBG New Line Form'!$G$9:$EQ$105,MATCH(D11,'CFBG New Line Form'!$B$9:$B$105,0),MATCH(VLOOKUP(B19,MAPPING!$C$3:$J$131,8,0),'CFBG New Line Form'!$G$7:$EQ$7,0)),"")) | E19: Cases per Layer | G19: =IF(IFERROR(INDEX('CFBG New Line Form'!$G$9:$EQ$105,MATCH(D11,'CFBG New Line Form'!$B$9:$B$105,0),MATCH(VLOOKUP(E19,MAPPING!$C$3:$J$131,8,0),'CFBG New Line Form'!$G$7:$EQ$7,0)),"")=0,"",IFERROR(INDEX('CFBG New Line Form'!$G$9:$EQ$105,MATCH(D11,'CFBG New Line Form'!$B$9:$B$105,0),MATCH(VLOOKUP(E19,MAPPING!$C$3:$J$131,8,0),'CFBG New Line Form'!$G$7:$EQ$7,0)),""))
A20: 1.08 | B20: Confirm Euro Pallets not used | D20: =IF(IFERROR(INDEX('CFBG New Line Form'!$G$9:$EQ$105,MATCH(D11,'CFBG New Line Form'!$B$9:$B$105,0),MATCH(VLOOKUP(B20,MAPPING!$C$3:$J$131,8,0),'CFBG New Line Form'!$G$7:$EQ$7,0)),"")=0,"",IFERROR(INDEX('CFBG New Line Form'!$G$9:$EQ$105,MATCH(D11,'CFBG New Line Form'!$B$9:$B$105,0),MATCH(VLOOKUP(B20,MAPPING!$C$3:$J$131,8,0),'CFBG New Line Form'!$G$7:$EQ$7,0)),""))
A21: 1.09 | B21: Case Size in MM | D21: Height | E21: =IF(IFERROR(INDEX('CFBG New Line Form'!$G$9:$EQ$105,MATCH(D11,'CFBG New Line Form'!$B$9:$B$105,0),MATCH(VLOOKUP(D21,MAPPING!$C$3:$J$131,8,0),'CFBG New Line Form'!$G$7:$EQ$7,0))*100,"")=0,"",IFERROR(INDEX('CFBG New Line Form'!$G$9:$EQ$105,MATCH(D11,'CFBG New Line Form'!$B$9:$B$105,0),MATCH(VLOOKUP(D21,MAPPING!$C$3:$J$131,8,0),'CFBG New Line Form'!$G$7:$EQ$7,0))*100,"")) | F21: Width | G21: =IF(IFERROR(INDEX('CFBG New Line Form'!$G$9:$EQ$105,MATCH(D11,'CFBG New Line Form'!$B$9:$B$105,0),MATCH(VLOOKUP(F21,MAPPING!$C$3:$J$131,8,0),'CFBG New Line Form'!$G$7:$EQ$7,0))*100,"")=0,"",IFERROR(INDEX('CFBG New Line Form'!$G$9:$EQ$105,MATCH(D11,'CFBG New Line Form'!$B$9:$B$105,0),MATCH(VLOOKUP(F21,MAPPING!$C$3:$J$131,8,0),'CFBG New Line Form'!$G$7:$EQ$7,0))*100,""))
D22: Length | E22: =IF(IFERROR(INDEX('CFBG New Line Form'!$G$9:$EQ$105,MATCH(D11,'CFBG New Line Form'!$B$9:$B$105,0),MATCH(VLOOKUP(D22,MAPPING!$C$3:$J$131,8,0),'CFBG New Line Form'!$G$7:$EQ$7,0))*100,"")=0,"",IFERROR(INDEX('CFBG New Line Form'!$G$9:$EQ$105,MATCH(D11,'CFBG New Line Form'!$B$9:$B$105,0),MATCH(VLOOKUP(D22,MAPPING!$C$3:$J$131,8,0),'CFBG New Line Form'!$G$7:$EQ$7,0))*100,"")) | F22: Weight (KG) | G22: =IF(IFERROR(INDEX('CFBG New Line Form'!$G$9:$EQ$105,MATCH(D11,'CFBG New Line Form'!$B$9:$B$105,0),MATCH(VLOOKUP(F22,MAPPING!$C$3:$J$131,8,0),'CFBG New Line Form'!$G$7:$EQ$7,0)),"")=0,"",IFERROR(INDEX('CFBG New Line Form'!$G$9:$EQ$105,MATCH(D11,'CFBG New Line Form'!$B$9:$B$105,0),MATCH(VLOOKUP(F22,MAPPING!$C$3:$J$131,8,0),'CFBG New Line Form'!$G$7:$EQ$7,0)),""))
A24: 1.1 | B24: Shelf Life upon Delivery | D24: =IF(IFERROR(INDEX('CFBG New Line Form'!$G$9:$EQ$105,MATCH(D11,'CFBG New Line Form'!$B$9:$B$105,0),MATCH(VLOOKUP(B24,MAPPING!$C$3:$J$131,8,0),'CFBG New Line Form'!$G$7:$EQ$7,0)),"")=0,"",IFERROR(INDEX('CFBG New Line Form'!$G$9:$EQ$105,MATCH(D11,'CFBG New Line Form'!$B$9:$B$105,0),MATCH(VLOOKUP(B24,MAPPING!$C$3:$J$131,8,0),'CFBG New Line Form'!$G$7:$EQ$7,0)),"")) | E24: Number of: | F24: =IF(D24="","","Days")
A25: 1.11 | B25: Weighted Product Y/N | D25: =IF(IFERROR(INDEX('CFBG New Line Form'!$G$9:$EQ$105,MATCH(D11,'CFBG New Line Form'!$B$9:$B$105,0),MATCH(VLOOKUP(B25,MAPPING!$C$3:$J$131,8,0),'CFBG New Line Form'!$G$7:$EQ$7,0)),"")=0,"",IFERROR(INDEX('CFBG New Line Form'!$G$9:$EQ$105,MATCH(D11,'CFBG New Line Form'!$B$9:$B$105,0),MATCH(VLOOKUP(B25,MAPPING!$C$3:$J$131,8,0),'CFBG New Line Form'!$G$7:$EQ$7,0)),"")) | E25: Average Weight (KG) | G25: =IF(IF(D25="No","N/A", IF(D25="Yes",IFERROR(INDEX('CFBG New Line Form'!$G$9:$EQ$105,MATCH(D11,'CFBG New Line Form'!$B$9:$B$105,0),MATCH(VLOOKUP(E25,MAPPING!$C$3:$J$131,8,0),'CFBG New Line Form'!$G$7:$EQ$7,0)),""),""))=0,"",IF(D25="No","N/A", IF(D25="Yes",IFERROR(INDEX('CFBG New Line Form'!$G$9:$EQ$105,MATCH(D11,'CFBG New Line Form'!$B$9:$B$105,0),MATCH(VLOOKUP(E25,MAPPING!$C$3:$J$131,8,0),'CFBG New Line Form'!$G$7:$EQ$7,0)),""),"")))
A26: 1.12 | B26: Minimum Order Quantity | D26: Pallets | E26: =IF(IFERROR(INDEX('CFBG New Line Form'!$G$9:$EQ$105,MATCH(D11,'CFBG New Line Form'!$B$9:$B$105,0),MATCH(VLOOKUP(D26,MAPPING!$C$3:$J$131,8,0),'CFBG New Line Form'!$G$7:$EQ$7,0)),"")=0,"",IFERROR(INDEX('CFBG New Line Form'!$G$9:$EQ$105,MATCH(D11,'CFBG New Line Form'!$B$9:$B$105,0),MATCH(VLOOKUP(D26,MAPPING!$C$3:$J$131,8,0),'CFBG New Line Form'!$G$7:$EQ$7,0)),"")) | F26: Cases | G26: =IF(IFERROR(INDEX('CFBG New Line Form'!$G$9:$EQ$105,MATCH(D11,'CFBG New Line Form'!$B$9:$B$105,0),MATCH(VLOOKUP(F26,MAPPING!$C$3:$J$131,8,0),'CFBG New Line Form'!$G$7:$EQ$7,0)),"")=0,"",IFERROR(INDEX('CFBG New Line Form'!$G$9:$EQ$105,MATCH(D11,'CFBG New Line Form'!$B$9:$B$105,0),MATCH(VLOOKUP(F26,MAPPING!$C$3:$J$131,8,0),'CFBG New Line Form'!$G$7:$EQ$7,0)),""))
A27: 1.13 | B27: Minimum Order Value | D27: GBP | E27: =IF(IFERROR(INDEX('CFBG New Line Form'!$G$9:$EQ$105,MATCH(D11,'CFBG New Line Form'!$B$9:$B$105,0),MATCH(VLOOKUP(D27,MAPPING!$C$3:$J$131,8,0),'CFBG New Line Form'!$G$7:$EQ$7,0)),"")=0,"",IFERROR(INDEX('CFBG New Line Form'!$G$9:$EQ$105,MATCH(D11,'CFBG New Line Form'!$B$9:$B$105,0),MATCH(VLOOKUP(D27,MAPPING!$C$3:$J$131,8,0),'CFBG New Line Form'!$G$7:$EQ$7,0)),""))
A29: 1.14 | B29: Barcode GTIN (Outer Case) | D29: =IF(IFERROR(INDEX('CFBG New Line Form'!$G$9:$EQ$105,MATCH(D11,'CFBG New Line Form'!$B$9:$B$105,0),MATCH(VLOOKUP(B29,MAPPING!$C$3:$J$131,8,0),'CFBG New Line Form'!$G$7:$EQ$7,0)),"")=0,"",IFERROR(INDEX('CFBG New Line Form'!$G$9:$EQ$105,MATCH(D11,'CFBG New Line Form'!$B$9:$B$105,0),MATCH(VLOOKUP(B29,MAPPING!$C$3:$J$131,8,0),'CFBG New Line Form'!$G$7:$EQ$7,0)),""))
A30: 1.15 | B30: Barcode GTIN (Inner Pack) | D30: =IF(IFERROR(INDEX('CFBG New Line Form'!$G$9:$EQ$105,MATCH(D11,'CFBG New Line Form'!$B$9:$B$105,0),MATCH(VLOOKUP(B30,MAPPING!$C$3:$J$131,8,0),'CFBG New Line Form'!$G$7:$EQ$7,0)),"")=0,"",IFERROR(INDEX('CFBG New Line Form'!$G$9:$EQ$105,MATCH(D11,'CFBG New Line Form'!$B$9:$B$105,0),MATCH(VLOOKUP(B30,MAPPING!$C$3:$J$131,8,0),'CFBG New Line Form'!$G$7:$EQ$7,0)),""))
A32: 1.16 | B32: Standard Invoice Cost per Case (£000.00) | D32: =IF(IFERROR(INDEX('CFBG New Line Form'!$G$9:$EQ$105,MATCH(D11,'CFBG New Line Form'!$B$9:$B$105,0),MATCH(VLOOKUP(B32,MAPPING!$C$3:$J$131,8,0),'CFBG New Line Form'!$G$7:$EQ$7,0)),"")=0,"",IFERROR(INDEX('CFBG New Line Form'!$G$9:$EQ$105,MATCH(D11,'CFBG New Line Form'!$B$9:$B$105,0),MATCH(VLOOKUP(B32,MAPPING!$C$3:$J$131,8,0),'CFBG New Line Form'!$G$7:$EQ$7,0)),""))
A33: 1.17 | B33: Net Cost per Case (£000.00) | D33: =IF(IFERROR(INDEX('CFBG New Line Form'!$G$9:$EQ$105,MATCH(D11,'CFBG New Line Form'!$B$9:$B$105,0),MATCH(VLOOKUP(B33,MAPPING!$C$3:$J$131,8,0),'CFBG New Line Form'!$G$7:$EQ$7,0)),"")=0,"",IFERROR(INDEX('CFBG New Line Form'!$G$9:$EQ$105,MATCH(D11,'CFBG New Line Form'!$B$9:$B$105,0),MATCH(VLOOKUP(B33,MAPPING!$C$3:$J$131,8,0),'CFBG New Line Form'!$G$7:$EQ$7,0)),""))
A34: 1.18 | B34: VAT Rate (1 = Zero / 2 = Reduced/Partial / 3 = Standard) | D34: =IF(IFERROR(INDEX('CFBG New Line Form'!$G$9:$EQ$105,MATCH(D11,'CFBG New Line Form'!$B$9:$B$105,0),MATCH(VLOOKUP(B34,MAPPING!$C$3:$J$131,8,0),'CFBG New Line Form'!$G$7:$EQ$7,0)),"")=0,"",IFERROR(INDEX('CFBG New Line Form'!$G$9:$EQ$105,MATCH(D11,'CFBG New Line Form'!$B$9:$B$105,0),MATCH(VLOOKUP(B34,MAPPING!$C$3:$J$131,8,0),'CFBG New Line Form'!$G$7:$EQ$7,0)),""))
A36: 1.19 | B36: I confirm specification will be sent with NLF | D36: =IF(IFERROR(INDEX('CFBG New Line Form'!$G$9:$EQ$105,MATCH(D11,'CFBG New Line Form'!$B$9:$B$105,0),MATCH(VLOOKUP(B36,MAPPING!$C$3:$J$131,8,0),'CFBG New Line Form'!$G$7:$EQ$7,0)),"")=0,"",IFERROR(INDEX('CFBG New Line Form'!$G$9:$EQ$105,MATCH(D11,'CFBG New Line Form'!$B$9:$B$105,0),MATCH(VLOOKUP(B36,MAPPING!$C$3:$J$131,8,0),'CFBG New Line Form'!$G$7:$EQ$7,0)),""))
A37: 1.2 | B37: Is this product on Erudus | D37: =IF(IFERROR(INDEX('CFBG New Line Form'!$G$9:$EQ$105,MATCH(D11,'CFBG New Line Form'!$B$9:$B$105,0),MATCH(VLOOKUP(B37,MAPPING!$C$3:$J$131,8,0),'CFBG New Line Form'!$G$7:$EQ$7,0)),"")=0,"",IFERROR(INDEX('CFBG New Line Form'!$G$9:$EQ$105,MATCH(D11,'CFBG New Line Form'!$B$9:$B$105,0),MATCH(VLOOKUP(B37,MAPPING!$C$3:$J$131,8,0),'CFBG New Line Form'!$G$7:$EQ$7,0)),""))
A38: 1.21 | B38: If no I confirm we will complete all data on OPRI - Cimandis data system | D38: =IF(IFERROR(INDEX('CFBG New Line Form'!$G$9:$EQ$105,MATCH(D11,'CFBG New Line Form'!$B$9:$B$105,0),MATCH(VLOOKUP(B38,MAPPING!$C$3:$J$131,8,0),'CFBG New Line Form'!$G$7:$EQ$7,0)),"")=0,"",IFERROR(INDEX('CFBG New Line Form'!$G$9:$EQ$105,MATCH(D11,'CFBG New Line Form'!$B$9:$B$105,0),MATCH(VLOOKUP(B38,MAPPING!$C$3:$J$131,8,0),'CFBG New Line Form'!$G$7:$EQ$7,0)),"")) | E38: Email address to be registered on OPRI | G38: =IF(IFERROR(INDEX('CFBG New Line Form'!$G$9:$EQ$105,MATCH(D11,'CFBG New Line Form'!$B$9:$B$105,0),MATCH(VLOOKUP(E38,MAPPING!$C$3:$J$131,8,0),'CFBG New Line Form'!$G$7:$EQ$7,0)),"")=0,"",IFERROR(INDEX('CFBG New Line Form'!$G$9:$EQ$105,MATCH(D11,'CFBG New Line Form'!$B$9:$B$105,0),MATCH(VLOOKUP(E38,MAPPING!$C$3:$J$131,8,0),'CFBG New Line Form'!$G$7:$EQ$7,0)),""))
A39: 1.22 | B39: I confirm minimum of 1 pack shot image will be sent with NLF | D39: =IF(IFERROR(INDEX('CFBG New Line Form'!$G$9:$EQ$105,MATCH(D11,'CFBG New Line Form'!$B$9:$B$105,0),MATCH(VLOOKUP(B39,MAPPING!$C$3:$J$131,8,0),'CFBG New Line Form'!$G$7:$EQ$7,0)),"")=0,"",IFERROR(INDEX('CFBG New Line Form'!$G$9:$EQ$105,MATCH(D11,'CFBG New Line Form'!$B$9:$B$105,0),MATCH(VLOOKUP(B39,MAPPING!$C$3:$J$131,8,0),'CFBG New Line Form'!$G$7:$EQ$7,0)),""))
G40: Date
A41: 1.23 | B41: Form Completed By | C41: Name | D41: =IF(IFERROR(INDEX('CFBG New Line Form'!$G$9:$EQ$105,MATCH(D11,'CFBG New Line Form'!$B$9:$B$105,0),MATCH(VLOOKUP(C41,MAPPING!$C$3:$J$131,8,0),'CFBG New Line Form'!$G$7:$EQ$7,0)),"")=0,"",IFERROR(INDEX('CFBG New Line Form'!$G$9:$EQ$105,MATCH(D11,'CFBG New Line Form'!$B$9:$B$105,0),MATCH(VLOOKUP(C41,MAPPING!$C$3:$J$131,8,0),'CFBG New Line Form'!$G$7:$EQ$7,0)),"")) | G41: =IF(IFERROR(INDEX('CFBG New Line Form'!$G$9:$EQ$105,MATCH(D11,'CFBG New Line Form'!$B$9:$B$105,0),MATCH(VLOOKUP(G40,MAPPING!$C$3:$J$131,8,0),'CFBG New Line Form'!$G$7:$EQ$7,0)),"")=0,"",IFERROR(INDEX('CFBG New Line Form'!$G$9:$EQ$105,MATCH(D11,'CFBG New Line Form'!$B$9:$B$105,0),MATCH(VLOOKUP(G40,MAPPING!$C$3:$J$131,8,0),'CFBG New Line Form'!$G$7:$EQ$7,0)),""))
A44: Section B | B44: For Cimandis LTD only:
A45: 2.01.02 | B45: Toxic | E45: Split Surcharge
A46: 2.03.04 | B46: Minimum accepted Shelf Life | E46: Number of:
A47: 2.05.06 | B47: Order in multiples of? | E47: Back to Back?
A48: 2.07 | B48: Pallet Rounding? | E48: Online Availibilty

Sheet Caterfood SW
A1: Caterfood (SW) Ltd
A3: NEW PRODUCT LISTING FORM
B5: Supplier Name: | C5: =IF(IFERROR(INDEX('CFBG New Line Form'!$G$9:$EQ$105,MATCH(C11,'CFBG New Line Form'!$B$9:$B$105,0),MATCH(VLOOKUP(B5,MAPPING!$B$3:$J$131,9,0),'CFBG New Line Form'!$G$7:$EQ$7,0)),"")=0,"", IFERROR(INDEX('CFBG New Line Form'!$G$9:$EQ$105,MATCH(C11,'CFBG New Line Form'!$B$9:$B$105,0),MATCH(VLOOKUP(B5,MAPPING!$B$3:$J$131,9,0),'CFBG New Line Form'!$G$7:$EQ$7,0)),""))
B7: Supplier Code (CF SW): | G7: Date: | I7: =IF(IFERROR(INDEX('CFBG New Line Form'!$G$9:$EQ$105,MATCH(C11,'CFBG New Line Form'!$B$9:$B$105,0),MATCH(VLOOKUP(G7,MAPPING!$B$3:$J$131,9,0),'CFBG New Line Form'!$G$7:$EQ$7,0)),"")=0,"",IFERROR(INDEX('CFBG New Line Form'!$G$9:$EQ$105,MATCH(C11,'CFBG New Line Form'!$B$9:$B$105,0),MATCH(VLOOKUP(G7,MAPPING!$B$3:$J$131,9,0),'CFBG New Line Form'!$G$7:$EQ$7,0)),""))
B9: Supplier Product Code: | C9: =IF( IFERROR(INDEX('CFBG New Line Form'!$C$9:$EQ$105,MATCH(C11,'CFBG New Line Form'!$B$9:$B$105,0),MATCH(VLOOKUP(B9,MAPPING!$B$3:$J$131,9,0),'CFBG New Line Form'!$G$7:$EQ$7,0)),"")=0, "", IFERROR(INDEX('CFBG New Line Form'!$C$9:$EQ$105,MATCH(C11,'CFBG New Line Form'!$B$9:$B$105,0),MATCH(VLOOKUP(B9,MAPPING!$B$3:$J$131,9,0),'CFBG New Line Form'!$G$7:$EQ$7,0)),"") )
B11: Product Description:
B12: (As appears on Label)
B14: Full Description: | C14: =IF(IFERROR(INDEX('CFBG New Line Form'!$G$9:$EQ$105,MATCH(C11,'CFBG New Line Form'!$B$9:$B$105,0),MATCH(VLOOKUP(B14,MAPPING!$B$3:$J$131,9,0),'CFBG New Line Form'!$G$7:$EQ$7,0)),"")=0,"",IFERROR(INDEX('CFBG New Line Form'!$G$9:$EQ$105,MATCH(C11,'CFBG New Line Form'!$B$9:$B$105,0),MATCH(VLOOKUP(B14,MAPPING!$B$3:$J$131,9,0),'CFBG New Line Form'!$G$7:$EQ$7,0)),""))
C18: Shelf Life On Production: | D18: =IF(IFERROR(INDEX('CFBG New Line Form'!$G$9:$EQ$105,MATCH(C11,'CFBG New Line Form'!$B$9:$B$105,0),MATCH(VLOOKUP(C18,MAPPING!$B$3:$J$131,9,0),'CFBG New Line Form'!$G$7:$EQ$7,0)),"")=0,"",IFERROR(INDEX('CFBG New Line Form'!$G$9:$EQ$105,MATCH(C11,'CFBG New Line Form'!$B$9:$B$105,0),MATCH(VLOOKUP(C18,MAPPING!$B$3:$J$131,9,0),'CFBG New Line Form'!$G$7:$EQ$7,0)),"")) | I18: Shelf Life On Delivery: | J18: =IF(IFERROR(INDEX('CFBG New Line Form'!$G$9:$EQ$105,MATCH(C11,'CFBG New Line Form'!$B$9:$B$105,0),MATCH(VLOOKUP(I18,MAPPING!$B$3:$J$131,9,0),'CFBG New Line Form'!$G$7:$EQ$7,0)),"")=0,"",IFERROR(INDEX('CFBG New Line Form'!$G$9:$EQ$105,MATCH(C11,'CFBG New Line Form'!$B$9:$B$105,0),MATCH(VLOOKUP(I18,MAPPING!$B$3:$J$131,9,0),'CFBG New Line Form'!$G$7:$EQ$7,0)),""))
C20: Outer Case: | D20: =IF(C11="","",1) | G20: Inner Case: | I20: =IF(IFERROR(INDEX('CFBG New Line Form'!$G$9:$EQ$105,MATCH(C11,'CFBG New Line Form'!$B$9:$B$105,0),MATCH(VLOOKUP(G20,MAPPING!$B$3:$J$131,9,0),'CFBG New Line Form'!$G$7:$EQ$7,0)),"")=0,"",IFERROR(INDEX('CFBG New Line Form'!$G$9:$EQ$105,MATCH(C11,'CFBG New Line Form'!$B$9:$B$105,0),MATCH(VLOOKUP(G20,MAPPING!$B$3:$J$131,9,0),'CFBG New Line Form'!$G$7:$EQ$7,0)),""))
C22: Outer Invoice Cost: | D22: =IF(IFERROR(INDEX('CFBG New Line Form'!$G$9:$EQ$105,MATCH(C11,'CFBG New Line Form'!$B$9:$B$105,0),MATCH(VLOOKUP(C22,MAPPING!$B$3:$J$131,9,0),'CFBG New Line Form'!$G$7:$EQ$7,0)),"")=0,"",IFERROR(INDEX('CFBG New Line Form'!$G$9:$EQ$105,MATCH(C11,'CFBG New Line Form'!$B$9:$B$105,0),MATCH(VLOOKUP(C22,MAPPING!$B$3:$J$131,9,0),'CFBG New Line Form'!$G$7:$EQ$7,0)),"")) | G22: Inner Cost: | I22: =IF(IFERROR(INDEX('CFBG New Line Form'!$G$9:$EQ$105,MATCH(C11,'CFBG New Line Form'!$B$9:$B$105,0),MATCH(VLOOKUP(G22,MAPPING!$B$3:$J$131,9,0),'CFBG New Line Form'!$G$7:$EQ$7,0)),"")=0,"",IFERROR(INDEX('CFBG New Line Form'!$G$9:$EQ$105,MATCH(C11,'CFBG New Line Form'!$B$9:$B$105,0),MATCH(VLOOKUP(G22,MAPPING!$B$3:$J$131,9,0),'CFBG New Line Form'!$G$7:$EQ$7,0)),""))
C24: Cases per Layer: | D24: =IF(IFERROR(INDEX('CFBG New Line Form'!$G$9:$EQ$105,MATCH(C11,'CFBG New Line Form'!$B$9:$B$105,0),MATCH(VLOOKUP(C24,MAPPING!$B$3:$J$131,9,0),'CFBG New Line Form'!$G$7:$EQ$7,0)),"")=0,"",IFERROR(INDEX('CFBG New Line Form'!$G$9:$EQ$105,MATCH(C11,'CFBG New Line Form'!$B$9:$B$105,0),MATCH(VLOOKUP(C24,MAPPING!$B$3:$J$131,9,0),'CFBG New Line Form'!$G$7:$EQ$7,0)),"")) | F24: Layers per Pallet: | G24: =IF(IFERROR(INDEX('CFBG New Line Form'!$G$9:$EQ$105,MATCH(C11,'CFBG New Line Form'!$B$9:$B$105,0),MATCH(VLOOKUP(F24,MAPPING!$B$3:$J$131,9,0),'CFBG New Line Form'!$G$7:$EQ$7,0)),"")=0,"",IFERROR(INDEX('CFBG New Line Form'!$G$9:$EQ$105,MATCH(C11,'CFBG New Line Form'!$B$9:$B$105,0),MATCH(VLOOKUP(F24,MAPPING!$B$3:$J$131,9,0),'CFBG New Line Form'!$G$7:$EQ$7,0)),"")) | J24: Cases per Pallet: | K24: =IF(IFERROR(INDEX('CFBG New Line Form'!$G$9:$EQ$105,MATCH(C11,'CFBG New Line Form'!$B$9:$B$105,0),MATCH(VLOOKUP(J24,MAPPING!$B$3:$J$131,9,0),'CFBG New Line Form'!$G$7:$EQ$7,0)),"")=0,"",IFERROR(INDEX('CFBG New Line Form'!$G$9:$EQ$105,MATCH(C11,'CFBG New Line Form'!$B$9:$B$105,0),MATCH(VLOOKUP(J24,MAPPING!$B$3:$J$131,9,0),'CFBG New Line Form'!$G$7:$EQ$7,0)),""))
C26: Pallet Weight: | D26: =IF(IFERROR(INDEX('CFBG New Line Form'!$G$9:$EQ$105,MATCH(C11,'CFBG New Line Form'!$B$9:$B$105,0),MATCH(VLOOKUP(C26,MAPPING!$B$3:$J$131,9,0),'CFBG New Line Form'!$G$7:$EQ$7,0)),"")=0,"",IFERROR(INDEX('CFBG New Line Form'!$G$9:$EQ$105,MATCH(C11,'CFBG New Line Form'!$B$9:$B$105,0),MATCH(VLOOKUP(C26,MAPPING!$B$3:$J$131,9,0),'CFBG New Line Form'!$G$7:$EQ$7,0)),"")) | F26: Pallet Height: | G26: =IF(IFERROR(INDEX('CFBG New Line Form'!$G$9:$EQ$105,MATCH(C11,'CFBG New Line Form'!$B$9:$B$105,0),MATCH(VLOOKUP(F26,MAPPING!$B$3:$J$131,9,0),'CFBG New Line Form'!$G$7:$EQ$7,0)),"")=0,"",IFERROR(INDEX('CFBG New Line Form'!$G$9:$EQ$105,MATCH(C11,'CFBG New Line Form'!$B$9:$B$105,0),MATCH(VLOOKUP(F26,MAPPING!$B$3:$J$131,9,0),'CFBG New Line Form'!$G$7:$EQ$7,0)),"")) | J26: Minimum Order: | K26: =IF(IFERROR(INDEX('CFBG New Line Form'!$G$9:$EQ$105,MATCH(C11,'CFBG New Line Form'!$B$9:$B$105,0),MATCH(VLOOKUP(J26,MAPPING!$B$3:$J$131,9,0),'CFBG New Line Form'!$G$7:$EQ$7,0)),"")=0,"",IFERROR(INDEX('CFBG New Line Form'!$G$9:$EQ$105,MATCH(C11,'CFBG New Line Form'!$B$9:$B$105,0),MATCH(VLOOKUP(J26,MAPPING!$B$3:$J$131,9,0),'CFBG New Line Form'!$G$7:$EQ$7,0)),""))
C28: Barcode: | D28: =IF(IFERROR(INDEX('CFBG New Line Form'!$G$9:$EQ$105,MATCH(C11,'CFBG New Line Form'!$B$9:$B$105,0),MATCH(VLOOKUP(C28,MAPPING!$B$3:$J$131,9,0),'CFBG New Line Form'!$G$7:$EQ$7,0)),"")=0,"",IFERROR(INDEX('CFBG New Line Form'!$G$9:$EQ$105,MATCH(C11,'CFBG New Line Form'!$B$9:$B$105,0),MATCH(VLOOKUP(C28,MAPPING!$B$3:$J$131,9,0),'CFBG New Line Form'!$G$7:$EQ$7,0)),"")) | G28: EAN Code: | I28: =IF(IFERROR(INDEX('CFBG New Line Form'!$G$9:$EQ$105,MATCH(C11,'CFBG New Line Form'!$B$9:$B$105,0),MATCH(VLOOKUP(G28,MAPPING!$B$3:$J$131,9,0),'CFBG New Line Form'!$G$7:$EQ$7,0)),"")=0,"",IFERROR(INDEX('CFBG New Line Form'!$G$9:$EQ$105,MATCH(C11,'CFBG New Line Form'!$B$9:$B$105,0),MATCH(VLOOKUP(G28,MAPPING!$B$3:$J$131,9,0),'CFBG New Line Form'!$G$7:$EQ$7,0)),""))
C30: Vatable: | D30: =IF(IFERROR(INDEX('CFBG New Line Form'!$G$9:$EQ$105,MATCH(C11,'CFBG New Line Form'!$B$9:$B$105,0),MATCH(VLOOKUP(C30,MAPPING!$B$3:$J$131,9,0),'CFBG New Line Form'!$G$7:$EQ$7,0)),"")=0,"",IFERROR(INDEX('CFBG New Line Form'!$G$9:$EQ$105,MATCH(C11,'CFBG New Line Form'!$B$9:$B$105,0),MATCH(VLOOKUP(C30,MAPPING!$B$3:$J$131,9,0),'CFBG New Line Form'!$G$7:$EQ$7,0)),"")) | G30: VAT Rate: | I30: =IF(IFERROR(INDEX('CFBG New Line Form'!$G$9:$EQ$105,MATCH(C11,'CFBG New Line Form'!$B$9:$B$105,0),MATCH(VLOOKUP(G30,MAPPING!$B$3:$J$131,9,0),'CFBG New Line Form'!$G$7:$EQ$7,0)),"")=0,"",IFERROR(INDEX('CFBG New Line Form'!$G$9:$EQ$105,MATCH(C11,'CFBG New Line Form'!$B$9:$B$105,0),MATCH(VLOOKUP(G30,MAPPING!$B$3:$J$131,9,0),'CFBG New Line Form'!$G$7:$EQ$7,0)),""))
B33: Cooking / Defrost | C33: =IF(IFERROR(INDEX('CFBG New Line Form'!$G$9:$EQ$105,MATCH(C11,'CFBG New Line Form'!$B$9:$B$105,0),MATCH(VLOOKUP(B33,MAPPING!$B$3:$J$131,9,0),'CFBG New Line Form'!$G$7:$EQ$7,0)),"")=0,"",IFERROR(INDEX('CFBG New Line Form'!$G$9:$EQ$105,MATCH(C11,'CFBG New Line Form'!$B$9:$B$105,0),MATCH(VLOOKUP(B33,MAPPING!$B$3:$J$131,9,0),'CFBG New Line Form'!$G$7:$EQ$7,0)),""))
B34: Instructions
B39: Suitable For: | G39: Product Contains:
C41: Vegetarians: | E41: =IF(IFERROR(INDEX('CFBG New Line Form'!$G$9:$EQ$105,MATCH(C11,'CFBG New Line Form'!$B$9:$B$105,0),MATCH(VLOOKUP(C41,MAPPING!$B$3:$J$131,9,0),'CFBG New Line Form'!$G$7:$EQ$7,0)),"")=0,"",IFERROR(INDEX('CFBG New Line Form'!$G$9:$EQ$105,MATCH(C11,'CFBG New Line Form'!$B$9:$B$105,0),MATCH(VLOOKUP(C41,MAPPING!$B$3:$J$131,9,0),'CFBG New Line Form'!$G$7:$EQ$7,0)),"")) | G41: Milk: | H41: =IF(IFERROR(INDEX('CFBG New Line Form'!$G$9:$EQ$105,MATCH(C11,'CFBG New Line Form'!$B$9:$B$105,0),MATCH(VLOOKUP(G41,MAPPING!$B$3:$J$131,9,0),'CFBG New Line Form'!$G$7:$EQ$7,0)),"")=0,"",IFERROR(INDEX('CFBG New Line Form'!$G$9:$EQ$105,MATCH(C11,'CFBG New Line Form'!$B$9:$B$105,0),MATCH(VLOOKUP(G41,MAPPING!$B$3:$J$131,9,0),'CFBG New Line Form'!$G$7:$EQ$7,0)),"")) | I41: Fish: | K41: =IF(IFERROR(INDEX('CFBG New Line Form'!$G$9:$EQ$105,MATCH(C11,'CFBG New Line Form'!$B$9:$B$105,0),MATCH(VLOOKUP(I41,MAPPING!$B$3:$J$131,9,0),'CFBG New Line Form'!$G$7:$EQ$7,0)),"")=0,"",IFERROR(INDEX('CFBG New Line Form'!$G$9:$EQ$105,MATCH(C11,'CFBG New Line Form'!$B$9:$B$105,0),MATCH(VLOOKUP(I41,MAPPING!$B$3:$J$131,9,0),'CFBG New Line Form'!$G$7:$EQ$7,0)),""))
C43: Vegans: | E43: =IF(IFERROR(INDEX('CFBG New Line Form'!$G$9:$EQ$105,MATCH(C11,'CFBG New Line Form'!$B$9:$B$105,0),MATCH(VLOOKUP(C43,MAPPING!$B$3:$J$131,9,0),'CFBG New Line Form'!$G$7:$EQ$7,0)),"")=0,"",IFERROR(INDEX('CFBG New Line Form'!$G$9:$EQ$105,MATCH(C11,'CFBG New Line Form'!$B$9:$B$105,0),MATCH(VLOOKUP(C43,MAPPING!$B$3:$J$131,9,0),'CFBG New Line Form'!$G$7:$EQ$7,0)),"")) | G43: Eggs: | H43: =IF(IFERROR(INDEX('CFBG New Line Form'!$G$9:$EQ$105,MATCH(C11,'CFBG New Line Form'!$B$9:$B$105,0),MATCH(VLOOKUP(G43,MAPPING!$B$3:$J$131,9,0),'CFBG New Line Form'!$G$7:$EQ$7,0)),"")=0,"",IFERROR(INDEX('CFBG New Line Form'!$G$9:$EQ$105,MATCH(C11,'CFBG New Line Form'!$B$9:$B$105,0),MATCH(VLOOKUP(G43,MAPPING!$B$3:$J$131,9,0),'CFBG New Line Form'!$G$7:$EQ$7,0)),"")) | I43: Shell Fish/Crustaceans | K43: =IF(IFERROR(INDEX('CFBG New Line Form'!$G$9:$EQ$105,MATCH(C11,'CFBG New Line Form'!$B$9:$B$105,0),MATCH(VLOOKUP(I43,MAPPING!$B$3:$J$131,9,0),'CFBG New Line Form'!$G$7:$EQ$7,0)),"")=0,"",IFERROR(INDEX('CFBG New Line Form'!$G$9:$EQ$105,MATCH(C11,'CFBG New Line Form'!$B$9:$B$105,0),MATCH(VLOOKUP(I43,MAPPING!$B$3:$J$131,9,0),'CFBG New Line Form'!$G$7:$EQ$7,0)),""))
C45: Diabetics: | E45: =IF(IFERROR(INDEX('CFBG New Line Form'!$G$9:$EQ$105,MATCH(C11,'CFBG New Line Form'!$B$9:$B$105,0),MATCH(VLOOKUP(C45,MAPPING!$B$3:$J$131,9,0),'CFBG New Line Form'!$G$7:$EQ$7,0)),"")=0,"",IFERROR(INDEX('CFBG New Line Form'!$G$9:$EQ$105,MATCH(C11,'CFBG New Line Form'!$B$9:$B$105,0),MATCH(VLOOKUP(C45,MAPPING!$B$3:$J$131,9,0),'CFBG New Line Form'!$G$7:$EQ$7,0)),"")) | G45: Soya: | H45: =IF(IFERROR(INDEX('CFBG New Line Form'!$G$9:$EQ$105,MATCH(C11,'CFBG New Line Form'!$B$9:$B$105,0),MATCH(VLOOKUP(G45,MAPPING!$B$3:$J$131,9,0),'CFBG New Line Form'!$G$7:$EQ$7,0)),"")=0,"",IFERROR(INDEX('CFBG New Line Form'!$G$9:$EQ$105,MATCH(C11,'CFBG New Line Form'!$B$9:$B$105,0),MATCH(VLOOKUP(G45,MAPPING!$B$3:$J$131,9,0),'CFBG New Line Form'!$G$7:$EQ$7,0)),"")) | I45: Molluscs | K45: =IF(IFERROR(INDEX('CFBG New Line Form'!$G$9:$EQ$105,MATCH(C11,'CFBG New Line Form'!$B$9:$B$105,0),MATCH(VLOOKUP(I45,MAPPING!$B$3:$J$131,9,0),'CFBG New Line Form'!$G$7:$EQ$7,0)),"")=0,"",IFERROR(INDEX('CFBG New Line Form'!$G$9:$EQ$105,MATCH(C11,'CFBG New Line Form'!$B$9:$B$105,0),MATCH(VLOOKUP(I45,MAPPING!$B$3:$J$131,9,0),'CFBG New Line Form'!$G$7:$EQ$7,0)),""))
C47: Coeliacs: | E47: =IF(IFERROR(INDEX('CFBG New Line Form'!$G$9:$EQ$105,MATCH(C11,'CFBG New Line Form'!$B$9:$B$105,0),MATCH(VLOOKUP(C47,MAPPING!$B$3:$J$131,9,0),'CFBG New Line Form'!$G$7:$EQ$7,0)),"")=0,"",IFERROR(INDEX('CFBG New Line Form'!$G$9:$EQ$105,MATCH(C11,'CFBG New Line Form'!$B$9:$B$105,0),MATCH(VLOOKUP(C47,MAPPING!$B$3:$J$131,9,0),'CFBG New Line Form'!$G$7:$EQ$7,0)),"")) | G47: Tree Nuts: | H47: =IF(IFERROR(INDEX('CFBG New Line Form'!$G$9:$EQ$105,MATCH(C11,'CFBG New Line Form'!$B$9:$B$105,0),MATCH(VLOOKUP(G47,MAPPING!$B$3:$J$131,9,0),'CFBG New Line Form'!$G$7:$EQ$7,0)),"")=0,"",IFERROR(INDEX('CFBG New Line Form'!$G$9:$EQ$105,MATCH(C11,'CFBG New Line Form'!$B$9:$B$105,0),MATCH(VLOOKUP(G47,MAPPING!$B$3:$J$131,9,0),'CFBG New Line Form'!$G$7:$EQ$7,0)),"")) | I47: Mustard: | K47: =IF(IFERROR(INDEX('CFBG New Line Form'!$G$9:$EQ$105,MATCH(C11,'CFBG New Line Form'!$B$9:$B$105,0),MATCH(VLOOKUP(I47,MAPPING!$B$3:$J$131,9,0),'CFBG New Line Form'!$G$7:$EQ$7,0)),"")=0,"",IFERROR(INDEX('CFBG New Line Form'!$G$9:$EQ$105,MATCH(C11,'CFBG New Line Form'!$B$9:$B$105,0),MATCH(VLOOKUP(I47,MAPPING!$B$3:$J$131,9,0),'CFBG New Line Form'!$G$7:$EQ$7,0)),""))
C49: Lactose Intolerance: | E49: =IF(IFERROR(INDEX('CFBG New Line Form'!$G$9:$EQ$105,MATCH(C11,'CFBG New Line Form'!$B$9:$B$105,0),MATCH(VLOOKUP(C49,MAPPING!$B$3:$J$131,9,0),'CFBG New Line Form'!$G$7:$EQ$7,0)),"")=0,"",IFERROR(INDEX('CFBG New Line Form'!$G$9:$EQ$105,MATCH(C11,'CFBG New Line Form'!$B$9:$B$105,0),MATCH(VLOOKUP(C49,MAPPING!$B$3:$J$131,9,0),'CFBG New Line Form'!$G$7:$EQ$7,0)),"")) | G49: Peanuts: | H49: =IF(IFERROR(INDEX('CFBG New Line Form'!$G$9:$EQ$105,MATCH(C11,'CFBG New Line Form'!$B$9:$B$105,0),MATCH(VLOOKUP(G49,MAPPING!$B$3:$J$131,9,0),'CFBG New Line Form'!$G$7:$EQ$7,0)),"")=0,"",IFERROR(INDEX('CFBG New Line Form'!$G$9:$EQ$105,MATCH(C11,'CFBG New Line Form'!$B$9:$B$105,0),MATCH(VLOOKUP(G49,MAPPING!$B$3:$J$131,9,0),'CFBG New Line Form'!$G$7:$EQ$7,0)),"")) | I49: Lupins-Flour: | K49: =IF(IFERROR(INDEX('CFBG New Line Form'!$G$9:$EQ$105,MATCH(C11,'CFBG New Line Form'!$B$9:$B$105,0),MATCH(VLOOKUP(I49,MAPPING!$B$3:$J$131,9,0),'CFBG New Line Form'!$G$7:$EQ$7,0)),"")=0,"",IFERROR(INDEX('CFBG New Line Form'!$G$9:$EQ$105,MATCH(C11,'CFBG New Line Form'!$B$9:$B$105,0),MATCH(VLOOKUP(I49,MAPPING!$B$3:$J$131,9,0),'CFBG New Line Form'!$G$7:$EQ$7,0)),""))
G51: Cereals/Gluten: | H51: =IF(IFERROR(INDEX('CFBG New Line Form'!$G$9:$EQ$105,MATCH(C11,'CFBG New Line Form'!$B$9:$B$105,0),MATCH(VLOOKUP(G51,MAPPING!$B$3:$J$131,9,0),'CFBG New Line Form'!$G$7:$EQ$7,0)),"")=0,"",IFERROR(INDEX('CFBG New Line Form'!$G$9:$EQ$105,MATCH(C11,'CFBG New Line Form'!$B$9:$B$105,0),MATCH(VLOOKUP(G51,MAPPING!$B$3:$J$131,9,0),'CFBG New Line Form'!$G$7:$EQ$7,0)),"")) | I51: Celery: | K51: =IF(IFERROR(INDEX('CFBG New Line Form'!$G$9:$EQ$105,MATCH(C11,'CFBG New Line Form'!$B$9:$B$105,0),MATCH(VLOOKUP(I51,MAPPING!$B$3:$J$131,9,0),'CFBG New Line Form'!$G$7:$EQ$7,0)),"")=0,"",IFERROR(INDEX('CFBG New Line Form'!$G$9:$EQ$105,MATCH(C11,'CFBG New Line Form'!$B$9:$B$105,0),MATCH(VLOOKUP(I51,MAPPING!$B$3:$J$131,9,0),'CFBG New Line Form'!$G$7:$EQ$7,0)),""))
G53: Sesame Seeds | H53: =IF(IFERROR(INDEX('CFBG New Line Form'!$G$9:$EQ$105,MATCH(C11,'CFBG New Line Form'!$B$9:$B$105,0),MATCH(VLOOKUP(G53,MAPPING!$B$3:$J$131,9,0),'CFBG New Line Form'!$G$7:$EQ$7,0)),"")=0,"",IFERROR(INDEX('CFBG New Line Form'!$G$9:$EQ$105,MATCH(C11,'CFBG New Line Form'!$B$9:$B$105,0),MATCH(VLOOKUP(G53,MAPPING!$B$3:$J$131,9,0),'CFBG New Line Form'!$G$7:$EQ$7,0)),"")) | I53: Sulphur Dioxiode/Sulphites | K53: =IF(IFERROR(INDEX('CFBG New Line Form'!$G$9:$EQ$105,MATCH(C11,'CFBG New Line Form'!$B$9:$B$105,0),MATCH(VLOOKUP(I53,MAPPING!$B$3:$J$131,9,0),'CFBG New Line Form'!$G$7:$EQ$7,0)),"")=0,"",IFERROR(INDEX('CFBG New Line Form'!$G$9:$EQ$105,MATCH(C11,'CFBG New Line Form'!$B$9:$B$105,0),MATCH(VLOOKUP(I53,MAPPING!$B$3:$J$131,9,0),'CFBG New Line Form'!$G$7:$EQ$7,0)),""))
A56: For Caterfood SW Use Only:
A57: Department: | D57: Category: | G57: Sub-Category:
B59: Full Case Code: | F59: Full Case Sell:
B61: Split Case Code: | F61: Split Case Sell:
G63: Yes | I63: No
A64: Should the HACCP Plan be Reviewed :
A66: MSC Product? MSC Change of scope needs to be reported within 10 days
G67: =IF(IFERROR(INDEX('CFBG New Line Form'!$G$9:$EQ$105,MATCH(C11,'CFBG New Line Form'!$B$9:$B$105,0),MATCH(VLOOKUP(A66,MAPPING!$B$3:$J$131,9,0),'CFBG New Line Form'!$G$7:$EQ$7,0)),"")=0,"",IFERROR(INDEX('CFBG New Line Form'!$G$9:$EQ$105,MATCH(C11,'CFBG New Line Form'!$B$9:$B$105,0),MATCH(VLOOKUP(A66,MAPPING!$B$3:$J$131,9,0),'CFBG New Line Form'!$G$7:$EQ$7,0)),""))
A69: Comments

Sheet Elite
C3: New Product / Product Amendment Form
D4: Please complete all blue sections as fully as possible and email to purchasing@elitefinefoods.co.uk Please note incomplete forms or attachments will result in delay of product set up
B7: New Product | C7: Select from Drop Down
A8: Section A
A9: 1 | B9: Supplier Name | D9: =IF( IFERROR(INDEX('CFBG New Line Form'!$G$9:$EQ$105,MATCH(D11,'CFBG New Line Form'!$B$9:$B$105,0),MATCH(VLOOKUP(B9,MAPPING!$D$3:$J$131,7,0),'CFBG New Line Form'!$G$7:$EQ$7,0)),"")=0, "", IFERROR(INDEX('CFBG New Line Form'!$G$9:$EQ$105,MATCH(D11,'CFBG New Line Form'!$B$9:$B$105,0),MATCH(VLOOKUP(B9,MAPPING!$D$3:$J$131,7,0),'CFBG New Line Form'!$G$7:$EQ$7,0)),""))
A11: 1.01 | B11: Product Name
A12: 1.02 | B12: Manufacturer Product Code | D12: =IF(IFERROR(INDEX('CFBG New Line Form'!$G$9:$EQ$105,MATCH(D11,'CFBG New Line Form'!$B$9:$B$105,0),MATCH(VLOOKUP(B12,MAPPING!$D$3:$J$131,7,0),'CFBG New Line Form'!$G$7:$EQ$7,0)),"")=0,"",IFERROR(INDEX('CFBG New Line Form'!$G$9:$EQ$105,MATCH(D11,'CFBG New Line Form'!$B$9:$B$105,0),MATCH(VLOOKUP(B12,MAPPING!$D$3:$J$131,7,0),'CFBG New Line Form'!$G$7:$EQ$7,0)),""))
B13: Supplier ordering code (if different from above) | D13: =IF(IFERROR(INDEX('CFBG New Line Form'!$G$9:$EQ$105,MATCH(D11,'CFBG New Line Form'!$B$9:$B$105,0),MATCH(VLOOKUP(B13,MAPPING!$D$3:$J$131,7,0),'CFBG New Line Form'!$G$7:$EQ$7,0)),"")=0,"",IFERROR(INDEX('CFBG New Line Form'!$G$9:$EQ$105,MATCH(D11,'CFBG New Line Form'!$B$9:$B$105,0),MATCH(VLOOKUP(B13,MAPPING!$D$3:$J$131,7,0),'CFBG New Line Form'!$G$7:$EQ$7,0)),""))
A14: 1.03 | B14: Product Category | D14: =IF(IFERROR(INDEX('CFBG New Line Form'!$G$9:$EQ$105,MATCH(D11,'CFBG New Line Form'!$B$9:$B$105,0),MATCH(VLOOKUP(B14,MAPPING!$D$3:$J$131,7,0),'CFBG New Line Form'!$G$7:$EQ$7,0)),"")=0,"",IFERROR(INDEX('CFBG New Line Form'!$G$9:$EQ$105,MATCH(D11,'CFBG New Line Form'!$B$9:$B$105,0),MATCH(VLOOKUP(B14,MAPPING!$D$3:$J$131,7,0),'CFBG New Line Form'!$G$7:$EQ$7,0)),""))
A15: 1.04 | B15: Product Brand | D15: =IF(IFERROR(INDEX('CFBG New Line Form'!$C$9:$EQ$105,MATCH(D11,'CFBG New Line Form'!$B$9:$B$105,0),MATCH(VLOOKUP(B15,MAPPING!$D$3:$J$131,7,0),'CFBG New Line Form'!$C$7:$EQ$7,0)),"")=0,"",IFERROR(INDEX('CFBG New Line Form'!$C$9:$EQ$105,MATCH(D11,'CFBG New Line Form'!$B$9:$B$105,0),MATCH(VLOOKUP(B15,MAPPING!$D$3:$J$131,7,0),'CFBG New Line Form'!$C$7:$EQ$7,0)),""))
A17: 1.05 | B17: Packs in case | D17: =IF(IFERROR(INDEX('CFBG New Line Form'!$G$9:$EQ$105,MATCH(D11,'CFBG New Line Form'!$B$9:$B$105,0),MATCH(VLOOKUP(B17,MAPPING!$D$3:$J$131,7,0),'CFBG New Line Form'!$G$7:$EQ$7,0)),"")=0,"",IFERROR(INDEX('CFBG New Line Form'!$G$9:$EQ$105,MATCH(D11,'CFBG New Line Form'!$B$9:$B$105,0),MATCH(VLOOKUP(B17,MAPPING!$D$3:$J$131,7,0),'CFBG New Line Form'!$G$7:$EQ$7,0)),"")) | E17: Units in Pack | G17: =IF(IFERROR(INDEX('CFBG New Line Form'!$G$9:$EQ$105,MATCH(D11,'CFBG New Line Form'!$B$9:$B$105,0),MATCH(VLOOKUP(E17,MAPPING!$D$3:$J$131,7,0),'CFBG New Line Form'!$G$7:$EQ$7,0)),"")=0,"",IFERROR(INDEX('CFBG New Line Form'!$G$9:$EQ$105,MATCH(D11,'CFBG New Line Form'!$B$9:$B$105,0),MATCH(VLOOKUP(E17,MAPPING!$D$3:$J$131,7,0),'CFBG New Line Form'!$G$7:$EQ$7,0)),""))
A18: 1.06 | B18: Unit Size | D18: =IF(IFERROR(INDEX('CFBG New Line Form'!$G$9:$EQ$105,MATCH(D11,'CFBG New Line Form'!$B$9:$B$105,0),MATCH(VLOOKUP(B18,MAPPING!$D$3:$J$131,7,0),'CFBG New Line Form'!$G$7:$EQ$7,0)),"")=0,"",IFERROR(INDEX('CFBG New Line Form'!$G$9:$EQ$105,MATCH(D11,'CFBG New Line Form'!$B$9:$B$105,0),MATCH(VLOOKUP(B18,MAPPING!$D$3:$J$131,7,0),'CFBG New Line Form'!$G$7:$EQ$7,0)),"")) | E18: Unit of Measure | G18: =IF(IFERROR(INDEX('CFBG New Line Form'!$G$9:$EQ$105,MATCH(D11,'CFBG New Line Form'!$B$9:$B$105,0),MATCH(VLOOKUP(E18,MAPPING!$D$3:$J$131,7,0),'CFBG New Line Form'!$G$7:$EQ$7,0)),"")=0,"",IFERROR(INDEX('CFBG New Line Form'!$G$9:$EQ$105,MATCH(D11,'CFBG New Line Form'!$B$9:$B$105,0),MATCH(VLOOKUP(E18,MAPPING!$D$3:$J$131,7,0),'CFBG New Line Form'!$G$7:$EQ$7,0)),""))
A19: 1.07 | B19: Layers per Pallet | D19: =IF(IFERROR(INDEX('CFBG New Line Form'!$G$9:$EQ$105,MATCH(D11,'CFBG New Line Form'!$B$9:$B$105,0),MATCH(VLOOKUP(B19,MAPPING!$D$3:$J$131,7,0),'CFBG New Line Form'!$G$7:$EQ$7,0)),"")=0,"",IFERROR(INDEX('CFBG New Line Form'!$G$9:$EQ$105,MATCH(D11,'CFBG New Line Form'!$B$9:$B$105,0),MATCH(VLOOKUP(B19,MAPPING!$D$3:$J$131,7,0),'CFBG New Line Form'!$G$7:$EQ$7,0)),"")) | E19: Cases per Layer | G19: =IF(IFERROR(INDEX('CFBG New Line Form'!$G$9:$EQ$105,MATCH(D11,'CFBG New Line Form'!$B$9:$B$105,0),MATCH(VLOOKUP(E19,MAPPING!$D$3:$J$131,7,0),'CFBG New Line Form'!$G$7:$EQ$7,0)),"")=0,"",IFERROR(INDEX('CFBG New Line Form'!$G$9:$EQ$105,MATCH(D11,'CFBG New Line Form'!$B$9:$B$105,0),MATCH(VLOOKUP(E19,MAPPING!$D$3:$J$131,7,0),'CFBG New Line Form'!$G$7:$EQ$7,0)),""))
A20: 1.08 | B20: Confirm Euro Pallets not used | D20: =IF(IFERROR(INDEX('CFBG New Line Form'!$G$9:$EQ$105,MATCH(D11,'CFBG New Line Form'!$B$9:$B$105,0),MATCH(VLOOKUP(B20,MAPPING!$D$3:$J$131,7,0),'CFBG New Line Form'!$G$7:$EQ$7,0)),"")=0,"",IFERROR(INDEX('CFBG New Line Form'!$G$9:$EQ$105,MATCH(D11,'CFBG New Line Form'!$B$9:$B$105,0),MATCH(VLOOKUP(B20,MAPPING!$D$3:$J$131,7,0),'CFBG New Line Form'!$G$7:$EQ$7,0)),""))
A21: 1.09 | B21: Case Size in MM | D21: Height | E21: =IF(IFERROR(INDEX('CFBG New Line Form'!$G$9:$EQ$105,MATCH(D11,'CFBG New Line Form'!$B$9:$B$105,0),MATCH(VLOOKUP(D21,MAPPING!$D$3:$J$131,7,0),'CFBG New Line Form'!$G$7:$EQ$7,0))*100,"")=0,"",IFERROR(INDEX('CFBG New Line Form'!$G$9:$EQ$105,MATCH(D11,'CFBG New Line Form'!$B$9:$B$105,0),MATCH(VLOOKUP(D21,MAPPING!$D$3:$J$131,7,0),'CFBG New Line Form'!$G$7:$EQ$7,0))*100,"")) | F21: Width | G21: =IF(IFERROR(INDEX('CFBG New Line Form'!$G$9:$EQ$105,MATCH(D11,'CFBG New Line Form'!$B$9:$B$105,0),MATCH(VLOOKUP(F21,MAPPING!$D$3:$J$131,7,0),'CFBG New Line Form'!$G$7:$EQ$7,0))*100,"")=0,"",IFERROR(INDEX('CFBG New Line Form'!$G$9:$EQ$105,MATCH(D11,'CFBG New Line Form'!$B$9:$B$105,0),MATCH(VLOOKUP(F21,MAPPING!$D$3:$J$131,7,0),'CFBG New Line Form'!$G$7:$EQ$7,0))*100,""))
D22: Length | E22: =IF(IFERROR(INDEX('CFBG New Line Form'!$G$9:$EQ$105,MATCH(D11,'CFBG New Line Form'!$B$9:$B$105,0),MATCH(VLOOKUP(D22,MAPPING!$D$3:$J$131,7,0),'CFBG New Line Form'!$G$7:$EQ$7,0))*100,"")=0,"",IFERROR(INDEX('CFBG New Line Form'!$G$9:$EQ$105,MATCH(D11,'CFBG New Line Form'!$B$9:$B$105,0),MATCH(VLOOKUP(D22,MAPPING!$D$3:$J$131,7,0),'CFBG New Line Form'!$G$7:$EQ$7,0))*100,"")) | F22: Weight (KG) | G22: =IF(IFERROR(INDEX('CFBG New Line Form'!$G$9:$EQ$105,MATCH(D11,'CFBG New Line Form'!$B$9:$B$105,0),MATCH(VLOOKUP(F22,MAPPING!$D$3:$J$131,7,0),'CFBG New Line Form'!$G$7:$EQ$7,0)),"")=0,"",IFERROR(INDEX('CFBG New Line Form'!$G$9:$EQ$105,MATCH(D11,'CFBG New Line Form'!$B$9:$B$105,0),MATCH(VLOOKUP(F22,MAPPING!$D$3:$J$131,7,0),'CFBG New Line Form'!$G$7:$EQ$7,0)),""))
A24: 1.1 | B24: Shelf Life upon Delivery | D24: =IF(IFERROR(INDEX('CFBG New Line Form'!$G$9:$EQ$105,MATCH(D11,'CFBG New Line Form'!$B$9:$B$105,0),MATCH(VLOOKUP(B24,MAPPING!$D$3:$J$131,7,0),'CFBG New Line Form'!$G$7:$EQ$7,0)),"")=0,"",IFERROR(INDEX('CFBG New Line Form'!$G$9:$EQ$105,MATCH(D11,'CFBG New Line Form'!$B$9:$B$105,0),MATCH(VLOOKUP(B24,MAPPING!$D$3:$J$131,7,0),'CFBG New Line Form'!$G$7:$EQ$7,0)),"")) | E24: Number of: | F24: =IF(D24="","","Days")
A25: 1.11 | B25: Weighted Product Y/N | D25: =IF(IFERROR(INDEX('CFBG New Line Form'!$G$9:$EQ$105,MATCH(D11,'CFBG New Line Form'!$B$9:$B$105,0),MATCH(VLOOKUP(B25,MAPPING!$D$3:$J$131,7,0),'CFBG New Line Form'!$G$7:$EQ$7,0)),"")=0,"",IFERROR(INDEX('CFBG New Line Form'!$G$9:$EQ$105,MATCH(D11,'CFBG New Line Form'!$B$9:$B$105,0),MATCH(VLOOKUP(B25,MAPPING!$D$3:$J$131,7,0),'CFBG New Line Form'!$G$7:$EQ$7,0)),"")) | E25: Average Weight (KG) | G25: =IF(IF(D25="No","N/A", IF(D25="Yes",IFERROR(INDEX('CFBG New Line Form'!$G$9:$EQ$105,MATCH(D11,'CFBG New Line Form'!$B$9:$B$105,0),MATCH(VLOOKUP(E25,MAPPING!$D$3:$J$131,7,0),'CFBG New Line Form'!$G$7:$EQ$7,0)),""),""))=0,"",IF(D25="No","N/A", IF(D25="Yes",IFERROR(INDEX('CFBG New Line Form'!$G$9:$EQ$105,MATCH(D11,'CFBG New Line Form'!$B$9:$B$105,0),MATCH(VLOOKUP(E25,MAPPING!$D$3:$J$131,7,0),'CFBG New Line Form'!$G$7:$EQ$7,0)),""),"")))
A26: 1.12 | B26: Minimum Order Quantity | D26: Pallets | E26: =IF(IFERROR(INDEX('CFBG New Line Form'!$G$9:$EQ$105,MATCH(D11,'CFBG New Line Form'!$B$9:$B$105,0),MATCH(VLOOKUP(D26,MAPPING!$D$3:$J$131,7,0),'CFBG New Line Form'!$G$7:$EQ$7,0)),"")=0,"",IFERROR(INDEX('CFBG New Line Form'!$G$9:$EQ$105,MATCH(D11,'CFBG New Line Form'!$B$9:$B$105,0),MATCH(VLOOKUP(D26,MAPPING!$D$3:$J$131,7,0),'CFBG New Line Form'!$G$7:$EQ$7,0)),"")) | F26: Cases | G26: =IF(IFERROR(INDEX('CFBG New Line Form'!$G$9:$EQ$105,MATCH(D11,'CFBG New Line Form'!$B$9:$B$105,0),MATCH(VLOOKUP(F26,MAPPING!$D$3:$J$131,7,0),'CFBG New Line Form'!$G$7:$EQ$7,0)),"")=0,"",IFERROR(INDEX('CFBG New Line Form'!$G$9:$EQ$105,MATCH(D11,'CFBG New Line Form'!$B$9:$B$105,0),MATCH(VLOOKUP(F26,MAPPING!$D$3:$J$131,7,0),'CFBG New Line Form'!$G$7:$EQ$7,0)),""))
A27: 1.13 | B27: Minimum Order Value | D27: GBP | E27: =IF(IFERROR(INDEX('CFBG New Line Form'!$G$9:$EQ$105,MATCH(D11,'CFBG New Line Form'!$B$9:$B$105,0),MATCH(VLOOKUP(D27,MAPPING!$D$3:$J$131,7,0),'CFBG New Line Form'!$G$7:$EQ$7,0)),"")=0,"",IFERROR(INDEX('CFBG New Line Form'!$G$9:$EQ$105,MATCH(D11,'CFBG New Line Form'!$B$9:$B$105,0),MATCH(VLOOKUP(D27,MAPPING!$D$3:$J$131,7,0),'CFBG New Line Form'!$G$7:$EQ$7,0)),""))
A29: 1.14 | B29: Barcode GTIN (Outer Case) | D29: =IF(IFERROR(INDEX('CFBG New Line Form'!$G$9:$EQ$105,MATCH(D11,'CFBG New Line Form'!$B$9:$B$105,0),MATCH(VLOOKUP(B29,MAPPING!$D$3:$J$131,7,0),'CFBG New Line Form'!$G$7:$EQ$7,0)),"")=0,"",IFERROR(INDEX('CFBG New Line Form'!$G$9:$EQ$105,MATCH(D11,'CFBG New Line Form'!$B$9:$B$105,0),MATCH(VLOOKUP(B29,MAPPING!$D$3:$J$131,7,0),'CFBG New Line Form'!$G$7:$EQ$7,0)),""))
A30: 1.15 | B30: Barcode GTIN (Inner Pack) | D30: =IF(IFERROR(INDEX('CFBG New Line Form'!$G$9:$EQ$105,MATCH(D11,'CFBG New Line Form'!$B$9:$B$105,0),MATCH(VLOOKUP(B30,MAPPING!$D$3:$J$131,7,0),'CFBG New Line Form'!$G$7:$EQ$7,0)),"")=0,"",IFERROR(INDEX('CFBG New Line Form'!$G$9:$EQ$105,MATCH(D11,'CFBG New Line Form'!$B$9:$B$105,0),MATCH(VLOOKUP(B30,MAPPING!$D$3:$J$131,7,0),'CFBG New Line Form'!$G$7:$EQ$7,0)),""))
A32: 1.16 | B32: Standard Invoice Cost per Case (£000.00) | D32: =IF(IFERROR(INDEX('CFBG New Line Form'!$G$9:$EQ$105,MATCH(D11,'CFBG New Line Form'!$B$9:$B$105,0),MATCH(VLOOKUP(B32,MAPPING!$D$3:$J$131,7,0),'CFBG New Line Form'!$G$7:$EQ$7,0)),"")=0,"",IFERROR(INDEX('CFBG New Line Form'!$G$9:$EQ$105,MATCH(D11,'CFBG New Line Form'!$B$9:$B$105,0),MATCH(VLOOKUP(B32,MAPPING!$D$3:$J$131,7,0),'CFBG New Line Form'!$G$7:$EQ$7,0)),""))
A33: 1.17 | B33: Net Cost per Case (£000.00) | D33: =IF(IFERROR(INDEX('CFBG New Line Form'!$G$9:$EQ$105,MATCH(D11,'CFBG New Line Form'!$B$9:$B$105,0),MATCH(VLOOKUP(B33,MAPPING!$D$3:$J$131,7,0),'CFBG New Line Form'!$G$7:$EQ$7,0)),"")=0,"",IFERROR(INDEX('CFBG New Line Form'!$G$9:$EQ$105,MATCH(D11,'CFBG New Line Form'!$B$9:$B$105,0),MATCH(VLOOKUP(B33,MAPPING!$D$3:$J$131,7,0),'CFBG New Line Form'!$G$7:$EQ$7,0)),""))
A34: 1.18 | B34: VAT Rate (1 = Zero / 2 = Reduced/Partial / 3 = Standard) | D34: =IF(IFERROR(INDEX('CFBG New Line Form'!$G$9:$EQ$105,MATCH(D11,'CFBG New Line Form'!$B$9:$B$105,0),MATCH(VLOOKUP(B34,MAPPING!$D$3:$J$131,7,0),'CFBG New Line Form'!$G$7:$EQ$7,0)),"")=0,"",IFERROR(INDEX('CFBG New Line Form'!$G$9:$EQ$105,MATCH(D11,'CFBG New Line Form'!$B$9:$B$105,0),MATCH(VLOOKUP(B34,MAPPING!$D$3:$J$131,7,0),'CFBG New Line Form'!$G$7:$EQ$7,0)),""))
A36: 1.19 | B36: I confirm specification will be sent with NLF | D36: =IF(IFERROR(INDEX('CFBG New Line Form'!$G$9:$EQ$105,MATCH(D11,'CFBG New Line Form'!$B$9:$B$105,0),MATCH(VLOOKUP(B36,MAPPING!$D$3:$J$131,7,0),'CFBG New Line Form'!$G$7:$EQ$7,0)),"")=0,"",IFERROR(INDEX('CFBG New Line Form'!$G$9:$EQ$105,MATCH(D11,'CFBG New Line Form'!$B$9:$B$105,0),MATCH(VLOOKUP(B36,MAPPING!$D$3:$J$131,7,0),'CFBG New Line Form'!$G$7:$EQ$7,0)),""))
A37: 1.2 | B37: Is this product on Erudus | D37: =IF(IFERROR(INDEX('CFBG New Line Form'!$G$9:$EQ$105,MATCH(D11,'CFBG New Line Form'!$B$9:$B$105,0),MATCH(VLOOKUP(B37,MAPPING!$D$3:$J$131,7,0),'CFBG New Line Form'!$G$7:$EQ$7,0)),"")=0,"",IFERROR(INDEX('CFBG New Line Form'!$G$9:$EQ$105,MATCH(D11,'CFBG New Line Form'!$B$9:$B$105,0),MATCH(VLOOKUP(B37,MAPPING!$D$3:$J$131,7,0),'CFBG New Line Form'!$G$7:$EQ$7,0)),""))
A38: 1.21 | B38: If no I confirm we will complete all data on OPRI - Elites data system | D38: =IF(IFERROR(INDEX('CFBG New Line Form'!$G$9:$EQ$105,MATCH(D11,'CFBG New Line Form'!$B$9:$B$105,0),MATCH(VLOOKUP(B38,MAPPING!$D$3:$J$131,7,0),'CFBG New Line Form'!$G$7:$EQ$7,0)),"")=0,"",IFERROR(INDEX('CFBG New Line Form'!$G$9:$EQ$105,MATCH(D11,'CFBG New Line Form'!$B$9:$B$105,0),MATCH(VLOOKUP(B38,MAPPING!$D$3:$J$131,7,0),'CFBG New Line Form'!$G$7:$EQ$7,0)),"")) | E38: Email address to be registered on OPRI | G38: =IF(IFERROR(INDEX('CFBG New Line Form'!$G$9:$EQ$105,MATCH(D11,'CFBG New Line Form'!$B$9:$B$105,0),MATCH(VLOOKUP(E38,MAPPING!$D$3:$J$131,7,0),'CFBG New Line Form'!$G$7:$EQ$7,0)),"")=0,"",IFERROR(INDEX('CFBG New Line Form'!$G$9:$EQ$105,MATCH(D11,'CFBG New Line Form'!$B$9:$B$105,0),MATCH(VLOOKUP(E38,MAPPING!$D$3:$J$131,7,0),'CFBG New Line Form'!$G$7:$EQ$7,0)),""))
A39: 1.22 | B39: I confirm minimum of 1 pack shot image will be sent with NLF | D39: =IF(IFERROR(INDEX('CFBG New Line Form'!$G$9:$EQ$105,MATCH(D11,'CFBG New Line Form'!$B$9:$B$105,0),MATCH(VLOOKUP(B39,MAPPING!$D$3:$J$131,7,0),'CFBG New Line Form'!$G$7:$EQ$7,0)),"")=0,"",IFERROR(INDEX('CFBG New Line Form'!$G$9:$EQ$105,MATCH(D11,'CFBG New Line Form'!$B$9:$B$105,0),MATCH(VLOOKUP(B39,MAPPING!$D$3:$J$131,7,0),'CFBG New Line Form'!$G$7:$EQ$7,0)),""))
G40: Date
A41: 1.23 | B41: Form Completed By | C41: Name | D41: =IF(IFERROR(INDEX('CFBG New Line Form'!$G$9:$EQ$105,MATCH(D11,'CFBG New Line Form'!$B$9:$B$105,0),MATCH(VLOOKUP(C41,MAPPING!$D$3:$J$131,7,0),'CFBG New Line Form'!$G$7:$EQ$7,0)),"")=0,"",IFERROR(INDEX('CFBG New Line Form'!$G$9:$EQ$105,MATCH(D11,'CFBG New Line Form'!$B$9:$B$105,0),MATCH(VLOOKUP(C41,MAPPING!$D$3:$J$131,7,0),'CFBG New Line Form'!$G$7:$EQ$7,0)),"")) | G41: =IF(IFERROR(INDEX('CFBG New Line Form'!$G$9:$EQ$105,MATCH(D11,'CFBG New Line Form'!$B$9:$B$105,0),MATCH(VLOOKUP(G40,MAPPING!$D$3:$J$131,7,0),'CFBG New Line Form'!$G$7:$EQ$7,0)),"")=0,"",IFERROR(INDEX('CFBG New Line Form'!$G$9:$EQ$105,MATCH(D11,'CFBG New Line Form'!$B$9:$B$105,0),MATCH(VLOOKUP(G40,MAPPING!$D$3:$J$131,7,0),'CFBG New Line Form'!$G$7:$EQ$7,0)),""))
A44: Section B | B44: For Elite Fine Foods only:
A45: 2.01.02 | B45: Toxic | E45: Split Surcharge
A46: 2.03.04 | B46: Minimum accepted Shelf Life | E46: Number of:
A47: 2.05.06 | B47: Order in multiples of? | E47: Back to Back?
A48: 2.07 | B48: Pallet Rounding? | E48: Online Availibilty

Sheet SLF
A1: South Lincs Foodservice Ltd
A3: NEW PRODUCT LISTING FORM
B5: Supplier Name: | C5: =IF(IFERROR(INDEX('CFBG New Line Form'!$G$9:$EQ$105,MATCH(C11,'CFBG New Line Form'!$B$9:$B$105,0),MATCH(VLOOKUP(B5,MAPPING!$E$3:$J$131,6,0),'CFBG New Line Form'!$G$7:$EQ$7,0)),"")=0,"", IFERROR(INDEX('CFBG New Line Form'!$G$9:$EQ$105,MATCH(C11,'CFBG New Line Form'!$B$9:$B$105,0),MATCH(VLOOKUP(B5,MAPPING!$E$3:$J$131,6,0),'CFBG New Line Form'!$G$7:$EQ$7,0)),""))
B7: Supplier Code (SLF): | G7: Date: | I7: =IF(IFERROR(INDEX('CFBG New Line Form'!$G$9:$EQ$105,MATCH(C11,'CFBG New Line Form'!$B$9:$B$105,0),MATCH(VLOOKUP(G7,MAPPING!$E$3:$J$131,6,0),'CFBG New Line Form'!$G$7:$EQ$7,0)),"")=0,"",IFERROR(INDEX('CFBG New Line Form'!$G$9:$EQ$105,MATCH(C11,'CFBG New Line Form'!$B$9:$B$105,0),MATCH(VLOOKUP(G7,MAPPING!$E$3:$J$131,6,0),'CFBG New Line Form'!$G$7:$EQ$7,0)),""))
B9: Supplier Product Code: | C9: =IF(IFERROR(INDEX('CFBG New Line Form'!$G$9:$EQ$105,MATCH(C11,'CFBG New Line Form'!$B$9:$B$105,0),MATCH(VLOOKUP(B9,MAPPING!$E$3:$J$131,6,0),'CFBG New Line Form'!$G$7:$EQ$7,0)),"")=0,"",IFERROR(INDEX('CFBG New Line Form'!$G$9:$EQ$105,MATCH(C11,'CFBG New Line Form'!$B$9:$B$105,0),MATCH(VLOOKUP(B9,MAPPING!$E$3:$J$131,6,0),'CFBG New Line Form'!$G$7:$EQ$7,0)),""))
B11: Product Description:
B12: (As appears on Label)
B14: Full Description: | C14: =IF(IFERROR(INDEX('CFBG New Line Form'!$G$9:$EQ$105,MATCH(C11,'CFBG New Line Form'!$B$9:$B$105,0),MATCH(VLOOKUP(B14,MAPPING!$E$3:$J$131,6,0),'CFBG New Line Form'!$G$7:$EQ$7,0)),"")=0,"",IFERROR(INDEX('CFBG New Line Form'!$G$9:$EQ$105,MATCH(C11,'CFBG New Line Form'!$B$9:$B$105,0),MATCH(VLOOKUP(B14,MAPPING!$E$3:$J$131,6,0),'CFBG New Line Form'!$G$7:$EQ$7,0)),""))
C18: Shelf Life On Production: | D18: =IF(IFERROR(INDEX('CFBG New Line Form'!$G$9:$EQ$105,MATCH(C11,'CFBG New Line Form'!$B$9:$B$105,0),MATCH(VLOOKUP(C18,MAPPING!$E$3:$J$131,6,0),'CFBG New Line Form'!$G$7:$EQ$7,0)),"")=0,"",IFERROR(INDEX('CFBG New Line Form'!$G$9:$EQ$105,MATCH(C11,'CFBG New Line Form'!$B$9:$B$105,0),MATCH(VLOOKUP(C18,MAPPING!$E$3:$J$131,6,0),'CFBG New Line Form'!$G$7:$EQ$7,0)),"")) | I18: Shelf Life On Delivery: | J18: =IF(IFERROR(INDEX('CFBG New Line Form'!$G$9:$EQ$105,MATCH(C11,'CFBG New Line Form'!$B$9:$B$105,0),MATCH(VLOOKUP(I18,MAPPING!$E$3:$J$131,6,0),'CFBG New Line Form'!$G$7:$EQ$7,0)),"")=0,"",IFERROR(INDEX('CFBG New Line Form'!$G$9:$EQ$105,MATCH(C11,'CFBG New Line Form'!$B$9:$B$105,0),MATCH(VLOOKUP(I18,MAPPING!$E$3:$J$131,6,0),'CFBG New Line Form'!$G$7:$EQ$7,0)),""))
C20: Outer Case: | D20: =IF(C11="","",1) | G20: Inner Case: | I20: =IF(IFERROR(INDEX('CFBG New Line Form'!$G$9:$EQ$105,MATCH(C11,'CFBG New Line Form'!$B$9:$B$105,0),MATCH(VLOOKUP(G20,MAPPING!$E$3:$J$131,6,0),'CFBG New Line Form'!$G$7:$EQ$7,0)),"")=0,"",IFERROR(INDEX('CFBG New Line Form'!$G$9:$EQ$105,MATCH(C11,'CFBG New Line Form'!$B$9:$B$105,0),MATCH(VLOOKUP(G20,MAPPING!$E$3:$J$131,6,0),'CFBG New Line Form'!$G$7:$EQ$7,0)),""))
C22: Outer Invoice Cost: | D22: =IF(IFERROR(INDEX('CFBG New Line Form'!$G$9:$EQ$105,MATCH(C11,'CFBG New Line Form'!$B$9:$B$105,0),MATCH(VLOOKUP(C22,MAPPING!$E$3:$J$131,6,0),'CFBG New Line Form'!$G$7:$EQ$7,0)),"")=0,"",IFERROR(INDEX('CFBG New Line Form'!$G$9:$EQ$105,MATCH(C11,'CFBG New Line Form'!$B$9:$B$105,0),MATCH(VLOOKUP(C22,MAPPING!$E$3:$J$131,6,0),'CFBG New Line Form'!$G$7:$EQ$7,0)),"")) | G22: Inner Cost: | I22: =IF(IFERROR(INDEX('CFBG New Line Form'!$G$9:$EQ$105,MATCH(C11,'CFBG New Line Form'!$B$9:$B$105,0),MATCH(VLOOKUP(G22,MAPPING!$E$3:$J$131,6,0),'CFBG New Line Form'!$G$7:$EQ$7,0)),"")=0,"",IFERROR(INDEX('CFBG New Line Form'!$G$9:$EQ$105,MATCH(C11,'CFBG New Line Form'!$B$9:$B$105,0),MATCH(VLOOKUP(G22,MAPPING!$E$3:$J$131,6,0),'CFBG New Line Form'!$G$7:$EQ$7,0)),""))
C24: Cases per Layer: | D24: =IF(IFERROR(INDEX('CFBG New Line Form'!$G$9:$EQ$105,MATCH(C11,'CFBG New Line Form'!$B$9:$B$105,0),MATCH(VLOOKUP(C24,MAPPING!$E$3:$J$131,6,0),'CFBG New Line Form'!$G$7:$EQ$7,0)),"")=0,"",IFERROR(INDEX('CFBG New Line Form'!$G$9:$EQ$105,MATCH(C11,'CFBG New Line Form'!$B$9:$B$105,0),MATCH(VLOOKUP(C24,MAPPING!$E$3:$J$131,6,0),'CFBG New Line Form'!$G$7:$EQ$7,0)),"")) | F24: Layers per Pallet: | G24: =IF(IFERROR(INDEX('CFBG New Line Form'!$G$9:$EQ$105,MATCH(C11,'CFBG New Line Form'!$B$9:$B$105,0),MATCH(VLOOKUP(F24,MAPPING!$E$3:$J$131,6,0),'CFBG New Line Form'!$G$7:$EQ$7,0)),"")=0,"",IFERROR(INDEX('CFBG New Line Form'!$G$9:$EQ$105,MATCH(C11,'CFBG New Line Form'!$B$9:$B$105,0),MATCH(VLOOKUP(F24,MAPPING!$E$3:$J$131,6,0),'CFBG New Line Form'!$G$7:$EQ$7,0)),"")) | J24: Cases per Pallet: | K24: =IF(IFERROR(INDEX('CFBG New Line Form'!$G$9:$EQ$105,MATCH(C11,'CFBG New Line Form'!$B$9:$B$105,0),MATCH(VLOOKUP(J24,MAPPING!$E$3:$J$131,6,0),'CFBG New Line Form'!$G$7:$EQ$7,0)),"")=0,"",IFERROR(INDEX('CFBG New Line Form'!$G$9:$EQ$105,MATCH(C11,'CFBG New Line Form'!$B$9:$B$105,0),MATCH(VLOOKUP(J24,MAPPING!$E$3:$J$131,6,0),'CFBG New Line Form'!$G$7:$EQ$7,0)),""))
C26: Pallet Weight: | D26: =IF(IFERROR(INDEX('CFBG New Line Form'!$G$9:$EQ$105,MATCH(C11,'CFBG New Line Form'!$B$9:$B$105,0),MATCH(VLOOKUP(C26,MAPPING!$E$3:$J$131,6,0),'CFBG New Line Form'!$G$7:$EQ$7,0)),"")=0,"",IFERROR(INDEX('CFBG New Line Form'!$G$9:$EQ$105,MATCH(C11,'CFBG New Line Form'!$B$9:$B$105,0),MATCH(VLOOKUP(C26,MAPPING!$E$3:$J$131,6,0),'CFBG New Line Form'!$G$7:$EQ$7,0)),"")) | F26: Pallet Height: | G26: =IF(IFERROR(INDEX('CFBG New Line Form'!$G$9:$EQ$105,MATCH(C11,'CFBG New Line Form'!$B$9:$B$105,0),MATCH(VLOOKUP(F26,MAPPING!$E$3:$J$131,6,0),'CFBG New Line Form'!$G$7:$EQ$7,0)),"")=0,"",IFERROR(INDEX('CFBG New Line Form'!$G$9:$EQ$105,MATCH(C11,'CFBG New Line Form'!$B$9:$B$105,0),MATCH(VLOOKUP(F26,MAPPING!$E$3:$J$131,6,0),'CFBG New Line Form'!$G$7:$EQ$7,0)),"")) | J26: Minimum Order: | K26: =IF(IFERROR(INDEX('CFBG New Line Form'!$G$9:$EQ$105,MATCH(C11,'CFBG New Line Form'!$B$9:$B$105,0),MATCH(VLOOKUP(J26,MAPPING!$E$3:$J$131,6,0),'CFBG New Line Form'!$G$7:$EQ$7,0)),"")=0,"",IFERROR(INDEX('CFBG New Line Form'!$G$9:$EQ$105,MATCH(C11,'CFBG New Line Form'!$B$9:$B$105,0),MATCH(VLOOKUP(J26,MAPPING!$E$3:$J$131,6,0),'CFBG New Line Form'!$G$7:$EQ$7,0)),""))
C28: Barcode: | D28: =IF(IFERROR(INDEX('CFBG New Line Form'!$G$9:$EQ$105,MATCH(C11,'CFBG New Line Form'!$B$9:$B$105,0),MATCH(VLOOKUP(C28,MAPPING!$E$3:$J$131,6,0),'CFBG New Line Form'!$G$7:$EQ$7,0)),"")=0,"",IFERROR(INDEX('CFBG New Line Form'!$G$9:$EQ$105,MATCH(C11,'CFBG New Line Form'!$B$9:$B$105,0),MATCH(VLOOKUP(C28,MAPPING!$E$3:$J$131,6,0),'CFBG New Line Form'!$G$7:$EQ$7,0)),"")) | G28: EAN Code: | I28: =IF(IFERROR(INDEX('CFBG New Line Form'!$G$9:$EQ$105,MATCH(C11,'CFBG New Line Form'!$B$9:$B$105,0),MATCH(VLOOKUP(G28,MAPPING!$E$3:$J$131,6,0),'CFBG New Line Form'!$G$7:$EQ$7,0)),"")=0,"",IFERROR(INDEX('CFBG New Line Form'!$G$9:$EQ$105,MATCH(C11,'CFBG New Line Form'!$B$9:$B$105,0),MATCH(VLOOKUP(G28,MAPPING!$E$3:$J$131,6,0),'CFBG New Line Form'!$G$7:$EQ$7,0)),""))
C30: Vatable: | D30: =IF(IFERROR(INDEX('CFBG New Line Form'!$G$9:$EQ$105,MATCH(C11,'CFBG New Line Form'!$B$9:$B$105,0),MATCH(VLOOKUP(C30,MAPPING!$E$3:$J$131,6,0),'CFBG New Line Form'!$G$7:$EQ$7,0)),"")=0,"",IFERROR(INDEX('CFBG New Line Form'!$G$9:$EQ$105,MATCH(C11,'CFBG New Line Form'!$B$9:$B$105,0),MATCH(VLOOKUP(C30,MAPPING!$E$3:$J$131,6,0),'CFBG New Line Form'!$G$7:$EQ$7,0)),"")) | G30: VAT Rate: | I30: =IF(IFERROR(INDEX('CFBG New Line Form'!$G$9:$EQ$105,MATCH(C11,'CFBG New Line Form'!$B$9:$B$105,0),MATCH(VLOOKUP(G30,MAPPING!$E$3:$J$131,6,0),'CFBG New Line Form'!$G$7:$EQ$7,0)),"")=0,"",IFERROR(INDEX('CFBG New Line Form'!$G$9:$EQ$105,MATCH(C11,'CFBG New Line Form'!$B$9:$B$105,0),MATCH(VLOOKUP(G30,MAPPING!$E$3:$J$131,6,0),'CFBG New Line Form'!$G$7:$EQ$7,0)),""))
B33: Cooking / Defrost | C33: =IF(IFERROR(INDEX('CFBG New Line Form'!$G$9:$EQ$105,MATCH(C11,'CFBG New Line Form'!$B$9:$B$105,0),MATCH(VLOOKUP(B33,MAPPING!$E$3:$J$131,6,0),'CFBG New Line Form'!$G$7:$EQ$7,0)),"")=0,"",IFERROR(INDEX('CFBG New Line Form'!$G$9:$EQ$105,MATCH(C11,'CFBG New Line Form'!$B$9:$B$105,0),MATCH(VLOOKUP(B33,MAPPING!$E$3:$J$131,6,0),'CFBG New Line Form'!$G$7:$EQ$7,0)),""))
B34: Instructions
B39: Suitable For: | G39: Product Contains:
