Workbook

Sheet Readme
A1: Loaded Language, Pilot study
A2: Analysis and data
A4: Schläpfer, F. (2026). Qualität der Nachrichtenmedien und Medienbeobachtung in der Schweiz: eine explorative Analyse. Zenodo. https://doi.org/10.5281/zenodo.19948450
A5: https://doi.org/10.5281/zenodo.19948450
A7: Felix Schläpfer 26.10.2026

Sheet Auswertung
Y1: Total
C2: =SRF!D2 -> Allgemein/nicht konkret | D2: =SRF!E2 -> unpolitisch | E2: =SRF!F2 -> Beide Seiten/unparteiisch | F2: =SRF!G2 -> Beide Seiten/parteiisch | G2: =SRF!H2 -> Westen, liberale Akteure | H2: =SRF!I2 -> Westen, populistische/rechte Parteien | I2: =SRF!J2 -> Westen, prorussisch | J2: =SRF!K2 -> Westen, antiisraelisch | ... X2: =SRF!Y2 -> angebl. P. andere als liberaler Westen | Y2: .
B3: SRF | C3: =SRF!D3 -> 6 | D3: =SRF!E3 -> 2 | E3: =SRF!F3 -> 2 | F3: =SRF!G3 -> 2 | G3: =SRF!H3 -> 0 | H3: =SRF!I3 -> 3 | I3: =SRF!J3 -> 1 | J3: =SRF!K3 -> 0 | ... X3: =SRF!Y3 -> 1 | Y3: =SUM(C3:X3) -> 70
B4: Tagesanzeiger | C4: =TA!D3 -> 1 | D4: =TA!E3 -> 3 | E4: =TA!F3 -> 1 | F4: =TA!G3 -> 0 | G4: =TA!H3 -> 0 | H4: =TA!I3 -> 0 | I4: =TA!J3 -> 9 | J4: =TA!K3 -> 2 | ... X4: =TA!Y3 -> 2 | Y4: =SUM(C4:X4) -> 70
B5: NZZ | C5: =NZZ!D3 -> 1 | D5: =NZZ!E3 -> 1 | E5: =NZZ!F3 -> 0 | F5: =NZZ!G3 -> 2 | G5: =NZZ!H3 -> 2 | H5: =NZZ!I3 -> 7 | I5: =NZZ!J3 -> 3 | J5: =NZZ!K3 -> 2 | ... X5: =NZZ!Y3 -> 1 | Y5: =SUM(C5:X5) -> 70
C8: Anzahl | H8: Prozent
C9: SRF | D9: Tagesanzeiger | E9: NZZ | F9: Summe | H9: SRF | I9: Tagesanzeiger | J9: NZZ | K9: Summe
A10: Allgemein | B10: Allgemein/nicht konkret | C10: 6 | D10: 1 | E10: 1 | F10: =SUM(C10:E10) -> 8 | H10: =C10/C$31*100 -> 8.5714286 | I10: =D10/D$31*100 -> 1.4285714 | J10: =E10/E$31*100 -> 1.4285714 | K10: =F10/F$31*100 -> 3.8095238
B11: unpolitisch | C11: 2 | D11: 3 | E11: 1 | F11: =SUM(C11:E11) -> 6 | H11: =C11/C$31*100 -> 2.8571429 | I11: =D11/D$31*100 -> 4.2857143 | J11: =E11/E$31*100 -> 1.4285714 | K11: =F11/F$31*100 -> 2.8571429
A12: Beide Seiten | B12: Beide Seiten/unparteiisch | C12: 2 | D12: 1 | E12: 0 | F12: =SUM(C12:E12) -> 3 | H12: =C12/C$31*100 -> 2.8571429 | I12: =D12/D$31*100 -> 1.4285714 | J12: =E12/E$31*100 -> 0 | K12: =F12/F$31*100 -> 1.4285714
B13: Beide Seiten/parteiisch | C13: 2 | D13: 0 | E13: 2 | F13: =SUM(C13:E13) -> 4 | H13: =C13/C$31*100 -> 2.8571429 | I13: =D13/D$31*100 -> 0 | J13: =E13/E$31*100 -> 2.8571429 | K13: =F13/F$31*100 -> 1.9047619
A14: Westen | B14: Westen, "liberale" Akteure | C14: 0 | D14: 0 | E14: 2 | F14: =SUM(C14:E14) -> 2 | H14: =C14/C$31*100 -> 0 | I14: =D14/D$31*100 -> 0 | J14: =E14/E$31*100 -> 2.8571429 | K14: =F14/F$31*100 -> 0.95238095
B15: Westen, populistische/rechte Parteien | C15: 3 | D15: 9 | E15: 7 | F15: =SUM(C15:E15) -> 19 | H15: =C15/C$31*100 -> 4.2857143 | I15: =D15/D$31*100 -> 12.857143 | J15: =E15/E$31*100 -> 10 | K15: =F15/F$31*100 -> 9.047619
B16: Westen, prorussisch | C16: 1 | D16: 2 | E16: 3 | F16: =SUM(C16:E16) -> 6 | H16: =C16/C$31*100 -> 1.4285714 | I16: =D16/D$31*100 -> 2.8571429 | J16: =E16/E$31*100 -> 4.2857143 | K16: =F16/F$31*100 -> 2.8571429
B17: Westen, antiisraelisch | C17: 0 | D17: 0 | E17: 2 | F17: =SUM(C17:E17) -> 2 | H17: =C17/C$31*100 -> 0 | I17: =D17/D$31*100 -> 0 | J17: =E17/E$31*100 -> 2.8571429 | K17: =F17/F$31*100 -> 0.95238095
B18: Westen, neonazi | C18: 0 | D18: 1 | E18: 2 | F18: =SUM(C18:E18) -> 3 | H18: =C18/C$31*100 -> 0 | I18: =D18/D$31*100 -> 1.4285714 | J18: =E18/E$31*100 -> 2.8571429 | K18: =F18/F$31*100 -> 1.4285714
B19: Westen, nichtliberale Länder | C19: 0 | D19: 0 | E19: 2 | F19: =SUM(C19:E19) -> 2 | H19: =C19/C$31*100 -> 0 | I19: =D19/D$31*100 -> 0 | J19: =E19/E$31*100 -> 2.8571429 | K19: =F19/F$31*100 -> 0.95238095
B20: Westen, historisch | C20: 7 | D20: 1 | E20: 6 | F20: =SUM(C20:E20) -> 14 | H20: =C20/C$31*100 -> 10 | I20: =D20/D$31*100 -> 1.4285714 | J20: =E20/E$31*100 -> 8.5714286 | K20: =F20/F$31*100 -> 6.6666667
A21: Nichtwesten (nicht auf Linie mit USA) | B21: Russland | C21: 25 | D21: 18 | E21: 20 | F21: =SUM(C21:E21) -> 63 | H21: =C21/C$31*100 -> 35.714286 | I21: =D21/D$31*100 -> 25.714286 | J21: =E21/E$31*100 -> 28.571429 | K21: =F21/F$31*100 -> 30
B22: China | C22: 9 | D22: 6 | E22: 7 | F22: =SUM(C22:E22) -> 22 | H22: =C22/C$31*100 -> 12.857143 | I22: =D22/D$31*100 -> 8.5714286 | J22: =E22/E$31*100 -> 10 | K22: =F22/F$31*100 -> 10.47619
B23: Nordkorea | C23: 5 | D23: 3 | E23: 1 | F23: =SUM(C23:E23) -> 9 | H23: =C23/C$31*100 -> 7.1428571 | I23: =D23/D$31*100 -> 4.2857143 | J23: =E23/E$31*100 -> 1.4285714 | K23: =F23/F$31*100 -> 4.2857143
B24: Iran | C24: 1 | D24: 3 | E24: 2 | F24: =SUM(C24:E24) -> 6 | H24: =C24/C$31*100 -> 1.4285714 | I24: =D24/D$31*100 -> 4.2857143 | J24: =E24/E$31*100 -> 2.8571429 | K24: =F24/F$31*100 -> 2.8571429
B25: Nichtwesten, andere Länder | C25: 3 | D25: 6 | E25: 1 | F25: =SUM(C25:E25) -> 10 | H25: =C25/C$31*100 -> 4.2857143 | I25: =D25/D$31*100 -> 8.5714286 | J25: =E25/E$31*100 -> 1.4285714 | K25: =F25/F$31*100 -> 4.7619048
B26: Nichtwesten, antiisraelisch | C26: 0 | D26: 4 | E26: 2 | F26: =SUM(C26:E26) -> 6 | H26: =C26/C$31*100 -> 0 | I26: =D26/D$31*100 -> 5.7142857 | J26: =E26/E$31*100 -> 2.8571429 | K26: =F26/F$31*100 -> 2.8571429
B27: Nichtwesten, antiwestlich | C27: 3 | D27: 0 | E27: 2 | F27: =SUM(C27:E27) -> 5 | H27: =C27/C$31*100 -> 4.2857143 | I27: =D27/D$31*100 -> 0 | J27: =E27/E$31*100 -> 2.8571429 | K27: =F27/F$31*100 -> 2.3809524
B28: Nichtwesten, historisch | C28: 0 | D28: 1 | E28: 1 | F28: =SUM(C28:E28) -> 2 | H28: =C28/C$31*100 -> 0 | I28: =D28/D$31*100 -> 1.4285714 | J28: =E28/E$31*100 -> 1.4285714 | K28: =F28/F$31*100 -> 0.95238095
A29: Indirekt/Vorwürfe | B29: angebl. P. des (liberalen) Westens | C29: 0 | D29: 8 | E29: 5 | F29: =SUM(C29:E29) -> 13 | H29: =C29/C$31*100 -> 0 | I29: =D29/D$31*100 -> 11.428571 | J29: =E29/E$31*100 -> 7.1428571 | K29: =F29/F$31*100 -> 6.1904762
B30: angebl. P. andere als liberaler Westen | C30: 1 | D30: 2 | E30: 1 | F30: =SUM(C30:E30) -> 4 | H30: =C30/C$31*100 -> 1.4285714 | I30: =D30/D$31*100 -> 2.8571429 | J30: =E30/E$31*100 -> 1.4285714 | K30: =F30/F$31*100 -> 1.9047619
A31: Total | B31: . | C31: 70 | D31: 70 | E31: 70 | F31: =SUM(C31:E31) -> 210 | H31: =C31/C$31*100 -> 100 | I31: =D31/D$31*100 -> 100 | J31: =E31/E$31*100 -> 100 | K31: =F31/F$31*100 -> 100
C35: Prozent
C36: SRF | D36: Tagesanzeiger | E36: NZZ | F36: Summe
B37: Allgemein (unkonkret oder unpolitisch) | C37: =H10+H11 -> 11.428571 | D37: =I10+I11 -> 5.7142857 | E37: =J10+J11 -> 2.8571429 | F37: =K10+K11 -> 6.6666667
B38: Beide Seiten (parteiisch oder unparteiisch) | C38: =H12+H13 -> 5.7142857 | D38: =I12+I13 -> 1.4285714 | E38: =J12+J13 -> 2.8571429 | F38: =K12+K13 -> 3.3333333
B39: Westen, "liberale" Akteure | C39: =H14 -> 0 | D39: =I14 -> 0 | E39: =J14 -> 2.8571429 | F39: =K14 -> 0.95238095
B40: Westen, andere Akteure | C40: =H15+H16+H17+H18+H19+H20 -> 15.714286 | D40: =I15+I16+I17+I18+I19+I20 -> 18.571429 | E40: =J15+J16+J17+J18+J19+J20 -> 31.428571 | F40: =K15+K16+K17+K18+K19+K20 -> 21.904762
B41: Nichtwesten (nicht mit USA auf Linie) | C41: =H21+H22+H23+H24+H25+H26+H27+H28 -> 65.714286 | D41: =I21+I22+I23+I24+I25+I26+I27+I28 -> 58.571429 | E41: =J21+J22+J23+J24+J25+J26+J27+J28 -> 51.428571 | F41: =K21+K22+K23+K24+K25+K26+K27+K28 -> 58.571429
B42: Indirekt/Vorwürfe (angebliche P.) | C42: =H29+H30 -> 1.4285714 | D42: =I29+I30 -> 14.285714 | E42: =J29+J30 -> 8.5714286 | F42: =K29+K30 -> 8.0952381
B43: Total | C43: =H31 -> 100 | D43: =I31 -> 100 | E43: =J31 -> 100 | F43: =K31 -> 100

Sheet SRF
C1: Thema | D1: Kategorie | AD1: Bem.
D2: Allgemein/nicht konkret | E2: unpolitisch | F2: Beide Seiten/unparteiisch | G2: Beide Seiten/parteiisch | H2: Westen, liberale Akteure | I2: Westen, populistische/rechte Parteien | J2: Westen, prorussisch | K2: Westen, antiisraelisch | L2: Westen, neonazi | M2: Westen, nichtliberale Länder | N2: Westen, historisch | O2: Russland | P2: China | Q2: Nordkorea | R2: Iran | S2: Nw, andere Länder | T2: Nw, antiisraelisch | U2: Nw, antiwestlich | V2: Nw, historisch | W2: Indirekt/Vorwürfe | X2: angebl. P. des (liberalen) Westens | Y2: angebl. P. andere als liberaler Westen | Z2: Summe
A3: Alle | D3: =SUM(D4:D73) -> 6 | E3: =SUM(E4:E73) -> 2 | F3: =SUM(F4:F73) -> 2 | G3: =SUM(G4:G73) -> 2 | H3: =SUM(H4:H73) -> 0 | I3: =SUM(I4:I73) -> 3 | J3: =SUM(J4:J73) -> 1 | K3: =SUM(K4:K73) -> 0 | ... Y3: =SUM(Y4:Y73) -> 1 | Z3: =SUM(D3:Y3) -> 70
A4: 2026 | B4: 1 | C4: allgemein, soziale Medien, online | D4: 1 | AA4: 46054 | AB4: https://www.srf.ch/news/srf-faktenchecks/globale-medien-im-wandel-wenn-informationen-ueberall-sind-und-vertrauen-schwindet | AC4: .
A5: 2026 | B5: 2 | C5: Russland | O5: 1 | AA5: 46052 | AB5: https://www.srf.ch/news/international/desinformation-in-russland-wie-russland-seine-bevoelkerung-gezielt-manipuliert | AC5: .
A6: 2026 | B6: 3 | C6: allgemein, Beispiel Russland | O6: 1 | AA6: 46052 | AB6: https://www.srf.ch/news/schweiz/fakt-oder-fake-desinformationskampagnen-in-der-schweiz-nehmen-zu | AC6: .
A7: 2026 | B7: 4 | C7: Allgemein/historisch | D7: 1 | AA7: 46051 | AB7: https://www.srf.ch/news/srf-faktenchecks/geschichte-der-fake-news-die-geschichte-von-desinformation-und-fake-news | AC7: .
A8: 2026 | B8: 5 | C8: Russland/Fake News | O8: 1 | AA8: 46050 | AB8: https://www.srf.ch/play/tv/rundschau/video/srf-themenwoche-fakt-oder-fake-russlands-propaganda?urn=urn:srf:video:df420bcf-2d44-4019-ad87-f64b020166c2 | AC8: .
A9: 2026 | B9: 6 | C9: allgemein, online-Netzwerke, teils staatliche Akteure, politische Motive, Geldgier | D9: 1 | AA9: 46049 | AB9: https://www.srf.ch/audio/ratgeber/wer-verbreitet-fake-news?id=AUDI20260127_RS_0015 | AC9: .
A10: 2026 | B10: 7 | C10: Russland | O10: 1 | AA10: 46048 | AB10: https://www.srf.ch/play/tv/rundschau/video/russlands-propaganda---ehemalige-insiderin-packt-aus?urn=urn:srf:video:c274e12c-3c08-4e7f-b9f5-0f4045d79e70 | AC10: .
A11: 2026 | B11: 8 | C11: BR Pfister/Beispiele Russland | O11: 1 | AA11: 46030 | AB11: https://www.srf.ch/news/schweiz/gegen-fake-news-und-propaganda-der-verteidigungsminister-sieht-die-medien-in-der-pflicht | AC11: .
A12: 2026 | B12: 9 | C12: China | P12: 1 | AA12: 46026 | AB12: https://www.srf.ch/news/international/chinas-propaganda-in-taiwan-pro-peking-influencer-testen-die-meinungsfreiheit-in-taiwan | AC12: .
A13: 2026 | B13: 10 | C13: Iran | R13: 1 | AA13: 46046 | AB13: https://www.srf.ch/news/international/repression-im-iran-uns-bluten-die-herzen-iran-nach-der-blutigen-repression | AC13: .
A14: 2025 | B14: 1 | C14: Russland | O14: 1 | AA14: 46010 | AB14: https://www.srf.ch/news/international/moskau-propaganda-und-kontrolle-einblick-in-putins-medienkonferenz | AC14: .
A15: 2025 | B15: 2 | C15: prorussische Propaganda/Baud | J15: 1 | AA15: 46006 | AB15: https://www.srf.ch/news/schweiz/prorussische-propaganda-ehemaliger-oberst-der-schweizer-armee-steht-auf-eu-sanktionsliste | AC15: .
A16: 2025 | B16: 3 | C16: Nordkorea und Russland | Q16: 1 | AA16: 45978 | AB16: https://www.srf.ch/news/international/gemeinsame-berichterstattung-warum-verzahnen-nordkorea-und-russland-ihre-propaganda | AC16: .
A17: 2025 | B17: 4 | C17: Russland/Online-Medien | O17: 1 | AA17: 45963 | AB17: https://www.srf.ch/news/dialog/frankreich-hunderte-falsche-lokalmedien-verbreiten-pro-russische-propaganda | AC17: .
A18: 2025 | B18: 5 | C18: Wahrheiten in Krisenzeiten | D18: 1 | AA18: 45948 | AB18: https://www.srf.ch/play/tv/bleisch--bossart/video/deep-fake-und-propaganda-wahrheit-in-krisenzeiten?urn=urn:srf:video:ca4d8ab3-fa2d-420d-b308-c4e0db9f774c | AC18: .
A19: 2025 | B19: 6 | C19: Israel | I19: 1 | AA19: 45938 | AB19: https://www.srf.ch/news/international/modelle-aus-dem-webshop-realistische-fantasy-die-3d-erklaervideos-der-israelischen-armee | AC19: .
A20: 2025 | B20: 7 | C20: P auf Telegramm / ETH Algorithmus | D20: 1 | AA20: 45889 | AB20: https://www.srf.ch/news/dialog/telegram-wie-die-eth-lausanne-hilft-propaganda-zu-enttarnen | AC20: .
A21: 2025 | B21: 8 | C21: Nordkorea | Q21: 1 | AA21: 45878 | AB21: https://www.srf.ch/news/international/dauerbeschallung-an-grenze-nordkorea-baut-propaganda-lautsprecher-an-grenze-ab | AC21: .
A22: 2025 | B22: 9 | C22: Trump geht gegen Medien vor Schliessung von Auslandsendern / "gegen radikale Propaganda" | I22: 1 | AA22: 45732 | AB22: https://www.srf.ch/news/international/usa/us-auslandssender-beurlaubt-radikale-propaganda-donald-trump-geht-weiter-gegen-medien-vor | AC22: .
A23: 2025 | B23: 10 | C23: Russland | O23: 1 | AA23: 45694 | AB23: https://www.srf.ch/news/international/russlands-propaganda-moskau-setzt-auf-desinformation-in-west-und-suedosteuropa | AC23: .
A24: 2024 | B24: 1 | C24: Autokratien, Rechts- und linksextreme Gruppen … (Alles ausser Westen?) | U24: 1 | AA24: 45587 | AB24: https://www.srf.ch/news/schweiz/sicherheit-schweiz-2024-nachrichtendienst-sieht-mehr-bedrohungen-fuer-die-schweiz | AC24: .
A25: 2024 | B25: 2 | C25: Russland | O25: 1 | AA25: 45574 | AB25: https://www.srf.ch/news/international/russische-propaganda-aus-dem-kreml-kommen-eine-menge-luegen | AC25: .
A26: 2024 | B26: 3 | C26: Russland | O26: 1 | AA26: 45568 | AB26: https://www.srf.ch/kultur/film-serien/propaganda-vorwuerfe-zff-hielt-zunaechst-am-film-russians-at-war-fest-zu-recht | AC26: .
A27: 2024 | B27: 4 | C27: islamische P | U27: 1 | AA27: 45541 | AB27: https://www.srf.ch/news/schweiz/islamistische-propaganda-11-jaehriger-im-wallis-unter-terrorismusverdacht | AC27: .
A28: 2024 | B28: 5 | C28: Nazi-P | N28: 1 | AA28: 45526 | AB28: https://www.srf.ch/kultur/film-serien/neu-im-kino-fuehrer-und-verfuehrer-zeigt-hitlers-wahn-und-goebbels-propaganda | AC28: .
A29: 2024 | B29: 6 | C29: Propaganda des Kremls: So funktioniert sie | O29: 1 | AA29: 45448 | AB29: https://www.srf.ch/news/international/kreml-angriff-auf-viola-amherd-putins-propagandamaschinerie-laeuft-auf-hochtouren | AC29: .
A30: 2024 | B30: 7 | C30: Russland Friedensangebot könnte Finte sein | O30: 1 | AA30: 45436 | AB30: https://www.srf.ch/news/international/waffenstillstand-in-ukraine-friedensangebot-des-kremls-riecht-nach-propaganda | AC30: .
A31: 2024 | B31: 8 | C31: Nordkorea | Q31: 1 | AA31: 45422 | AB31: https://www.srf.ch/news/international/propaganda-auf-social-media-kim-jong-un-geht-mit-neuem-tiktok-video-viral | AC31: .
A32: 2024 | B32: 9 | C32: Propaganda in Nahost | F32: 1 | AA32: 45357 | AB32: https://www.srf.ch/play/tv/rundschau/video/die-rolle-der-medien-propaganda-im-nahost?urn=urn:srf:video:9b85c73d-438a-4eef-a810-ca77761b5acf | AC32: .
A33: 2024 | B33: 10 | C33: Russland | O33: 1 | AA33: 45344 | AB33: https://www.srf.ch/play/tv/srf-news-videos/video/fuer-propaganda-russisches-staatsfernsehen-verfaelscht-srf-reportage?urn=urn:srf:video:e70e6b45-2e22-47de-909c-2004f1f797e3 | AC33: .
A34: 2023 | B34: 1 | C34: Kriegspropaganda erkennen (ISR/PALÄ neutral, pro Ukraine) | G34: 1 | AA34: 45224 | AB34: https://www.srf.ch/audio/tagesgespraech/susanne-brunner-david-nauer-propaganda-im-krieg?id=82842604-c7e7-4a34-ad2f-a98deb304356 | AC34: .
A35: 2023 | B35: 2 | C35: allgemein | D35: 1 | AA35: 45217 | AB35: https://www.srf.ch/play/tv/bleisch--bossart/video/deep-fake-und-propaganda-wahrheit-in-krisenzeiten?urn=urn:srf:video:ca4d8ab3-fa2d-420d-b308-c4e0db9f774c | AC35: .
A36: 2023 | B36: 3 | C36: China | P36: 1 | AA36: 45208 | AB36: https://www.srf.ch/news/schweiz/kritik-an-ausstellung-chinesische-propaganda-im-luzerner-verkehrshaus | AC36: .
A37: 2023 | B37: 4 | C37: Hongkong/China | P37: 1 | AA37: 45088 | AB37: https://www.srf.ch/news/international/einschraenkung-der-freiheiten-an-hongkongs-schulen-haelt-die-propaganda-einzug | AC37: .
A38: 2023 | B38: 5 | C38: Nazi | N38: 1 | AA38: 45063 | AB38: https://www.srf.ch/kultur/gesellschaft-religion/nazi-propaganda-mit-swing-die-band-die-fuer-hitler-den-verpoenten-jazz-spielte | AC38: .
A39: 2023 | B39: 6 | C39: Putins Gehirnwäsche | O39: 1 | AA39: 45056 | AB39: https://www.srf.ch/play/tv/rundschau/video/putins-gehirnwaesche-propaganda-als-kriegswaffe?urn=urn:srf:video:a97d3a49-adc7-44c1-b644-9970e21d1668 | AC39: .
A40: 2023 | B40: 7 | C40: Russland | O40: 1 | AA40: 45054 | AB40: https://www.srf.ch/news/international/langer-arm-des-kremls-so-unterwandert-moskau-demos-im-westen | AC40: . | AD40: Russland soll in westlichen Grossstädten Demonstrationen inszeniert oder unterwandert haben – dies zu Propagandazwecken. Das legen Dokumente nahe, die aus dem russischen Sicherheitsapparat stammen sollen. Diese liegen mehreren internationalen Medien vor, darunter der «Süddeutschen Zeitung», der ARD-Tagesschau und der französischen Zeitung «Le Monde».
...

Sheet TA
A1: Bis 12.2.2026 | C1: Thema | D1: Kategorie | AA1: Link | AB1: Titel | AD1: Bem.
D2: Allgemein/nicht konkret | E2: unpolitisch | F2: Beide Seiten/unparteiisch | G2: Beide Seiten/parteiisch | H2: Westen | I2: Westen, liberale Parteien | J2: Westen, populistische/rechte Parteien | K2: Westen, prorussisch | L2: Westen, antiisraelisch | M2: Westen, neonazi | N2: Westen, nichtliberale Länder | O2: Westen, historisch | P2: Russland | Q2: China | R2: Nordkorea | S2: Iran | T2: Nw, andere Länder | U2: Nw, antiisraelisch | V2: Nw, antiwestlich | W2: Nw, historisch | X2: Indirekt, angebl. P. des (liberalen) Westens | Y2: Indirekt angebl. P. andere als liberaler Westen | Z2: Summe | AA2: .
A3: Alle | D3: =SUM(D4:D73) -> 1 | E3: =SUM(E4:E73) -> 3 | F3: =SUM(F4:F73) -> 1 | G3: =SUM(G4:G73) -> 0 | H3: =SUM(H4:H73) -> 0 | I3: =SUM(I4:I73) -> 0 | J3: =SUM(J4:J73) -> 9 | K3: =SUM(K4:K73) -> 2 | ... Y3: =SUM(Y4:Y73) -> 2 | Z3: =SUM(D3:Y3) -> 70
A4: 2026/letzte 10 | B4: 1 | C4: Propagandavorwurf AfD an ARD und ZDF | X4: 1 | AA4: https://tda-horton-files-prod.s3.eu-central-1.amazonaws.com/TA/2026-02-12/10/f202602/ta_20260212_0_0_10.pdf?X-Amz-Algorithm=AWS4-HMAC-SHA256&X-Amz-Date=20260219T115003Z&X-Amz-SignedHeaders=host&X-Amz-Expires=3600&X-Amz-Credential=AKIA4HE6DDY6SAOQJ6SO%2F20260219%2Feu-central-1%2Fs3%2Faws4_request&X-Amz-Signature=cc7d02b0d3421cd84e57d969cb20091e28b2259ade9011148b1f02e6576a4caf | AB4: Zu links, zu teuer? Deutschland streitet über ARD und ZDF | AC4: .
A5: total bis 12.2.26: | B5: 2 | C5: Mund-zu-Mund-Propaganda | E5: 1 | AA5: https://tda-horton-files-prod.s3.eu-central-1.amazonaws.com/TA/2026-02-10/23/f202602/ta_20260210_0_0_23.pdf?X-Amz-Algorithm=AWS4-HMAC-SHA256&X-Amz-Date=20260219T115215Z&X-Amz-SignedHeaders=host&X-Amz-Expires=3599&X-Amz-Credential=AKIA4HE6DDY6SAOQJ6SO%2F20260219%2Feu-central-1%2Fs3%2Faws4_request&X-Amz-Signature=846c8b0838641778f1a3f2739d814db90a730c57881118609d0a6e57f2e2d532 | AB5: In dieser «Landbeiz» landet niemand per Zufall | AC5: .
A6: 10 | B6: 3 | C6: Iran, antiamerikanische | S6: 1 | AA6: https://tda-horton-files-prod.s3.eu-central-1.amazonaws.com/TA/2026-02-06/8/f202602/ta_20260206_0_0_8.pdf?X-Amz-Algorithm=AWS4-HMAC-SHA256&X-Amz-Date=20260218T130304Z&X-Amz-SignedHeaders=host&X-Amz-Expires=3600&X-Amz-Credential=AKIA4HE6DDY6SAOQJ6SO%2F20260218%2Feu-central-1%2Fs3%2Faws4_request&X-Amz-Signature=325f99fd35b066f37cf82e0204f361d5c9ce0b7f7ffc19daed54803bed84374d | AB6: «Keine Sorge, ich bin am Leben» | AC6: .
B7: 4 | C7: Kremlpropaganda in Berlin | P7: 1 | AA7: https://tda-horton-files-prod.s3.eu-central-1.amazonaws.com/TA/2026-02-04/11/f202602/ta_20260204_0_0_11.pdf?X-Amz-Algorithm=AWS4-HMAC-SHA256&X-Amz-Date=20260218T130758Z&X-Amz-SignedHeaders=host&X-Amz-Expires=3600&X-Amz-Credential=AKIA4HE6DDY6SAOQJ6SO%2F20260218%2Feu-central-1%2Fs3%2Faws4_request&X-Amz-Signature=a358a926e0b928bac6b9794561422937b583902c80d16ab30b985e7f5bc99ba7 | AB7: Mit Fahne und Musikbox gegen Putins Kulturhaus | AC7: .
B8: 5 | C8: lange als (antiisraelische) Propaganda abgetan | X8: 1 | AA8: https://tda-horton-files-prod.s3.eu-central-1.amazonaws.com/TA/2026-02-02/6/f202602/ta_20260202_0_0_6.pdf?X-Amz-Algorithm=AWS4-HMAC-SHA256&X-Amz-Date=20260218T130830Z&X-Amz-SignedHeaders=host&X-Amz-Expires=3600&X-Amz-Credential=AKIA4HE6DDY6SAOQJ6SO%2F20260218%2Feu-central-1%2Fs3%2Faws4_request&X-Amz-Signature=93b388268177abc6f6f2004543a651178ff0556d6f3ee29ba84ec9a87fe4b08c | AB8: Israel gibt zu, dass in Gaza 70’000 Palästinenser getötet wurden | AC8: .
B9: 6 | C9: Iran | S9: 1 | AA9: https://tda-horton-files-prod.s3.eu-central-1.amazonaws.com/TA/2026-01-27/7/f202601/ta_20260127_0_0_7.pdf?X-Amz-Algorithm=AWS4-HMAC-SHA256&X-Amz-Date=20260218T131157Z&X-Amz-SignedHeaders=host&X-Amz-Expires=3600&X-Amz-Credential=AKIA4HE6DDY6SAOQJ6SO%2F20260218%2Feu-central-1%2Fs3%2Faws4_request&X-Amz-Signature=1371a6297a91ef4a98c1dea717095ec0aa0acbdbf9e8f821cbb64d71a497ceb6 | AB9: Bis zu 30’000 Tote: Wurde im Iran das grösste Massaker seit Jahrzehnten verübt? | AC9: .
B10: 7 | C10: Kreml-Propaganda | P10: 1 | AA10: https://tda-horton-files-prod.s3.eu-central-1.amazonaws.com/TA/2026-01-16/10/f202601/ta_20260116_0_0_10.pdf?X-Amz-Algorithm=AWS4-HMAC-SHA256&X-Amz-Date=20260218T131404Z&X-Amz-SignedHeaders=host&X-Amz-Expires=3600&X-Amz-Credential=AKIA4HE6DDY6SAOQJ6SO%2F20260218%2Feu-central-1%2Fs3%2Faws4_request&X-Amz-Signature=5bb4b83d22f653aac48d8b655a0895b7a89c48d9501d5d32581177554a1725dc | AB10: Mit dem Kampf gegen unliebsame Stimmen hat es Deutschland übertrieben | AC10: .
B11: 8 | C11: Nazi/Goebbels | O11: 1 | AA11: https://tda-horton-files-prod.s3.eu-central-1.amazonaws.com/TA/2026-01-14/30/f202601/ta_20260114_0_0_30.pdf?X-Amz-Algorithm=AWS4-HMAC-SHA256&X-Amz-Date=20260218T131509Z&X-Amz-SignedHeaders=host&X-Amz-Expires=3600&X-Amz-Credential=AKIA4HE6DDY6SAOQJ6SO%2F20260218%2Feu-central-1%2Fs3%2Faws4_request&X-Amz-Signature=1bfa47d4f312424cb59e3fe3a3dd4f905b517aac36adb23e029de20e08f0de5f | AB11: «Arier-Baby» auf Nazi-Heft war Jüdin | AC11: .
B12: 9 | C12: Russland | P12: 1 | AA12: https://tda-horton-files-prod.s3.eu-central-1.amazonaws.com/TA/2026-01-10/11/f202601/ta_20260110_0_0_11.pdf?X-Amz-Algorithm=AWS4-HMAC-SHA256&X-Amz-Date=20260218T131623Z&X-Amz-SignedHeaders=host&X-Amz-Expires=3600&X-Amz-Credential=AKIA4HE6DDY6SAOQJ6SO%2F20260218%2Feu-central-1%2Fs3%2Faws4_request&X-Amz-Signature=200042dee0b9a25e3f12ae2e9e0e5fb543ec0df3ce227e34940daf345256475d | AB12: Der Oreschnik-Angriff zeigt Putins Schwäche | AC12: .
B13: 10 | C13: Russland | P13: 1 | AA13: https://tda-horton-files-prod.s3.eu-central-1.amazonaws.com/TA/2026-01-08/10/f202601/ta_20260108_0_0_10.pdf?X-Amz-Algorithm=AWS4-HMAC-SHA256&X-Amz-Date=20260218T131752Z&X-Amz-SignedHeaders=host&X-Amz-Expires=3600&X-Amz-Credential=AKIA4HE6DDY6SAOQJ6SO%2F20260218%2Feu-central-1%2Fs3%2Faws4_request&X-Amz-Signature=1064e209de997f722fb01b7bc6976e458d361cf6e88ae2f13c0e197cb188bc90 | AB13: Der Kreml steckt kaum hinter dem Brandanschlag | AC13: .
A14: 2025/letzte 10 | B14: 1 | C14: Rechte Propaganda und Agitation | J14: 1 | AA14: https://tda-horton-files-prod.s3.eu-central-1.amazonaws.com/TA/2025-12-31/10/f202512/ta_20251231_0_0_10.pdf?X-Amz-Algorithm=AWS4-HMAC-SHA256&X-Amz-Date=20260218T132225Z&X-Amz-SignedHeaders=host&X-Amz-Expires=3600&X-Amz-Credential=AKIA4HE6DDY6SAOQJ6SO%2F20260218%2Feu-central-1%2Fs3%2Faws4_request&X-Amz-Signature=169ba53f40b1231d7e8ef672afaa921bf3661e169f3dbeaa2fcbce90c012dce8 | AB14: Ein fanatischer Trump-Fan hilft jetzt anderen, von ihm loszukommen | AC14: .
A15: Total Jahr: | B15: 2 | C15: Nordkorea | R15: 1 | AA15: https://tda-horton-files-prod.s3.eu-central-1.amazonaws.com/TA/2025-12-29/9/f202512/ta_20251229_0_0_9.pdf?X-Amz-Algorithm=AWS4-HMAC-SHA256&X-Amz-Date=20260218T132359Z&X-Amz-SignedHeaders=host&X-Amz-Expires=3600&X-Amz-Credential=AKIA4HE6DDY6SAOQJ6SO%2F20260218%2Feu-central-1%2Fs3%2Faws4_request&X-Amz-Signature=116e0e5760671398737d84a679e6b3f9b32cb07c3aed8c0337a2609e56e4887 | AB15: Kim Ju-ae – das gefährlichste Mädchen der Welt? | AC15: .
A16: 161 | B16: 3 | C16: Prorussische | K16: 1 | AA16: https://tda-horton-files-prod.s3.eu-central-1.amazonaws.com/TA/2025-12-27/5/f202512/ta_20251227_0_0_5.pdf?X-Amz-Algorithm=AWS4-HMAC-SHA256&X-Amz-Date=20260218T132825Z&X-Amz-SignedHeaders=host&X-Amz-Expires=3600&X-Amz-Credential=AKIA4HE6DDY6SAOQJ6SO%2F20260218%2Feu-central-1%2Fs3%2Faws4_request&X-Amz-Signature=4fb633157fb2201fb28c3e612088c67ede692a694a236fe55c927a49c7128d92 | AB16: «Roger Köppel sollte sich sofort proaktiv an die EU wenden» | AC16: .
B17: 4 | C17: Prorussische | K17: 1 | AA17: https://tda-horton-files-prod.s3.eu-central-1.amazonaws.com/TA/2025-12-24/4/f202512/ta_20251224_0_0_4.pdf?X-Amz-Algorithm=AWS4-HMAC-SHA256&X-Amz-Date=20260218T132858Z&X-Amz-SignedHeaders=host&X-Amz-Expires=3600&X-Amz-Credential=AKIA4HE6DDY6SAOQJ6SO%2F20260218%2Feu-central-1%2Fs3%2Faws4_request&X-Amz-Signature=24f20dbbd62125a77997cf499ecb5c7083aaa46ea8bc702314dcfce8ab521aad | AB17: EU-Sanktion gegen Jacques Baud: Blieb der Bund zu lange untätig? | AC17: .
B18: 5 | C18: China | Q18: 1 | AA18: https://tda-horton-files-prod.s3.eu-central-1.amazonaws.com/TA/2025-12-20/6/f202512/ta_20251220_0_0_6.pdf?X-Amz-Algorithm=AWS4-HMAC-SHA256&X-Amz-Date=20260218T132921Z&X-Amz-SignedHeaders=host&X-Amz-Expires=3600&X-Amz-Credential=AKIA4HE6DDY6SAOQJ6SO%2F20260218%2Feu-central-1%2Fs3%2Faws4_request&X-Amz-Signature=26c54d936b4f3d3e12b139e74fa08420b044d070f5fc5db8ec6bcd1e28d039ff | AB18: Das Tiktok-Manöver soll Trump dienen | AC18: .
B19: 6 | C19: Russland | P19: 1 | AA19: https://tda-horton-files-prod.s3.eu-central-1.amazonaws.com/TA/2025-12-17/6/f202512/ta_20251217_0_0_6.pdf?X-Amz-Algorithm=AWS4-HMAC-SHA256&X-Amz-Date=20260218T133107Z&X-Amz-SignedHeaders=host&X-Amz-Expires=3600&X-Amz-Credential=AKIA4HE6DDY6SAOQJ6SO%2F20260218%2Feu-central-1%2Fs3%2Faws4_request&X-Amz-Signature=a0df13260ae950c85cea12eb61a64aa95f559c5f6e285666f6621fd4505fef4d | AB19: Die Europäer sind für Moskau nur Störenfriede | AC19: .
B20: 7 | C20: Russland | P20: 1 | AA20: https://tda-horton-files-prod.s3.eu-central-1.amazonaws.com/TA/2025-12-16/6/f202512/ta_20251216_0_0_6.pdf?X-Amz-Algorithm=AWS4-HMAC-SHA256&X-Amz-Date=20260218T133139Z&X-Amz-SignedHeaders=host&X-Amz-Expires=3599&X-Amz-Credential=AKIA4HE6DDY6SAOQJ6SO%2F20260218%2Feu-central-1%2Fs3%2Faws4_request&X-Amz-Signature=8ae7ce68fea93aec5b086bee60120bd7d385ddcc019f7977ab6d4a19e790e7b5 | AB20: Selenskyjs schwieriger Balanceakt | AC20: .
B21: 8 | C21: Russland | P21: 1 | AA21: https://tda-horton-files-prod.s3.eu-central-1.amazonaws.com/TA/2025-12-15/9/f202512/ta_20251215_0_0_9.pdf?X-Amz-Algorithm=AWS4-HMAC-SHA256&X-Amz-Date=20260218T133303Z&X-Amz-SignedHeaders=host&X-Amz-Expires=3600&X-Amz-Credential=AKIA4HE6DDY6SAOQJ6SO%2F20260218%2Feu-central-1%2Fs3%2Faws4_request&X-Amz-Signature=316abd9829a09cc2c9f12452b528ba047f6f11033151e5a783669dc210ddbba0 | AB21: In Berlin fallen die Würfel für den Ukraine-Frieden | AC21: .
B22: 9 | C22: Russland | P22: 1 | AA22: https://tda-horton-files-prod.s3.eu-central-1.amazonaws.com/TA/2025-12-13/9/f202512/ta_20251213_0_0_9.pdf?X-Amz-Algorithm=AWS4-HMAC-SHA256&X-Amz-Date=20260218T133349Z&X-Amz-SignedHeaders=host&X-Amz-Expires=3600&X-Amz-Credential=AKIA4HE6DDY6SAOQJ6SO%2F20260218%2Feu-central-1%2Fs3%2Faws4_request&X-Amz-Signature=8e30a8d992fccca4ffd79246a81a352fb7d98d086ce17d89f8cd062ca58c41b9 | AB22: Der EU-Kredit ist auch im Interesse Belgiens | AC22: .
B23: 10 | C23: Russland | P23: 1 | AA23: https://tda-horton-files-prod.s3.eu-central-1.amazonaws.com/TA/2025-12-03/10/f202512/ta_20251203_0_0_10.pdf?X-Amz-Algorithm=AWS4-HMAC-SHA256&X-Amz-Date=20260218T133853Z&X-Amz-SignedHeaders=host&X-Amz-Expires=3599&X-Amz-Credential=AKIA4HE6DDY6SAOQJ6SO%2F20260218%2Feu-central-1%2Fs3%2Faws4_request&X-Amz-Signature=958e22bbe8a7d13e8372f34c982e6beb74c856421cecb08b056aa803e9eeedee | AB23: Ermittlungen gegen Mogherini wegen Betrugs | AC23: . | AD23: 2017 geriet Mogherini unter Druck, weil sie sich weigerte, der Gefahr durch die zunehmend feindselige russische Propagan- da entschieden zu begegnen. Sie wollte nicht zugeben, dass Russ- land der Hauptverursacher «feind- licher Desinformation» in Europa sei. Intellektuelle, Journalistinnen und Politiker aus Grossbritannien, Polen oder dem Baltikum warfen ihr vor, Russlands Aggressionen beständig schönzureden.
A24: 2024/letzte 10 | B24: 1 | C24: Serbien, Staatspropaganda | J24: 1 | AA24: https://tda-horton-files-prod.s3.eu-central-1.amazonaws.com/TA/2024-12-23/13/f202412/ta_20241223_0_0_13.pdf?X-Amz-Algorithm=AWS4-HMAC-SHA256&X-Amz-Date=20260218T134415Z&X-Amz-SignedHeaders=host&X-Amz-Expires=3599&X-Amz-Credential=AKIA4HE6DDY6SAOQJ6SO%2F20260218%2Feu-central-1%2Fs3%2Faws4_request&X-Amz-Signature=b71af50e5f18eb46637655b94e5541aa79b5cdc356b9ff0a4bad0521f13e5e43 | AB24: «Diese Proteste wirken wie eine kollektive Psychotherapie» | AC24: .
B25: 2 | C25: Frauen/Frauenfeindlichkeit(FC Schaffhausen-FC Winti, "Winti Fraue, Fige und Verhaue") | J25: 1 | AA25: https://tda-horton-files-prod.s3.eu-central-1.amazonaws.com/TA/2024-12-21/4/f202412/ta_20241221_0_0_4.pdf?X-Amz-Algorithm=AWS4-HMAC-SHA256&X-Amz-Date=20260218T134600Z&X-Amz-SignedHeaders=host&X-Amz-Expires=3600&X-Amz-Credential=AKIA4HE6DDY6SAOQJ6SO%2F20260218%2Feu-central-1%2Fs3%2Faws4_request&X-Amz-Signature=39b962b7e4fa2847d5f5e344ecdbae40cc6c9abba6b43dec213b563323a2899f | AB25: Aufruf zu Gewalt gegen Frauen soll strafbar werden | AC25: . | AD25: Marianne Binder-Keller (Mitte), die einen der Vorstösse ein gereicht hatte, sagte in ihrem Votum: «Gewalt entsteht aus Worten.» Worte könnten etwa die Vorbereitungshandlungen eines Krieges sein, «Propaganda – die Schaffung von Feindbildern, das Einschwören auf den Gegner als hassenswerte Figur, der Auf ruf zu Hass».
A26: 162 | B26: 3 | C26: Russland | P26: 1 | AA26: https://tda-horton-files-prod.s3.eu-central-1.amazonaws.com/TA/2024-12-06/10/f202412/ta_20241206_0_0_10.pdf?X-Amz-Algorithm=AWS4-HMAC-SHA256&X-Amz-Date=20260218T135052Z&X-Amz-SignedHeaders=host&X-Amz-Expires=3599&X-Amz-Credential=AKIA4HE6DDY6SAOQJ6SO%2F20260218%2Feu-central-1%2Fs3%2Faws4_request&X-Amz-Signature=b27881e61f9e5b1c41dcf01852490551864734e9ec3c21577861af5d5d2a2db1 | AB26: «Tsunami der Desinformation» | AC26: .
B27: 4 | C27: Rechtsextrem, Junge Tat | M27: 1 | AA27: https://tda-horton-files-prod.s3.eu-central-1.amazonaws.com/TA/2024-12-05/21/f202412/ta_20241205_0_0_21.pdf?X-Amz-Algorithm=AWS4-HMAC-SHA256&X-Amz-Date=20260218T135117Z&X-Amz-SignedHeaders=host&X-Amz-Expires=3600&X-Amz-Credential=AKIA4HE6DDY6SAOQJ6SO%2F20260218%2Feu-central-1%2Fs3%2Faws4_request&X-Amz-Signature=0ac9e1d24dfd93937b900927037f6c1241ecd08692c2e3b910a830bcc4d536b3 | AB27: Standbewilligung für Chef der Jungen Tat sistiert | AC27: .
B28: 5 | C28: Hitzbollah (für Palästina, gegen Israel) | U28: 1 | AA28: https://tda-horton-files-prod.s3.eu-central-1.amazonaws.com/TA/2024-12-03/11/f202412/ta_20241203_0_0_11.pdf?X-Amz-Algorithm=AWS4-HMAC-SHA256&X-Amz-Date=20260218T135325Z&X-Amz-SignedHeaders=host&X-Amz-Expires=3600&X-Amz-Credential=AKIA4HE6DDY6SAOQJ6SO%2F20260218%2Feu-central-1%2Fs3%2Faws4_request&X-Amz-Signature=b86701efc68add92f23a410f0989c5c555dd62b51f85c40b1188ca225b4cb300 | AB28: Für den Diktator könnte es sehr schnell eng werden | AC28: .
B29: 6 | C29: Syrien, des Regimes | T29: 1 | AA29: https://tda-horton-files-prod.s3.eu-central-1.amazonaws.com/TA/2024-12-02/9/f202412/ta_20241202_0_0_9.pdf?X-Amz-Algorithm=AWS4-HMAC-SHA256&X-Amz-Date=20260218T135448Z&X-Amz-SignedHeaders=host&X-Amz-Expires=3599&X-Amz-Credential=AKIA4HE6DDY6SAOQJ6SO%2F20260218%2Feu-central-1%2Fs3%2Faws4_request&X-Amz-Signature=892a85f00c64e49b2407d61c224091ab1bafa229aee6c48ee76f76f6244563ca | AB29: «Sollen wir den Moment geniessen, oder sollen wir Gräber ausheben?» | AC29: .
B30: 7 | C30: Russland | P30: 1 | AA30: https://tda-horton-files-prod.s3.eu-central-1.amazonaws.com/TA/2024-11-29/10/f202411/ta_20241129_0_0_10.pdf?X-Amz-Algorithm=AWS4-HMAC-SHA256&X-Amz-Date=20260218T135625Z&X-Amz-SignedHeaders=host&X-Amz-Expires=3600&X-Amz-Credential=AKIA4HE6DDY6SAOQJ6SO%2F20260218%2Feu-central-1%2Fs3%2Faws4_request&X-Amz-Signature=63b39f55883e22f2351c050ad36215061deacf5645707b38d7e22cb35f7403d1 | AB30: Trumps Ukraine-Sondergesandter hat einen Plan: Mehr Waffen | AC30: .
B31: 8 | C31: Brasilien, Bolsonaro, Netzwerk X, | J31: 1 | AA31: https://tda-horton-files-prod.s3.eu-central-1.amazonaws.com/TA/2024-11-29/11/f202411/ta_20241129_0_0_11.pdf?X-Amz-Algorithm=AWS4-HMAC-SHA256&X-Amz-Date=20260218T135714Z&X-Amz-SignedHeaders=host&X-Amz-Expires=3600&X-Amz-Credential=AKIA4HE6DDY6SAOQJ6SO%2F20260218%2Feu-central-1%2Fs3%2Faws4_request&X-Amz-Signature=dfda873f1eb92dac96c4079e84dce9ab45a2ef6b817477c87c9e8dfec5c7b011 | AB31: Brasiliens Präsidentenpaar bekämpft Elon Musk | AC31: .
B32: 9 | C32: Russland (Sputnik), Unterstützung für Georgescu in Rumänien | P32: 1 | AA32: https://tda-horton-files-prod.s3.eu-central-1.amazonaws.com/TA/2024-11-26/8/f202411/ta_20241126_0_0_8.pdf?X-Amz-Algorithm=AWS4-HMAC-SHA256&X-Amz-Date=20260218T140111Z&X-Amz-SignedHeaders=host&X-Amz-Expires=3600&X-Amz-Credential=AKIA4HE6DDY6SAOQJ6SO%2F20260218%2Feu-central-1%2Fs3%2Faws4_request&X-Amz-Signature=45adac620e9c2bb97bd774c68fdba01c73a9b840617a25969fdb0b085bb86b6a | AB32: Ein Putin-Bewunderer bringt Rumänien ins Wanken | AC32: .
B33: 10 | C33: Hitler | O33: 1 | AA33: https://tda-horton-files-prod.s3.eu-central-1.amazonaws.com/TA/2024-11-26/15/f202411/ta_20241126_0_0_15.pdf?X-Amz-Algorithm=AWS4-HMAC-SHA256&X-Amz-Date=20260218T140319Z&X-Amz-SignedHeaders=host&X-Amz-Expires=3600&X-Amz-Credential=AKIA4HE6DDY6SAOQJ6SO%2F20260218%2Feu-central-1%2Fs3%2Faws4_request&X-Amz-Signature=bee525a220a5937ea354fbeba67359f1c9690557c8712e849dc0c0666f56d409 | AB33: «Riefenstahls Schuld ist viel grösser, als man bisher annahm» | AC33: .
A34: 2023/letzte 10 | B34: 1 | C34: China | Q34: 1 | AA34: https://tda-horton-files-prod.s3.eu-central-1.amazonaws.com/TA/2023-12-23/4/f202312/ta_20231223_0_0_4.pdf?X-Amz-Algorithm=AWS4-HMAC-SHA256&X-Amz-Date=20260218T140533Z&X-Amz-SignedHeaders=host&X-Amz-Expires=3599&X-Amz-Credential=AKIA4HE6DDY6SAOQJ6SO%2F20260218%2Feu-central-1%2Fs3%2Faws4_request&X-Amz-Signature=a99723f17750390c461b1c5edb7eb137f5317858caf0e08c17d1bb9a6201ff11 | AB34: «Die Zeit der Schweizer Naivität ist vorbei» | AC34: .
B35: 2 | C35: Russland | P35: 1 | AA35: https://tda-horton-files-prod.s3.eu-central-1.amazonaws.com/TA/2023-12-23/10/f202312/ta_20231223_0_0_10.pdf?X-Amz-Algorithm=AWS4-HMAC-SHA256&X-Amz-Date=20260218T140701Z&X-Amz-SignedHeaders=host&X-Amz-Expires=3600&X-Amz-Credential=AKIA4HE6DDY6SAOQJ6SO%2F20260218%2Feu-central-1%2Fs3%2Faws4_request&X-Amz-Signature=156b0a3b7bf16009dc94fd752c8f8125c761d540f89d3d4a8a541205f828e42f | AB35: «Wir sind das unglückliche eine Prozent» | AC35: .
A36: 200 | B36: 3 | C36: Konrad F. sagt, Anschuldigung des Sudanesen Hamza (der Hamas/Terror-Unterstützung) sei pure Propaganda | X36: 1 | AA36: https://tda-horton-files-prod.s3.eu-central-1.amazonaws.com/TA/2023-12-21/12/f202312/ta_20231221_0_0_12.pdf?X-Amz-Algorithm=AWS4-HMAC-SHA256&X-Amz-Date=20260218T140744Z&X-Amz-SignedHeaders=host&X-Amz-Expires=3599&X-Amz-Credential=AKIA4HE6DDY6SAOQJ6SO%2F20260218%2Feu-central-1%2Fs3%2Faws4_request&X-Amz-Signature=142472747709473587af82bf3c8e1fde8577183efbe6d58c2d5ee119f6a01fe9 | AB36: Schweizer Mallorca-Rentner geschäftet mit Hamas-Finanzierer | AC36: .
B37: 4 | C37: Frankreich, Rechte/konservative Propaganda (findet die Zeitung Le Parisien) | Y37: 1 | AA37: https://tda-horton-files-prod.s3.eu-central-1.amazonaws.com/TA/2023-12-16/12/f202312/ta_20231216_0_0_12.pdf?X-Amz-Algorithm=AWS4-HMAC-SHA256&X-Amz-Date=20260218T141256Z&X-Amz-SignedHeaders=host&X-Amz-Expires=3599&X-Amz-Credential=AKIA4HE6DDY6SAOQJ6SO%2F20260218%2Feu-central-1%2Fs3%2Faws4_request&X-Amz-Signature=a31a1ee71e8c328ccd45abde20b471218674c510b124affc18e409964f7bd8a6 | AB37: Auf CNews ist jetzt mal Bürgerkrieg | AC37: .
B38: 5 | C38: Russland lgbtq | P38: 1 | AA38: https://tda-horton-files-prod.s3.eu-central-1.amazonaws.com/TA/2023-12-12/10/f202312/ta_20231212_0_0_10.pdf?X-Amz-Algorithm=AWS4-HMAC-SHA256&X-Amz-Date=20260218T141926Z&X-Amz-SignedHeaders=host&X-Amz-Expires=3600&X-Amz-Credential=AKIA4HE6DDY6SAOQJ6SO%2F20260218%2Feu-central-1%2Fs3%2Faws4_request&X-Amz-Signature=ee0c75ad10d1e1e56f5a9bc16bec776e3b1896f7d80477dae9c044bac2dfd1ca | AB38: Verbote und Hetze: Minderheit wird wegen ihrer Sexualität kriminalisiert | AC38: .
B39: 6 | C39: Iran, wegen angeblicher Propaganda gegen den Staat Iran in Haft | Y39: 1 | AA39: https://tda-horton-files-prod.s3.eu-central-1.amazonaws.com/TA/2023-12-11/11/f202312/ta_20231211_0_0_11.pdf?X-Amz-Algorithm=AWS4-HMAC-SHA256&X-Amz-Date=20260218T142024Z&X-Amz-SignedHeaders=host&X-Amz-Expires=3599&X-Amz-Credential=AKIA4HE6DDY6SAOQJ6SO%2F20260218%2Feu-central-1%2Fs3%2Faws4_request&X-Amz-Signature=4740c80c62abc46600d01dac2974f3a366087d06151c2012df35034653c7e7e6 | AB39: Inhaftierte Friedensnobelpreisträgerin Mohammadi zeigt sich unbeugsam | AC39: .
B40: 7 | C40: China | Q40: 1 | AA40: https://tda-horton-files-prod.s3.eu-central-1.amazonaws.com/TA/2023-12-09/7/f202312/ta_20231209_0_0_7.pdf?X-Amz-Algorithm=AWS4-HMAC-SHA256&X-Amz-Date=20260218T142323Z&X-Amz-SignedHeaders=host&X-Amz-Expires=3599&X-Amz-Credential=AKIA4HE6DDY6SAOQJ6SO%2F20260218%2Feu-central-1%2Fs3%2Faws4_request&X-Amz-Signature=a6b7ab614ecd9e6313fbbd0c4669248e73b9a53bedb06cfb60c71ddfad0af578 | AB40: Kleider aus Zwangsarbeit in China? | AC40: .
...

Sheet NZZ
C1: Thema | D1: Kategorie | AA1: Datum | AB1: Link/Datum | AD1: Bem.
D2: Allgemein/nicht konkret | E2: Kriminelle/unpolitisch | F2: Beide Seiten/unparteiisch | G2: Beide Seiten/parteiisch | H2: Westen, liberale Parteien | I2: Westen, populistische/rechte Parteien | J2: Westen, prorussisch | K2: Westen, antiisraelisch | L2: Westen, neonazi | M2: Westen, nichtliberale Länder | N2: Westen, historisch | O2: Russland | P2: China | Q2: Nordkorea | R2: Iran | S2: Nichtwesten, andere Länder | T2: Nichtwestlich, antiisraelisch | U2: Nichtwesten, antiwestlich | V2: Nichtwesten, historisch | W2: Indirekt/Vorwürfe | X2: angebliche P. des (liberalen) Westens | Y2: angebliche P. andere als liberaler Westen | AA2: (s. Link)
A3: Alle | D3: =SUM(D4:D73) -> 1 | E3: =SUM(E4:E73) -> 1 | F3: =SUM(F4:F73) -> 0 | G3: =SUM(G4:G73) -> 2 | H3: =SUM(H4:H73) -> 2 | I3: =SUM(I4:I73) -> 7 | J3: =SUM(J4:J73) -> 3 | K3: =SUM(K4:K73) -> 2 | ... Y3: =SUM(Y4:Y73) -> 1 | Z3: =SUM(D3:Y3) -> 70
A4: 2026/letzte 10 | B4: 1 | C4: Russland | O4: 1 | AA4: 46064 | AB4: https://zeitungsarchiv.nzz.ch/read/2922759/2922759/2026-02-11/2 | AC4: .
B5: 2 | C5: "war weder Propagandakunst für Katar noch…" | Y5: 1 | AA5: 46063 | AB5: https://zeitungsarchiv.nzz.ch/read/2922723/2922723/2026-02-10/18 | AC5: .
B6: 3 | C6: Nato-Kritiker | X6: 1 | AA6: 46062 | AB6: https://zeitungsarchiv.nzz.ch/read/2922645/2922645/2026-02-09/7 | AC6: . | AD6: P, mögen Skeptiker sagen, strategische Kommunikation nennen die Nato-Armeen einen solchen Spezialeinsatz.
B7: 4 | C7: Regierung Iran | R7: 1 | AA7: 46061 | AB7: https://zeitungsarchiv.nzz.ch/read/2922651/2922651/2026-02-08/9 | AC7: .
B8: 5 | C8: P von Austria First gegen/und Bezichtigung P von ORF | I8: 1 | AA8: 46061 | AB8: https://zeitungsarchiv.nzz.ch/read/2922637/2922637/2026-02-07/8 | AC8: .
B9: 6 | C9: Russland | O9: 1 | AA9: 46060 | AB9: https://zeitungsarchiv.nzz.ch/read/2922637/2922637/2026-02-07/21 | AC9: .
B10: 7 | C10: Russland | O10: 1 | AA10: 46059 | AB10: https://zeitungsarchiv.nzz.ch/read/2922631/2922631/2026-02-06/15 | AC10: .
B11: 8 | C11: Filmtitel/Nordkorea | Q11: 1 | AA11: 46059 | AB11: https://zeitungsarchiv.nzz.ch/read/2922631/2922631/2026-02-06/29 | AC11: .
B12: 9 | C12: China | P12: 1 | AA12: 46058 | AB12: https://zeitungsarchiv.nzz.ch/read/2922625/2922625/2026-02-05/19 | AC12: .
B13: 10 | C13: P-Krieg Hamas gegen Isreal | T13: 1 | AA13: 46057 | AB13: https://zeitungsarchiv.nzz.ch/read/2922619/2922619/2026-02-04/2 | AC13: .
A14: 2025/letzte 10 | B14: 1 | C14: Trump/Nigeria, Zitat Experte | I14: 1 | AB14: https://zeitungsarchiv.nzz.ch/read/2922143/2922143/2025-12-29/3 | AC14: .
B15: 2 | C15: P der totalitären Nachbarländer 2. Weltkrieg Nachbarn Schweiz | N15: 1 | AB15: https://zeitungsarchiv.nzz.ch/read/2921095/2921095/2025-12-28/53 | AC15: .
B16: 3 | C16: Russland etc. vgl. mit 2. WL Abwehrkraft der Medien | O16: 1 | AB16: https://zeitungsarchiv.nzz.ch/read/2921095/2921095/2025-12-28/24 | AC16: . | AD16: Wie lässt sich die Abwehrkraft des Schweizer Mediensystems erhalten (Kommentar Hermann)
B17: 4 | C17: Ungarn/Fidesz | I17: 1 | AB17: https://zeitungsarchiv.nzz.ch/read/2921095/2921095/2025-12-28/8 | AC17: .
B18: 5 | C18: Fugger | N18: 1 | AB18: https://zeitungsarchiv.nzz.ch/read/2921955/2921955/2025-12-27/33 | AC18: .
B19: 6 | C19: prorussische P / Vorwurf an Baud | J19: 1 | AB19: https://zeitungsarchiv.nzz.ch/read/2922023/2922023/2025-12-24/9 | AC19: .
B20: 7 | C20: prorussische P / Vorwurf an Baud | J20: 1 | AB20: https://zeitungsarchiv.nzz.ch/read/2922107/2922107/2025-12-23/19 | AC20: .
B21: 8 | C21: prorussische P / Vorwurf an Baud | J21: 1 | AB21: https://zeitungsarchiv.nzz.ch/read/2922107/2922107/2025-12-23/7 | AC21: .
B22: 9 | C22: Propagandaprogramme historisch / Swissinfo | N22: 1 | AB22: https://zeitungsarchiv.nzz.ch/read/2922091/2922091/2025-12-22/29 | AC22: .
B23: 10 | C23: Propaganda gegen Israel | N23: 1 | AB23: https://zeitungsarchiv.nzz.ch/read/2921879/2921879/2025-12-21/56 | AC23: .
A24: 2024/letzte 10 | B24: 1 | C24: Russland | O24: 1 | AB24: https://zeitungsarchiv.nzz.ch/read/2895227/2895227/2024-12-31/5 | AC24: .
B25: 2 | C25: Propaganda für gleichgeschlechtliche Liebe in Russland | O25: 1 | AB25: https://zeitungsarchiv.nzz.ch/read/2895227/2895227/2024-12-31/31 | AC25: .
B26: 3 | C26: Russland | O26: 1 | AB26: https://zeitungsarchiv.nzz.ch/read/2895227/2895227/2024-12-31/3 | AC26: .
B27: 4 | C27: Russland | O27: 1 | AB27: https://zeitungsarchiv.nzz.ch/read/2895209/2895209/2024-12-30/3 | AC27: .
B28: 5 | C28: Propaganda in sozialen Netzwerken | D28: 1 | O28: 1 | AB28: https://zeitungsarchiv.nzz.ch/read/2892347/2892347/2024-12-29/55 | AC28: .
B29: 6 | C29: Russland | AB29: https://zeitungsarchiv.nzz.ch/read/2892347/2892347/2024-12-29/5 | AC29: .
B30: 7 | C30: antiisraelisch (westliche/allgemein) | K30: 1 | AB30: https://zeitungsarchiv.nzz.ch/read/2895221/2895221/2024-12-28/19 | AC30: . | AD30: Wo das Gute so eindeutig und das Wahre so klar ist, endet alle Kunst in Propaganda
B31: 8 | C31: Russland | O31: 1 | AB31: https://zeitungsarchiv.nzz.ch/read/2894855/2894855/2024-12-24/4 | AC31: .
B32: 9 | C32: Velo-Verkehr/Leserbrief | H32: 1 | AB32: https://zeitungsarchiv.nzz.ch/read/2894849/2894849/2024-12-23/18 | AC32: .
B33: 10 | C33: Russland | O33: 1 | AB33: https://zeitungsarchiv.nzz.ch/read/2894849/2894849/2024-12-23/32 | AC33: .
A34: 2023/letzte 10 | B34: 1 | C34: Russland | O34: 1 | AB34: https://zeitungsarchiv.nzz.ch/read/2856175/2856175/2023-12-30/1 | AC34: .
B35: 2 | C35: Polen/PiS/Kaszcynski | I35: 1 | AB35: https://zeitungsarchiv.nzz.ch/read/2856169/2856169/2023-12-29/2 | AC35: .
B36: 3 | C36: Kolumbien/kriminelle Schlepper | E36: 1 | AB36: https://zeitungsarchiv.nzz.ch/read/2856157/2856157/2023-12-27/5 | AC36: .
B37: 4 | C37: IS-Terrorpropaganda/Frankreich | T37: 1 | AB37: https://zeitungsarchiv.nzz.ch/read/2855505/2855505/2023-12-24/13 | AC37: .
B38: 5 | C38: Russland | O38: 1 | AB38: https://zeitungsarchiv.nzz.ch/read/2856151/2856151/2023-12-23/33 | AC38: .
B39: 6 | C39: antisemitische P | K39: 1 | AB39: https://zeitungsarchiv.nzz.ch/read/2856139/2856139/2023-12-21/7 | AC39: .
B40: 7 | C40: rechtslastige P in Deutschland | I40: 1 | AB40: https://zeitungsarchiv.nzz.ch/read/2856139/2856139/2023-12-21/32 | AC40: .
...
